Workbook
Name DistritoLOS: [1]Lokasi!$B$3:$B$16
Name ItemCDLOS: [1]Lokasi!$L$3:$L$27
Name PostoLOS: [1]Lokasi!$E$3:$E$81
Name PrioridadesProjetu: [1]Lokasi!$B$40:$B$43
Name Seitur: [1]Lokasi!$B$30:$B$37
Name StatusProjetu: [1]Lokasi!$B$25:$B$27
Name SucoLOS: [1]Lokasi!$I$3:$I$510
Name Table1: #REF!
Name TipoProjetu: [1]Lokasi!$B$19:$B$22

Sheet SIKLUS-7
A8: PROGRESU ATIVIDADE PROGRAMA NASIONAL DEZENVOLVIMENTU SUKU (PNDS)
A9: FAZE1, FAZE 2 & FAZE 3 SIKLU 7
A10: TINAN 2025
A11: ATUALIZA IHA FULAN :DEZEMBRU 2025
A13: Nu. | B13: Munisipiu | C13: PA | D13: Suku | E13: Faze / Siklus | F13: Kode Setor | G13: Setor | H13: Naran Projetu | I13: Atividade | J13: Total Projetu | K13: Alokasaun Orsamentu | N13: Gasta | O13: Balansu | P13: Osan restu | Q13: % Gasta | R13: % Fiziku | S13: Status SAD | T13: Status SAI | U13: Traballador | X13: Observasaun
K14: Transfere | L14: Osan Restu | M14: Total | U14: Feto | V14: Mane | W14: EHD
A16: 1 | B16: Aileu | C16: Aileu Vila | D16: Aissirimou | E16: 7 | G16: Obras Publikas | H16: Estrada Rurais (Estrada Rai) | I16: Konstrusaun | J16: 1 | K16: 0 | M16: =K16+L16 -> 0 | N16: 0 | O16: =M16-N16 -> 0 | P16: 0 | Q16: =N16/M16 -> #DIV/0! | S16: 0 | T16: 0 | U16: 0 | V16: 0 | W16: 0
A17: =A16+1 -> 2 | B17: Aileu | C17: Aileu Vila | D17: Bandudato | E17: 7 | G17: Obras Publikas | H17: Bareiras (Tembok Penahan) - Hada Fatuk | I17: Konstrusaun | J17: 1 | K17: 0 | M17: =K17+L17 -> 0 | N17: 0 | O17: =M17-N17 -> 0 | P17: 0 | Q17: =N17/M17 -> #DIV/0! | S17: 0 | T17: 0 | U17: 0 | V17: 0 | W17: 0
A18: =A17+1 -> 3 | B18: Aileu | C18: Aileu Vila | D18: Fahiria | E18: 7 | G18: Obras Publikas | H18: Estrada Rurais (Estrada Betaun) | I18: Konstrusaun | J18: 1 | K18: 0 | M18: =K18+L18 -> 0 | N18: 0 | O18: =M18-N18 -> 0 | P18: 0 | Q18: =N18/M18 -> #DIV/0! | S18: 0 | T18: 0 | U18: 0 | V18: 0 | W18: 0
A19: =A18+1 -> 4 | B19: Aileu | C19: Aileu Vila | D19: Fatubossa | E19: 7 | G19: Edukasaun no Desportu | H19: Residensia ba Professores | I19: Konstrusaun | J19: 1 | K19: 0 | M19: =K19+L19 -> 0 | N19: 0 | O19: =M19-N19 -> 0 | P19: 0 | Q19: =N19/M19 -> #DIV/0! | S19: 0 | T19: 0 | U19: 0 | V19: 0 | W19: 0
A20: =A19+1 -> 5 | B20: Aileu | C20: Aileu Vila | D20: Hoholau | E20: 7 | G20: Obras Publikas | H20: Estrada Rurais (Estrada Betaun) | I20: Konstrusaun | J20: 1 | K20: 0 | M20: =K20+L20 -> 0 | N20: 0 | O20: =M20-N20 -> 0 | P20: 0 | Q20: =N20/M20 -> #DIV/0! | S20: 0 | T20: 0 | U20: 0 | V20: 0 | W20: 0
A21: =A20+1 -> 6 | B21: Aileu | C21: Aileu Vila | D21: Lahae | E21: 7 | G21: Agrikultura, Seguransa Ailementar no Buka Moris | H21: Bareiras (Tembok Penahan) - Hada Fatuk | I21: Reabilitasaun | J21: 1 | K21: 0 | M21: =K21+L21 -> 0 | N21: 0 | O21: =M21-N21 -> 0 | P21: 0 | Q21: =N21/M21 -> #DIV/0! | S21: 0 | T21: 0 | U21: 0 | V21: 0 | W21: 0
A22: =A21+1 -> 7 | B22: Aileu | C22: Aileu Vila | D22: Lausi | E22: 7 | G22: Edukasaun no Desportu | H22: Residensia ba Professores | I22: Konstrusaun | J22: 1 | K22: 0 | M22: =K22+L22 -> 0 | N22: 0 | O22: =M22-N22 -> 0 | P22: 0 | Q22: =N22/M22 -> #DIV/0! | S22: 0 | T22: 0 | U22: 0 | V22: 0 | W22: 0
A23: =A22+1 -> 8 | B23: Aileu | C23: Aileu Vila | D23: Lequitura | E23: 7 | G23: Obras Publikas | H23: Estrada Rurais (Estrada Rai) | I23: Konstrusaun | J23: 1 | K23: 0 | M23: =K23+L23 -> 0 | N23: 0 | O23: =M23-N23 -> 0 | P23: 0 | Q23: =N23/M23 -> #DIV/0! | S23: 0 | T23: 0 | U23: 0 | V23: 0 | W23: 0
A24: =A23+1 -> 9 | B24: Aileu | C24: Aileu Vila | D24: Saboria | E24: 7 | G24: Obras Publikas | H24: Estrada Rurais (Estrada Betaun) | I24: Konstrusaun | J24: 1 | K24: 0 | M24: =K24+L24 -> 0 | N24: 0 | O24: =M24-N24 -> 0 | P24: 0 | Q24: =N24/M24 -> #DIV/0! | S24: 0 | T24: 0 | U24: 0 | V24: 0 | W24: 0
A25: =A24+1 -> 10 | B25: Aileu | C25: Aileu Vila | D25: Seloi Craic | E25: 7 | G25: Bee no Saneamentu | H25: Sistema Bee Mos - Gravitasaun | I25: Konstrusaun | J25: 1 | K25: 0 | M25: =K25+L25 -> 0 | N25: 0 | O25: =M25-N25 -> 0 | P25: 0 | Q25: =N25/M25 -> #DIV/0! | S25: 0 | T25: 0 | U25: 0 | V25: 0 | W25: 0
A26: =A25+1 -> 11 | B26: Aileu | C26: Aileu Vila | D26: Seloi Craic | E26: 7 | G26: Bee no Saneamentu | H26: Sistema Bee Mos - Gravitasaun | I26: Reabilitasaun | J26: 1 | K26: 0 | M26: =K26+L26 -> 0 | N26: 0 | O26: =M26-N26 -> 0 | P26: 0 | Q26: =N26/M26 -> #DIV/0! | S26: 0 | T26: 0 | U26: 0 | V26: 0 | W26: 0
A27: =A26+1 -> 12 | B27: Aileu | C27: Aileu Vila | D27: Seloi Malere | E27: 7 | G27: Obras Publikas | H27: Estrada Rurais (Estrada Betaun) | I27: Reabilitasaun | J27: 1 | K27: 0 | M27: =K27+L27 -> 0 | N27: 0 | O27: =M27-N27 -> 0 | P27: 0 | Q27: =N27/M27 -> #DIV/0! | S27: 0 | T27: 0 | U27: 0 | V27: 0 | W27: 0
A28: =A27+1 -> 13 | B28: Aileu | C28: Aileu Vila | D28: Suco Liurai (A) | E28: 7 | G28: Bee no Saneamentu | H28: Sistema Bee Mos - Gravitasaun | I28: Konstrusaun | J28: 1 | K28: 0 | M28: =K28+L28 -> 0 | N28: 0 | O28: =M28-N28 -> 0 | P28: 0 | Q28: =N28/M28 -> #DIV/0! | S28: 0 | T28: 0 | U28: 0 | V28: 0 | W28: 0
... A49: =A48+1 -> 34 | B49: Aileu | C49: Remixio | D49: Tulatequeu | E49: 7 | G49: Bee no Saneamentu | H49: Sistema Bee Mos - Bomba (Bomba Submersible/Bomba Sentrifugal) | I49: Konstrusaun | J49: 1 | K49: 0 | M49: =K49+L49 -> 0 | N49: 0 | O49: =M49-N49 -> 0 | P49: 0 | Q49: =N49/M49 -> #DIV/0! | S49: 0 | T49: 0 | U49: 0 | V49: 0 | W49: 0
A50: Aileu | D50: {=SUM(1/COUNTIF(D16:D49,D16:D49))} -> 33 | J50: =SUM(J16:J49) -> 34 | K50: =SUM(K16:K49) -> 0 | L50: =SUM(L16:L49) -> 0 | M50: =SUM(M16:M49) -> 0 | N50: =SUM(N16:N49) -> 0 | O50: =SUM(O16:O49) -> 0 | P50: =SUM(P16:P49) -> 0 | Q50: =N50/M50 -> #DIV/0! | R50: =AVERAGE(R16:R49) -> #DIV/0! | S50: =SUM(S16:S49) -> 0 | T50: =SUM(T16:T49) -> 0 | U50: =SUM(U16:U49) -> 0 | V50: =SUM(V16:V49) -> 0 | W50: =SUM(W16:W49) -> 0
A51: 1 | B51: Ainaro | C51: Ainaro Villa | D51: Ainaro | E51: 7 | G51: Obras Publikas | H51: Estrada Rurais (Estrada Betaun) | I51: Konstrusaun | J51: 1 | K51: 25926.36 | M51: =K51+L51 -> 25926.36 | N51: 0 | O51: =M51-N51 -> 25926.36 | P51: 0 | Q51: =N51/M51 -> 0 | S51: 0 | T51: 0 | U51: 0 | V51: 0 | W51: 0
A52: =A51+1 -> 2 | B52: Ainaro | C52: Ainaro Villa | D52: Cassa | E52: 7 | G52: Agrikultura, Seguransa Ailementar no Buka Moris | H52: Mini Merkadu | I52: Konstrusaun | J52: 1 | K52: 25780.71 | M52: =K52+L52 -> 25780.71 | N52: 0 | O52: =M52-N52 -> 25780.71 | P52: 0 | Q52: =N52/M52 -> 0 | S52: 0 | T52: 0 | U52: 0 | V52: 0 | W52: 0
A53: =A52+1 -> 3 | B53: Ainaro | C53: Ainaro Villa | D53: Manutaci | E53: 7 | G53: Obras Publikas | H53: Estrada Rurais (Estrada Betaun) | I53: Konstrusaun | J53: 1 | K53: 23013.29 | M53: =K53+L53 -> 23013.29 | N53: 0 | O53: =M53-N53 -> 23013.29 | P53: 0 | Q53: =N53/M53 -> 0 | S53: 0 | T53: 0 | U53: 0 | V53: 0 | W53: 0
A54: =A53+1 -> 4 | B54: Ainaro | C54: Ainaro Villa | D54: Mau-Nuno | E54: 7 | G54: Obras Publikas | H54: Estrada Rurais (Estrada Betaun) | I54: Konstrusaun | J54: 1 | K54: 20391.52 | M54: =K54+L54 -> 20391.52 | N54: 0 | O54: =M54-N54 -> 20391.52 | P54: 0 | Q54: =N54/M54 -> 0 | S54: 0 | T54: 0 | U54: 0 | V54: 0 | W54: 0
A55: =A54+1 -> 5 | B55: Ainaro | C55: Ainaro Villa | D55: Mau-Ulo | E55: 7 | G55: Obras Publikas | H55: Estrada Rurais (Estrada Betaun) | I55: Konstrusaun | J55: 1 | K55: 20391.52 | M55: =K55+L55 -> 20391.52 | N55: 0 | O55: =M55-N55 -> 20391.52 | P55: 0 | Q55: =N55/M55 -> 0 | S55: 0 | T55: 0 | U55: 0 | V55: 0 | W55: 0
A56: =A55+1 -> 6 | B56: Ainaro | C56: Ainaro Villa | D56: Soro | E56: 7 | G56: Obras Publikas | H56: Estrada Rurais (Estrada Betaun) | I56: Konstrusaun | J56: 1 | K56: 23158.94 | M56: =K56+L56 -> 23158.94 | N56: 0 | O56: =M56-N56 -> 23158.94 | P56: 0 | Q56: =N56/M56 -> 0 | S56: 0 | T56: 0 | U56: 0 | V56: 0 | W56: 0
A57: =A56+1 -> 7 | B57: Ainaro | C57: Ainaro Villa | D57: Suro-Craic | E57: 7 | G57: Obras Publikas | H57: Estrada Rurais (Estrada Betaun) | I57: Konstrusaun | J57: 1 | K57: 23013.29 | M57: =K57+L57 -> 23013.29 | N57: 0 | O57: =M57-N57 -> 23013.29 | P57: 0 | Q57: =N57/M57 -> 0 | S57: 0 | T57: 0 | U57: 0 | V57: 0 | W57: 0
A58: =A57+1 -> 8 | B58: Ainaro | C58: Hato-Builico | D58: Mauchiga | E58: 7 | G58: Obras Publikas | H58: Estrada Rurais (Estrada Betaun) | I58: Konstrusaun | J58: 1 | K58: 25780.71 | M58: =K58+L58 -> 25780.71 | N58: 0 | O58: =M58-N58 -> 25780.71 | P58: 0 | Q58: =N58/M58 -> 0 | S58: 0 | T58: 0 | U58: 0 | V58: 0 | W58: 0
A59: =A58+1 -> 9 | B59: Ainaro | C59: Hato-Builico | D59: Mulo | E59: 7 | G59: Obras Publikas | H59: Estrada Rurais (Estrada Betaun) | I59: Konstrusaun | J59: 1 | K59: 28548.13 | M59: =K59+L59 -> 28548.13 | N59: 0 | O59: =M59-N59 -> 28548.13 | P59: 0 | Q59: =N59/M59 -> 0 | S59: 0 | T59: 0 | U59: 0 | V59: 0 | W59: 0
A60: =A59+1 -> 10 | B60: Ainaro | C60: Hato-Builico | D60: Nunu-Mogue | E60: 7 | G60: Obras Publikas | H60: Estrada Rurais (Estrada Betaun) | I60: Konstrusaun | J60: 1 | K60: 25926.36 | M60: =K60+L60 -> 25926.36 | N60: 0 | O60: =M60-N60 -> 25926.36 | P60: 0 | Q60: =N60/M60 -> 0 | S60: 0 | T60: 0 | U60: 0 | V60: 0 | W60: 0
A61: =A60+1 -> 11 | B61: Ainaro | C61: Hato-Udo | D61: Foho-Ailico | E61: 7 | G61: Bee no Saneamentu | H61: Sistema Bee Mos - Gravitasaun | I61: Konstrusaun | J61: 1 | K61: 31169.89 | M61: =K61+L61 -> 31169.89 | N61: 0 | O61: =M61-N61 -> 31169.89 | P61: 0 | Q61: =N61/M61 -> 0 | S61: 0 | T61: 0 | U61: 0 | V61: 0 | W61: 0
A62: =A61+1 -> 12 | B62: Ainaro | C62: Hato-Udo | D62: Leolima | E62: 7 | G62: Obras Publikas | H62: Satan Rai (Bronjong) | I62: Konstrusaun | J62: 1 | K62: 31169.89 | M62: =K62+L62 -> 31169.89 | N62: 0 | O62: =M62-N62 -> 31169.89 | P62: 0 | Q62: =N62/M62 -> 0 | S62: 0 | T62: 0 | U62: 0 | V62: 0 | W62: 0
A63: =A62+1 -> 13 | B63: Ainaro | C63: Maubisse | D63: Aituto | E63: 7 | G63: Obras Publikas | H63: Estrada Rurais (Estrada Betaun) | I63: Konstrusaun | J63: 1 | K63: 28548.13 | M63: =K63+L63 -> 28548.13 | N63: 0 | O63: =M63-N63 -> 28548.13 | P63: 0 | Q63: =N63/M63 -> 0 | S63: 0 | T63: 0 | U63: 0 | V63: 0 | W63: 0
... A66: =A65+1 -> 16 | B66: Ainaro | C66: Maubisse | D66: Horai-Quic | E66: 7 | G66: Obras Publikas | H66: Estrada Rurais (Estrada Betaun) | I66: Konstrusaun | J66: 1 | K66: 25780.71 | M66: =K66+L66 -> 25780.71 | N66: 0 | O66: =M66-N66 -> 25780.71 | P66: 0 | Q66: =N66/M66 -> 0 | S66: 0 | T66: 0 | U66: 0 | V66: 0 | W66: 0
A67: =A66+1 -> 17 | B67: Ainaro | C67: Maubisse | D67: Manelobas | E67: 7 | G67: Obras Publikas | H67: Estrada Rurais (Estrada Betaun) | I67: Konstrusaun | J67: 1 | K67: 28256.82 | M67: =K67+L67 -> 28256.82 | N67: 0 | O67: =M67-N67 -> 28256.82 | P67: 0 | Q67: =N67/M67 -> 0 | S67: 0 | T67: 0 | U67: 0 | V67: 0 | W67: 0 | AB67: =256-10 -> 246
A68: =A67+1 -> 18 | B68: Ainaro | C68: Maubisse | D68: Manetú | E68: 7 | G68: Obras Publikas | H68: Estrada Rurais (Estrada Betaun) | I68: Konstrusaun | J68: 1 | K68: 31024.24 | M68: =K68+L68 -> 31024.24 | N68: 0 | O68: =M68-N68 -> 31024.24 | P68: 0 | Q68: =N68/M68 -> 0 | S68: 0 | T68: 0 | U68: 0 | V68: 0 | W68: 0
A69: =A68+1 -> 19 | B69: Ainaro | C69: Maubisse | D69: Maubisse | E69: 7 | G69: Obras Publikas | H69: Estrada Rurais (Estrada Betaun) | I69: Konstrusaun | J69: 1 | K69: 31169.89 | M69: =K69+L69 -> 31169.89 | N69: 0 | O69: =M69-N69 -> 31169.89 | P69: 0 | Q69: =N69/M69 -> 0 | S69: 0 | T69: 0 | U69: 0 | V69: 0 | W69: 0
A70: =A69+1 -> 20 | B70: Ainaro | C70: Maubisse | D70: Maulau | E70: 7 | G70: Obras Publikas | H70: Estrada Rurais (Estrada Rai) | I70: Konstrusaun | J70: 1 | K70: 28402.47 | M70: =K70+L70 -> 28402.47 | N70: 0 | O70: =M70-N70 -> 28402.47 | P70: 0 | Q70: =N70/M70 -> 0 | S70: 0 | T70: 0 | U70: 0 | V70: 0 | W70: 0
A71: =A70+1 -> 21 | B71: Ainaro | C71: Maubisse | D71: Suco Liurai (Maubisse) | E71: 7 | G71: Obras Publikas | H71: Estrada Rurais (Estrada Betaun) | I71: Konstrusaun | J71: 1 | K71: 25635.05 | M71: =K71+L71 -> 25635.05 | N71: 0 | O71: =M71-N71 -> 25635.05 | P71: 0 | Q71: =N71/M71 -> 0 | S71: 0 | T71: 0 | U71: 0 | V71: 0 | W71: 0
...

Sheet SIKLU 7_LAO HELA
A1: LISTA PROJETU 2025 NEBE MAK SEI LAO HELA
A2: Nu. | B2: Munisipiu | C2: PA | D2: Suku | E2: Setor | F2: Naran Projetu | G2: Atividade | H2: % Fiziku | I2: Observasaun
A3: 1 | B3: Baucau | C3: Baguia | D3: Afaloicai | E3: Saude | F3: Residensia Pessoal Saude | G3: Konstrusaun | H3: 0.65
A4: 2 | B4: Baucau | C4: Baguia | D4: Alaua Craik | E4: Obras Publikas | F4: Estrada Rurais (Estrada Rai) | G4: Reabilitasaun | H4: 0.32
A5: 3 | B5: Baucau | C5: Baguia | D5: Alaua Leten | E5: Obras Publikas | F5: Estrada Rurais (Estrada Betaun) | G5: Reabilitasaun | H5: 0.86
A6: 4 | B6: Baucau | C6: Baguia | D6: Defauassi | E6: Bee no Saneamentu | F6: Sistema Bee Mos - Gravitasaun | G6: Reabilitasaun | H6: 0.83
A7: 5 | B7: Baucau | C7: Baguia | D7: Ossohuna | E7: Obras Publikas | F7: Estrada Rurais (Estrada Rai) | G7: Konstrusaun | H7: 0.87
A8: 6 | B8: Baucau | C8: Baguia | D8: Uacala | E8: Obras Publikas | F8: Estrada Rurais (Estrada Rai) | G8: Konstrusaun | H8: 0.7
A9: 7 | B9: Baucau | C9: Baucau Vila | D9: Bucoli | E9: Edukasaun No Desportu | F9: Eskola Primaria | G9: Reabilitasaun | H9: 0.73
A10: 8 | B10: Baucau | C10: Baucau Vila | D10: Caibada | E10: Obras Publikas | F10: Drenazen - Hada Fatuk | G10: Reabilitasaun | H10: 0.75
A11: 9 | B11: Baucau | C11: Baucau Vila | D11: Samalari | E11: Edukasaun No Desportu | F11: Eskola Primaria | G11: Estensaun | H11: 0.3
A12: 10 | B12: Baucau | C12: Baucau Vila | D12: Triloka | E12: Agrikultura, Seguransa Ailementar no Buka Moris | F12: Fatin Hakiak Fahi (Fahi Luhan) | G12: Konstrusaun | H12: 0.1 | I12: PROJETU ADDISIONAL
A13: 11 | B13: Baucau | C13: Laga | D13: Saelari | E13: Obras Publikas | F13: Estrada Rurais (Estrada Betaun) | G13: Reabilitasaun | H13: 0.95
A14: 12 | B14: Baucau | C14: Laga | D14: Samalari | E14: Obras Publikas | F14: Estrada Rurais (Estrada Rai) | G14: Konstrusaun | H14: 0.95
A15: 13 | B15: Baucau | C15: Laga | D15: Soba | E15: Edukasaun No Desportu | F15: Eskola Primaria | G15: Estensaun | H15: 0.6599
A16: 14 | B16: Baucau | C16: Quelicai | D16: Abafala | E16: Obras Publikas | F16: Estrada Rurais (Estrada Betaun) | G16: Reabilitasaun | H16: 0.59
A17: 15 | B17: Baucau | C17: Quelicai | D17: Baguia | E17: Bee no Saneamentu | F17: Sistema Bee Mos - Bomba (Bomba Submersible/Bomba Sentrifugal) | G17: Konstrusaun | H17: 0.4
A18: 16 | B18: Baucau | C18: Quelicai | D18: Bualale | E18: Setor Seluk | F18: Kampu Multi Funsaun | G18: Reabilitasaun | H18: 0.4
A19: 17 | B19: Baucau | C19: Quelicai | D19: Lacoliu | E19: Obras Publikas | F19: Estrada Rurais (Estrada Betaun) | G19: Reabilitasaun | H19: 0.67
A20: 18 | B20: Baucau | C20: Quelicai | D20: Letemumo | E20: Bee no Saneamentu | F20: Sistema Bee Mos - Bomba (Bomba Submersible/Bomba Sentrifugal) | G20: Konstrusaun | H20: 0.84
A21: 19 | B21: Baucau | C21: Quelicai | D21: Uaitame | E21: Obras Publikas | F21: Estrada Rurais (Estrada Rai) | G21: Konstrusaun | H21: 0.15
A22: 20 | B22: Baucau | C22: Matebian | D22: Abo | E22: Obras Publikas | F22: Estrada Rurais (Estrada Betaun) | G22: Reabilitasaun | H22: 0.95
A23: 21 | B23: Baucau | C23: Matebian | D23: Laisor. De Baixo | E23: Obras Publikas | F23: Estrada Rurais (Estrada Betaun) | G23: Reabilitasaun | H23: 0.93
A24: 22 | B24: Baucau | C24: Matebian | D24: Laisor. De Cima | E24: Agrikultura, Seguransa Ailementar no Buka Moris | F24: Bee Kanu (Sekundaria/kanu distribuisaun) - Hada Fatuk | G24: Konstrusaun | H24: 0.67
... A28: 26 | B28: Baucau | C28: Vemasse | D28: Loilubu | E28: Obras Publikas | F28: Estrada Rurais (Estrada Rai) | G28: Reabilitasaun | H28: 0.15

Sheet SIKLUS-7 KADA POSTU
A8: PROGRESU ATIVIDADE PROGRAMA NASIONAL DEZENVOLVIMENTU SUKU (PNDS)
A9: FAZE1, FAZE 2 & FAZE 3 SIKLU 7
A10: TINAN 2025
A11: ATUALIZA IHA FULAN : AGOSTU 2025
A13: Nu. | B13: Munisipiu | C13: PA | D13: Suku | E13: Faze / Siklus | F13: Kode Setor | G13: Setor | H13: Naran Projetu | I13: Atividade | J13: FINALIZA | K13: LAO HELA | L13: SEIDAUK IMPLEMENTA | M13: Total Projetu | N13: Alokasaun Orsamentu | Q13: Gasta | R13: Balansu | S13: Osan restu | T13: % Gasta | U13: % Fiziku | V13: Status SAD | W13: Status SAI | X13: Traballador
N14: Transfere | O14: Osan Restu | P14: Total | X14: Feto | Y14: Mane | Z14: EHD
A16: 1 | B16: Baucau | C16: Baguia | D16: ='[2]POM 4 2023 BA PDF (2)'!$C$36 -> Afaloicai | E16: 7 | F16: 001 | G16: Saude | H16: Residensia Pessoal Saude | I16: Konstrusaun | K16: 1 | M16: =J16+K16+L16 -> 1 | N16: ='[3]Progres Infras'!$E$48 -> 37797 | P16: =N16+O16 -> 37797 | Q16: 0 | R16: =P16-Q16 -> 37797 | S16: 0 | T16: =Q16/P16 -> 0 | U16: ='SIKLUS-7'!R79 -> 0.85 | V16: ='SIKLUS-7'!S79 -> 0 | W16: ='SIKLUS-7'!T79 -> 0 | X16: ='SIKLUS-7'!U79 -> 0 | Y16: ='SIKLUS-7'!V79 -> 0 | Z16: ='SIKLUS-7'!W79 -> 0
A17: =A16+1 -> 2 | B17: Baucau | C17: Baguia | D17: ='[2]POM 4 2023 BA PDF (2)'!$C$30 -> Alaua Craik | E17: 7 | F17: 005 | G17: Obras Publikas | H17: Estrada Rurais (Estrada Rai) | I17: Reabilitasaun | K17: 1 | M17: =J17+K17+L17 -> 1 | N17: ='[3]Progres Infras'!$E$49 -> 37797 | P17: =N17+O17 -> 37797 | Q17: 0 | R17: =P17-Q17 -> 37797 | S17: 0 | T17: =Q17/P17 -> 0 | U17: ='SIKLUS-7'!R80 -> 0.95 | V17: ='SIKLUS-7'!S80 -> 0 | W17: ='SIKLUS-7'!T80 -> 0 | X17: ='SIKLUS-7'!U80 -> 12 | Y17: ='SIKLUS-7'!V80 -> 2 | Z17: ='SIKLUS-7'!W80 -> 0
A18: =A17+1 -> 3 | B18: Baucau | C18: Baguia | D18: ='[2]POM 4 2023 BA PDF (2)'!$C$15 -> Alaua Leten | E18: 7 | F18: 005 | G18: Obras Publikas | H18: Estrada Rurais (Estrada Betaun) | I18: Reabilitasaun | K18: 1 | M18: =J18+K18+L18 -> 1 | N18: ='[3]Progres Infras'!$E$50 -> 37797 | P18: =N18+O18 -> 37797 | Q18: 0 | R18: =P18-Q18 -> 37797 | S18: 0 | T18: =Q18/P18 -> 0 | U18: ='SIKLUS-7'!R81 -> 0.96 | V18: ='SIKLUS-7'!S81 -> 0 | W18: ='SIKLUS-7'!T81 -> 0 | X18: ='SIKLUS-7'!U81 -> 0 | Y18: ='SIKLUS-7'!V81 -> 0 | Z18: ='SIKLUS-7'!W81 -> 0
A19: =A18+1 -> 4 | B19: Baucau | C19: Baguia | D19: ='[2]POM 4 2023 BA PDF (2)'!$C$18 -> Defauassi | E19: 7 | F19: 002 | G19: Bee no Saneamentu | H19: Sistema Bee Mos - Gravitasaun | I19: Reabilitasaun | K19: 1 | M19: =J19+K19+L19 -> 1 | N19: ='[3]Progres Infras'!$E$51 -> 37651 | P19: =N19+O19 -> 37651 | Q19: 0 | R19: =P19-Q19 -> 37651 | S19: 0 | T19: =Q19/P19 -> 0 | U19: ='SIKLUS-7'!R82 -> 1 | V19: ='SIKLUS-7'!S82 -> 0 | W19: ='SIKLUS-7'!T82 -> 0 | X19: ='SIKLUS-7'!U82 -> 0 | Y19: ='SIKLUS-7'!V82 -> 0 | Z19: ='SIKLUS-7'!W82 -> 0
A20: =A19+1 -> 5 | B20: Baucau | C20: Baguia | D20: ='[2]POM 4 2023 BA PDF (2)'!$C$24 -> Haeconi | E20: 7 | F20: 005 | G20: Obras Publikas | H20: Estrada Rurais (Estrada Rai) | I20: Konstrusaun | J20: 1 | M20: =J20+K20+L20 -> 1 | N20: ='[3]Progres Infras'!$E$52 -> 41574 | P20: =N20+O20 -> 41574 | Q20: 0 | R20: =P20-Q20 -> 41574 | S20: 0 | T20: =Q20/P20 -> 0 | U20: ='SIKLUS-7'!R83 -> 1 | V20: ='SIKLUS-7'!S83 -> 1 | W20: ='SIKLUS-7'!T83 -> 1 | X20: ='SIKLUS-7'!U83 -> 0 | Y20: ='SIKLUS-7'!V83 -> 0 | Z20: ='SIKLUS-7'!W83 -> 0
A21: =A20+1 -> 6 | B21: Baucau | C21: Baguia | D21: ='[2]POM 4 2023 BA PDF (2)'!$C$27 -> Larisula | E21: 7 | F21: 005 | G21: Obras Publikas | H21: Estrada Rurais (Estrada Rai) | I21: Reabilitasaun | J21: 1 | M21: =J21+K21+L21 -> 1 | N21: ='[3]Progres Infras'!$E$53 -> 37797 | P21: =N21+O21 -> 37797 | Q21: 0 | R21: =P21-Q21 -> 37797 | S21: 0 | T21: =Q21/P21 -> 0 | U21: ='SIKLUS-7'!R84 -> 1 | V21: ='SIKLUS-7'!S84 -> 1 | W21: ='SIKLUS-7'!T84 -> 1 | X21: ='SIKLUS-7'!U84 -> 0 | Y21: ='SIKLUS-7'!V84 -> 0 | Z21: ='SIKLUS-7'!W84 -> 0
A22: =A21+1 -> 7 | B22: Baucau | C22: Baguia | D22: ='[2]POM 4 2023 BA PDF (2)'!$C$21 -> Lavateri | E22: 7 | F22: 005 | G22: Obras Publikas | H22: Estrada Rurais (Estrada Rai) | I22: Konstrusaun | J22: 1 | M22: =J22+K22+L22 -> 1 | N22: ='[3]Progres Infras'!$E$54 -> 34270 | P22: =N22+O22 -> 34270 | Q22: 0 | R22: =P22-Q22 -> 34270 | S22: 0 | T22: =Q22/P22 -> 0 | U22: ='SIKLUS-7'!R85 -> 1 | V22: ='SIKLUS-7'!S85 -> 1 | W22: ='SIKLUS-7'!T85 -> 1 | X22: ='SIKLUS-7'!U85 -> 0 | Y22: ='SIKLUS-7'!V85 -> 0 | Z22: ='SIKLUS-7'!W85 -> 0
A23: =A22+1 -> 8 | B23: Baucau | C23: Baguia | D23: ='[2]POM 4 2023 BA PDF (2)'!$C$33 -> Ossohuna | E23: 7 | F23: 005 | G23: Obras Publikas | H23: Estrada Rurais (Estrada Rai) | I23: Konstrusaun | K23: 1 | M23: =J23+K23+L23 -> 1 | N23: ='[3]Progres Infras'!$E$55 -> 37797 | P23: =N23+O23 -> 37797 | Q23: 0 | R23: =P23-Q23 -> 37797 | S23: 0 | T23: =Q23/P23 -> 0 | U23: ='SIKLUS-7'!R86 -> 1 | V23: ='SIKLUS-7'!S86 -> 0 | W23: ='SIKLUS-7'!T86 -> 0 | X23: ='SIKLUS-7'!U86 -> 0 | Y23: ='SIKLUS-7'!V86 -> 0 | Z23: ='SIKLUS-7'!W86 -> 0
A24: =A23+1 -> 9 | B24: Baucau | C24: Baguia | D24: ='[2]POM 4 2023 BA PDF (2)'!$C$39 -> Samalari | E24: 7 | F24: 002 | G24: Obras Publikas | H24: Estrada Rurais (Estrada Rai) | I24: Konstrusaun | J24: 1 | M24: =J24+K24+L24 -> 1 | N24: ='[3]Progres Infras'!$E$56 -> 34270 | P24: =N24+O24 -> 34270 | Q24: 0 | R24: =P24-Q24 -> 34270 | S24: 0 | T24: =Q24/P24 -> 0 | U24: ='SIKLUS-7'!R87 -> 1 | V24: ='SIKLUS-7'!S87 -> 0 | W24: ='SIKLUS-7'!T87 -> 0 | X24: ='SIKLUS-7'!U87 -> 0 | Y24: ='SIKLUS-7'!V87 -> 0 | Z24: ='SIKLUS-7'!W87 -> 0
A25: =A24+1 -> 10 | B25: Baucau | C25: Baguia | D25: ='[2]POM 4 2023 BA PDF (2)'!$C$42 -> Uacala | E25: 7 | F25: 005 | G25: Obras Publikas | H25: Estrada Rurais (Estrada Rai) | I25: Konstrusaun | K25: 1 | M25: =J25+K25+L25 -> 1 | N25: ='[3]Progres Infras'!$E$57 -> 34270 | P25: =N25+O25 -> 34270 | Q25: 0 | R25: =P25-Q25 -> 34270 | S25: 0 | T25: =Q25/P25 -> 0 | U25: ='SIKLUS-7'!R88 -> 0.98 | V25: ='SIKLUS-7'!S88 -> 0 | W25: ='SIKLUS-7'!T88 -> 0 | X25: ='SIKLUS-7'!U88 -> 0 | Y25: ='SIKLUS-7'!V88 -> 0 | Z25: ='SIKLUS-7'!W88 -> 0
J26: =SUM(J16:J25) -> 4 | K26: =SUM(K16:K25) -> 6 | L26: =SUM(L16:L25) -> 0 | M26: =SUM(M16:M25) -> 10 | U26: =AVERAGE(U16:U25) -> 0.974 | V26: =SUM(V16:V25) -> 3 | W26: =SUM(W16:W25) -> 3 | X26: =SUM(X16:X25) -> 12 | Y26: =SUM(Y16:Y25) -> 2 | Z26: =SUM(Z16:Z25) -> 0
A27: =A25+1 -> 11 | B27: Baucau | C27: Baucau Vila | D27: ='[2]POM 4 2023 BA PDF (2)'!$C$68 -> Bahu | E27: 7 | F27: 005 | G27: Obras Publikas | H27: Estrada Rurais (Estrada Rai) | I27: Reabilitasaun | J27: 1 | M27: =J27+K27+L27 -> 1 | N27: ='[3]Progres Infras'!$E$36 -> 38547 | P27: =N27+O27 -> 38547 | Q27: 0 | R27: =P27-Q27 -> 38547 | S27: 0 | T27: =Q27/P27 -> 0 | U27: ='SIKLUS-7'!R89 -> 1 | V27: ='SIKLUS-7'!S89 -> 1 | W27: ='SIKLUS-7'!T89 -> 0 | X27: ='SIKLUS-7'!U89 -> 17 | Y27: ='SIKLUS-7'!V89 -> 8 | Z27: ='SIKLUS-7'!W89 -> 0
A28: =A27+1 -> 12 | B28: Baucau | C28: Baucau Vila | D28: ='[2]POM 4 2023 BA PDF (2)'!$C$71 -> Bucoli | E28: 7 | F28: 003 | G28: Edukasaun No Desportu | H28: Eskola Primaria | I28: Reabilitasaun | K28: 1 | M28: =J28+K28+L28 -> 1 | N28: ='[3]Progres Infras'!$E$37 -> 34520 | P28: =N28+O28 -> 34520 | Q28: 0 | R28: =P28-Q28 -> 34520 | S28: 0 | T28: =Q28/P28 -> 0 | U28: ='SIKLUS-7'!R90 -> 1 | V28: ='SIKLUS-7'!S90 -> 0 | W28: ='SIKLUS-7'!T90 -> 0 | X28: ='SIKLUS-7'!U90 -> 0 | Y28: ='SIKLUS-7'!V90 -> 0 | Z28: ='SIKLUS-7'!W90 -> 0
A29: =A28+1 -> 13 | B29: Baucau | C29: Baucau Vila | D29: ='[2]POM 4 2023 BA PDF (2)'!$C$74 -> Buibau | E29: 7 | F29: 005 | G29: Obras Publikas | H29: Estrada Rurais (Estrada Betaun) | I29: Konstrusaun | J29: 1 | M29: =J29+K29+L29 -> 1 | N29: ='[3]Progres Infras'!$E$38 -> 34770 | P29: =N29+O29 -> 34770 | Q29: ='[3]Progres Infras'!$H$38 -> 5579.25 | R29: =P29-Q29 -> 29190.75 | S29: 0 | T29: =Q29/P29 -> 0.1604616 | U29: ='SIKLUS-7'!R91 -> 1 | V29: ='SIKLUS-7'!S91 -> 1 | W29: ='SIKLUS-7'!T91 -> 0 | X29: ='SIKLUS-7'!U91 -> 12 | Y29: ='SIKLUS-7'!V91 -> 2 | Z29: ='SIKLUS-7'!W91 -> 0
A30: =A29+1 -> 14 | B30: Baucau | C30: Baucau Vila | D30: ='[2]POM 4 2023 BA PDF (2)'!$C$77 -> Buruma | E30: 7 | F30: 005 | G30: Obras Publikas | H30: Estrada Rurais (Estrada Betaun) | I30: Konstrusaun | J30: 1 | M30: =J30+K30+L30 -> 1 | N30: 0 | P30: ='[3]Progres Infras'!$E$39 -> 38547 | Q30: 0 | R30: =P30-Q30 -> 38547 | S30: 0 | T30: =Q30/P30 -> 0 | U30: ='SIKLUS-7'!R92 -> 1 | V30: ='SIKLUS-7'!S92 -> 0 | W30: ='SIKLUS-7'!T92 -> 0 | X30: ='SIKLUS-7'!U92 -> 0 | Y30: ='SIKLUS-7'!V92 -> 0 | Z30: ='SIKLUS-7'!W92 -> 0
A31: =A30+1 -> 15 | B31: Baucau | C31: Baucau Vila | D31: ='[2]POM 4 2023 BA PDF (2)'!$C$80 -> Caibada | E31: 7 | F31: 005 | G31: Obras Publikas | H31: Drenazen - Hada Fatuk | I31: Reabilitasaun | K31: 1 | M31: =J31+K31+L31 -> 1 | N31: 0 | P31: ='[3]Progres Infras'!$E$40 -> 30993 | Q31: ='[3]Progres Infras'!$H$40 -> 455 | R31: =P31-Q31 -> 30538 | S31: 0 | T31: =Q31/P31 -> 0.014680734 | U31: ='SIKLUS-7'!R93 -> 1 | V31: ='SIKLUS-7'!S93 -> 0 | W31: ='SIKLUS-7'!T93 -> 0 | X31: ='SIKLUS-7'!U93 -> 0 | Y31: ='SIKLUS-7'!V93 -> 0 | Z31: ='SIKLUS-7'!W93 -> 0
A32: =A31+1 -> 16 | B32: Baucau | C32: Baucau Vila | D32: Gar-iuai | E32: 7 | F32: 005 | G32: Obras Publikas | H32: Estrada Rurais (Estrada Rai) | I32: Reabilitasaun | J32: 1 | M32: =J32+K32+L32 -> 1 | N32: 0 | P32: ='[3]Progres Infras'!$E$41 -> 38297 | Q32: 0 | R32: =P32-Q32 -> 38297 | S32: 0 | T32: =Q32/P32 -> 0 | U32: ='SIKLUS-7'!R94 -> 1 | V32: ='SIKLUS-7'!S94 -> 1 | W32: ='SIKLUS-7'!T94 -> 0 | X32: ='SIKLUS-7'!U94 -> 0 | Y32: ='SIKLUS-7'!V94 -> 0 | Z32: ='SIKLUS-7'!W94 -> 0
A33: =A32+1 -> 17 | B33: Baucau | C33: Baucau Vila | D33: Samalari | E33: 7 | F33: 003 | G33: Edukasaun No Desportu | H33: Eskola Primaria | I33: Konstrusaun | K33: 1 | M33: =J33+K33+L33 -> 1 | N33: 0 | P33: ='[3]Progres Infras'!$E$42 -> 30743 | Q33: 0 | R33: =P33-Q33 -> 30743 | S33: 0 | T33: =Q33/P33 -> 0 | U33: ='SIKLUS-7'!R95 -> 0.48 | V33: ='SIKLUS-7'!S95 -> 0 | W33: ='SIKLUS-7'!T95 -> 0 | X33: ='SIKLUS-7'!U95 -> 0 | Y33: ='SIKLUS-7'!V95 -> 0 | Z33: ='SIKLUS-7'!W95 -> 0
A34: =A33+1 -> 18 | B34: Baucau | C34: Baucau Vila | D34: ='[2]POM 4 2023 BA PDF (2)'!$C$83 -> Seical | E34: 7 | F34: 005 | G34: Obras Publikas | H34: Estrada Rurais (Estrada Rai) | I34: Konstrusaun | J34: 1 | M34: =J34+K34+L34 -> 1 | N34: 0 | P34: ='[3]Progres Infras'!$E$43 -> 30743 | Q34: 0 | R34: =P34-Q34 -> 30743 | S34: 0 | T34: =Q34/P34 -> 0 | U34: ='SIKLUS-7'!R96 -> 1 | V34: ='SIKLUS-7'!S96 -> 1 | W34: ='SIKLUS-7'!T96 -> 0 | X34: ='SIKLUS-7'!U96 -> 0 | Y34: ='SIKLUS-7'!V96 -> 0 | Z34: ='SIKLUS-7'!W96 -> 0
A35: =A34+1 -> 19 | B35: Baucau | C35: Baucau Vila | D35: ='[2]POM 4 2023 BA PDF (2)'!$C$86 -> Tirilolo | E35: 7 | F35: 005 | G35: Obras Publikas | H35: Estrada Rurais (Estrada Rai) | I35: Reabilitasaun | J35: 1 | M35: =J35+K35+L35 -> 1 | N35: 0 | P35: ='[3]Progres Infras'!$E$44 -> 38547 | Q35: 0 | R35: =P35-Q35 -> 38547 | S35: 0 | T35: =Q35/P35 -> 0 | U35: ='SIKLUS-7'!R97 -> 1 | V35: ='SIKLUS-7'!S97 -> 1 | W35: ='SIKLUS-7'!T97 -> 0 | X35: ='SIKLUS-7'!U97 -> 0 | Y35: ='SIKLUS-7'!V97 -> 0 | Z35: ='SIKLUS-7'!W97 -> 0
A36: =A35+1 -> 20 | B36: Baucau | C36: Baucau Vila | D36: ='[2]POM 4 2023 BA PDF (2)'!$C$89 -> Triloka | E36: 7 | F36: 005 | G36: Obras Publikas | H36: Estrada Rurais (Estrada Rai) | I36: Konstrusaun | J36: 1 | M36: =J36+K36+L36 -> 1 | N36: 0 | P36: ='[3]Progres Infras'!$E$45 -> 34520 | Q36: 0 | R36: =P36-Q36 -> 34520 | S36: 0 | T36: =Q36/P36 -> 0 | U36: ='SIKLUS-7'!R98 -> 1 | V36: ='SIKLUS-7'!S98 -> 1 | W36: ='SIKLUS-7'!T98 -> 1 | X36: ='SIKLUS-7'!U98 -> 0 | Y36: ='SIKLUS-7'!V98 -> 0 | Z36: ='SIKLUS-7'!W98 -> 0
A37: =A36+1 -> 21 | B37: Baucau | C37: Baucau Vila | D37: ='[2]POM 4 2023 BA PDF (2)'!$C$89 -> Triloka | F37: 006 | G37: Agrikultura, Seguransa Ailementar no Buka Moris | H37: Fatin Hakiak Fahi | I37: Konstrusaun | K37: 1 | M37: =J37+K37+L37 -> 1 | U37: ='SIKLUS-7'!R99 -> 0.7
A38: =A37+1 -> 22 | B38: Baucau | C38: Baucau Vila | D38: ='[2]POM 4 2023 BA PDF (2)'!$C$92 -> Uailili | E38: 7 | F38: 005 | G38: Obras Publikas | H38: Estrada Rurais (Estrada Rai) | I38: Reabilitasaun | J38: 1 | M38: =J38+K38+L38 -> 1 | N38: 0 | P38: ='[3]Progres Infras'!$E$46 -> 34520 | Q38: 0 | R38: =P38-Q38 -> 34520 | S38: 0 | T38: =Q38/P38 -> 0 | U38: ='SIKLUS-7'!R100 -> 1 | V38: ='SIKLUS-7'!S100 -> 1 | W38: ='SIKLUS-7'!T100 -> 0 | X38: ='SIKLUS-7'!U100 -> 18 | Y38: ='SIKLUS-7'!V100 -> 1 | Z38: ='SIKLUS-7'!W100 -> 0
J39: =SUM(J27:J38) -> 8 | K39: =SUM(K27:K38) -> 4 | L39: =SUM(L27:L38) -> 0 | M39: =SUM(M27:M38) -> 12 | U39: =AVERAGE(U27:U38) -> 0.93166667 | V39: =SUM(V27:V38) -> 7 | W39: =SUM(W27:W38) -> 1 | X39: =SUM(X27:X38) -> 47 | Y39: =SUM(Y27:Y38) -> 11 | Z39: =SUM(Z27:Z38) -> 0
A40: =A38+1 -> 23 | B40: Baucau | C40: Laga | D40: ='[2]POM 4 2023 BA PDF (2)'!$C$139 -> Atelari | E40: 7 | F40: 005 | G40: Obras Publikas | H40: Estrada Rurais (Estrada Rai) | I40: Konstrusaun | J40: 1 | M40: =J40+K40+L40 -> 1 | N40: 0 | P40: ='[3]Progres Infras'!$E$11 -> 34270 | Q40: 0 | R40: =P40-Q40 -> 34270 | S40: 0 | T40: =Q40/P40 -> 0 | U40: ='SIKLUS-7'!R101 -> 1 | V40: ='SIKLUS-7'!S101 -> 0 | W40: ='SIKLUS-7'!T101 -> 0 | X40: ='SIKLUS-7'!U101 -> 0 | Y40: ='SIKLUS-7'!V101 -> 0 | Z40: ='SIKLUS-7'!W101 -> 0
A41: =A40+1 -> 24 | B41: Baucau | C41: Laga | D41: ='[2]POM 4 2023 BA PDF (2)'!$C$124 -> Libagua | E41: 7 | F41: 005 | G41: Obras Publikas | H41: Estrada Rurais (Estrada Rai) | I41: Reabilitasaun | J41: 1 | M41: =J41+K41+L41 -> 1 | N41: 0 | P41: ='[3]Progres Infras'!$E$12 -> 34270 | Q41: 13862.8 | R41: =P41-Q41 -> 20407.2 | S41: 0 | T41: =Q41/P41 -> 0.40451707 | U41: ='SIKLUS-7'!R102 -> 1 | V41: ='SIKLUS-7'!S102 -> 0 | W41: ='SIKLUS-7'!T102 -> 0 | X41: ='SIKLUS-7'!U102 -> 33 | Y41: ='SIKLUS-7'!V102 -> 0 | Z41: ='SIKLUS-7'!W102 -> 0
A42: =A41+1 -> 25 | B42: Baucau | C42: Laga | D42: ='[2]POM 4 2023 BA PDF (2)'!$C$127 -> Nunira | E42: 7 | F42: 005 | G42: Obras Publikas | H42: Estrada Rurais (Estrada Betaun) | I42: Reabilitasaun | J42: 1 | M42: =J42+K42+L42 -> 1 | N42: 0 | P42: ='[3]Progres Infras'!$E$13 -> 34270 | Q42: ='[3]Progres Infras'!$H$13 -> 15392.3 | R42: =P42-Q42 -> 18877.7 | S42: 0 | T42: =Q42/P42 -> 0.44914794 | U42: ='SIKLUS-7'!R103 -> 1 | V42: ='SIKLUS-7'!S103 -> 0 | W42: ='SIKLUS-7'!T103 -> 0 | X42: ='SIKLUS-7'!U103 -> 13 | Y42: ='SIKLUS-7'!V103 -> 0 | Z42: ='SIKLUS-7'!W103 -> 0
A43: =A42+1 -> 26 | B43: Baucau | C43: Laga | D43: ='[2]POM 4 2023 BA PDF (2)'!$C$133 -> Saelari | E43: 7 | F43: 005 | G43: Obras Publikas | H43: Estrada Rurais (Estrada Betaun) | I43: Reabilitasaun | J43: 1 | M43: =J43+K43+L43 -> 1 | N43: 0 | P43: ='[3]Progres Infras'!$E$14 -> 38047 | Q43: 18319.5 | R43: =P43-Q43 -> 19727.5 | S43: 0 | T43: =Q43/P43 -> 0.48149657 | U43: ='SIKLUS-7'!R104 -> 1 | V43: ='SIKLUS-7'!S104 -> 0 | W43: ='SIKLUS-7'!T104 -> 0 | X43: ='SIKLUS-7'!U104 -> 0 | Y43: ='SIKLUS-7'!V104 -> 0 | Z43: ='SIKLUS-7'!W104 -> 0
A44: =A43+1 -> 27 | B44: Baucau | C44: Laga | D44: ='[2]POM 4 2023 BA PDF (2)'!$C$136 -> Sagadate | E44: 7 | F44: 005 | G44: Obras Publikas | H44: Estrada Rurais (Estrada Rai) | I44: Reabilitasaun | J44: 1 | M44: =J44+K44+L44 -> 1 | N44: 0 | P44: ='[3]Progres Infras'!$E$15 -> 38047 | Q44: 18933.45 | R44: =P44-Q44 -> 19113.55 | S44: 0 | T44: =Q44/P44 -> 0.49763319 | U44: ='SIKLUS-7'!R105 -> 1 | V44: ='SIKLUS-7'!S105 -> 0 | W44: ='SIKLUS-7'!T105 -> 0 | X44: ='SIKLUS-7'!U105 -> 0 | Y44: ='SIKLUS-7'!V105 -> 0 | Z44: ='SIKLUS-7'!W105 -> 0
A45: =A44+1 -> 28 | B45: Baucau | C45: Laga | D45: ='[2]POM 4 2023 BA PDF (2)'!$C$130 -> Samalari | E45: 7 | F45: 005 | G45: Obras Publikas | H45: Estrada Rurais (Estrada Rai) | I45: Konstrusaun | J45: 1 | M45: =J45+K45+L45 -> 1 | N45: 0 | P45: ='[3]Progres Infras'!$E$16 -> 38047 | Q45: 0 | R45: =P45-Q45 -> 38047 | S45: 0 | T45: =Q45/P45 -> 0 | U45: ='SIKLUS-7'!R106 -> 1 | V45: ='SIKLUS-7'!S106 -> 0 | W45: ='SIKLUS-7'!T106 -> 0 | X45: ='SIKLUS-7'!U106 -> 0 | Y45: ='SIKLUS-7'!V106 -> 0 | Z45: ='SIKLUS-7'!W106 -> 0
A46: =A45+1 -> 29 | B46: Baucau | C46: Laga | D46: ='[2]POM 4 2023 BA PDF (2)'!$C$121 -> Soba | E46: 7 | F46: 005 | G46: Obras Publikas | H46: Estrada Rurais (Estrada Rai) | I46: Reabilitasaun | K46: 1 | M46: =J46+K46+L46 -> 1 | N46: 0 | P46: ='[3]Progres Infras'!$E$17 -> 34520 | Q46: 0 | R46: =P46-Q46 -> 34520 | S46: 0 | T46: =Q46/P46 -> 0 | U46: ='SIKLUS-7'!R107 -> 1 | V46: ='SIKLUS-7'!S107 -> 0 | W46: ='SIKLUS-7'!T107 -> 0 | X46: ='SIKLUS-7'!U107 -> 0 | Y46: ='SIKLUS-7'!V107 -> 0 | Z46: ='SIKLUS-7'!W107 -> 0
A47: =A46+1 -> 30 | B47: Baucau | C47: Laga | D47: ='[2]POM 4 2023 BA PDF (2)'!$C$118 -> Tequinomata | E47: 7 | F47: 002 | G47: Bee no Saneamentu | H47: Sistema Bee Mos - Bomba (Bomba Submersible/Bomba Sentrifugal) | I47: Reabilitasaun | J47: 1 | M47: =J47+K47+L47 -> 1 | N47: 0 | P47: ='[3]Progres Infras'!$E$18 -> 34520 | Q47: 0 | R47: =P47-Q47 -> 34520 | S47: 0 | T47: =Q47/P47 -> 0 | U47: ='SIKLUS-7'!R108 -> 1 | V47: ='SIKLUS-7'!S108 -> 0 | W47: ='SIKLUS-7'!T108 -> 0 | X47: ='SIKLUS-7'!U108 -> 9 | Y47: ='SIKLUS-7'!V108 -> 0 | Z47: ='SIKLUS-7'!W108 -> 0
J48: =SUM(J40:J47) -> 7 | K48: =SUM(K40:K47) -> 1 | L48: =SUM(L40:L47) -> 0 | M48: =SUM(M40:M47) -> 8 | U48: =AVERAGE(U40:U47) -> 1 | V48: =SUM(V40:V47) -> 0 | W48: =SUM(W40:W47) -> 0 | X48: =SUM(X40:X47) -> 55 | Y48: =SUM(Y40:Y47) -> 0 | Z48: =SUM(Z40:Z47) -> 0
A49: =A47+1 -> 31 | B49: Baucau | C49: Quelicai | D49: ='[2]POM 4 2023 BA PDF (2)'!$C$269 -> Abafala | E49: 7 | F49: 005 | G49: Obras Publikas | H49: Estrada Rurais (Estrada Betaun) | I49: Reabilitasaun | K49: 1 | M49: =J49+K49+L49 -> 1 | N49: 0 | P49: ='[3]Progres Infras'!$E$20 -> 30743 | Q49: 0 | R49: =P49-Q49 -> 30743 | S49: 0 | T49: =Q49/P49 -> 0 | U49: ='SIKLUS-7'!R109 -> 0.95 | V49: ='SIKLUS-7'!S109 -> 0 | W49: ='SIKLUS-7'!T109 -> 0 | X49: ='SIKLUS-7'!U109 -> 0 | Y49: ='SIKLUS-7'!V109 -> 0 | Z49: ='SIKLUS-7'!W109 -> 0
...

Sheet SIKLUS-7- SETOR
A8: PROGRESU ATIVIDADE PROGRAMA NASIONAL DEZENVOLVIMENTU SUKU (PNDS)
A9: FAZE1, FAZE 2 & FAZE 3 SIKLU 7
A10: TINAN 2025
A11: ATUALIZA IHA FULAN : AGOSTU 2025
A13: Nu. | B13: Munisipiu | C13: PA | D13: Suku | E13: Faze / Siklus | F13: Kode Setor | G13: Setor | H13: Naran Projetu | I13: Atividade | J13: FINALIZA | K13: LAO HELA | L13: SEIDAUK IMPLEMENTA | M13: Total Projetu | N13: Alokasaun Orsamentu | Q13: Gasta | R13: Balansu | S13: Osan restu | T13: % Gasta | U13: % Fiziku | V13: Status SAD | W13: Status SAI | X13: Traballador
N14: Transfere | O14: Osan Restu | P14: Total | X14: Feto | Y14: Mane | Z14: EHD
A16: 1 | B16: Baucau | C16: Baguia | D16: ='[2]POM 4 2023 BA PDF (2)'!$C$36 -> Afaloicai | E16: 7 | F16: 001 | G16: Saude | H16: Residensia Pessoal Saude | I16: Konstrusaun | M16: 1 | N16: ='[3]Progres Infras'!$E$48 -> 37797 | P16: =N16+O16 -> 37797 | Q16: 0 | R16: =P16-Q16 -> 37797 | S16: 0 | T16: =Q16/P16 -> 0 | U16: 0.35 | V16: 0 | W16: 0 | X16: ='[4]Tra. 2025'!$J$22 -> 0 | Y16: 0 | Z16: 0
A17: =A16+1 -> 2 | B17: Baucau | C17: Baguia | D17: ='[2]POM 4 2023 BA PDF (2)'!$C$30 -> Alaua Craik | E17: 7 | F17: 005 | G17: Obras Publikas | H17: Estrada Rurais (Estrada Rai) | I17: Reabilitasaun | M17: 1 | N17: ='[3]Progres Infras'!$E$49 -> 37797 | P17: =N17+O17 -> 37797 | Q17: 0 | R17: =P17-Q17 -> 37797 | S17: 0 | T17: =Q17/P17 -> 0 | U17: 0.12 | V17: 0 | W17: 0 | X17: ='[4]Tra. 2025'!$J$23 -> 12 | Y17: ='[4]Tra. 2025'!$K$23 -> 2 | Z17: 0
A18: =A17+1 -> 3 | B18: Baucau | C18: Baguia | D18: ='[2]POM 4 2023 BA PDF (2)'!$C$15 -> Alaua Leten | E18: 7 | F18: 005 | G18: Obras Publikas | H18: Estrada Rurais (Estrada Betaun) | I18: Reabilitasaun | M18: 1 | N18: ='[3]Progres Infras'!$E$50 -> 37797 | P18: =N18+O18 -> 37797 | Q18: 0 | R18: =P18-Q18 -> 37797 | S18: 0 | T18: =Q18/P18 -> 0 | U18: 0.51 | V18: 0 | W18: 0 | X18: ='[4]Tra. 2025'!$J$24 -> 0 | Y18: 0 | Z18: 0
A19: =A18+1 -> 4 | B19: Baucau | C19: Baguia | D19: ='[2]POM 4 2023 BA PDF (2)'!$C$18 -> Defauassi | E19: 7 | F19: 002 | G19: Bee no Saneamentu | H19: Sistema Bee Mos - Gravitasaun | I19: Reabilitasaun | M19: 1 | N19: ='[3]Progres Infras'!$E$51 -> 37651 | P19: =N19+O19 -> 37651 | Q19: 0 | R19: =P19-Q19 -> 37651 | S19: 0 | T19: =Q19/P19 -> 0 | U19: 0.5 | V19: 0 | W19: 0 | X19: ='[4]Tra. 2025'!$J$25 -> 0 | Y19: 0 | Z19: 0
A20: =A19+1 -> 5 | B20: Baucau | C20: Baguia | D20: ='[2]POM 4 2023 BA PDF (2)'!$C$24 -> Haeconi | E20: 7 | F20: 005 | G20: Obras Publikas | H20: Estrada Rurais (Estrada Rai) | I20: Konstrusaun | M20: 1 | N20: ='[3]Progres Infras'!$E$52 -> 41574 | P20: =N20+O20 -> 41574 | Q20: 0 | R20: =P20-Q20 -> 41574 | S20: 0 | T20: =Q20/P20 -> 0 | U20: 0.95 | V20: 0 | W20: 0 | X20: ='[4]Tra. 2025'!$J$26 -> 0 | Y20: 0 | Z20: 0
A21: =A20+1 -> 6 | B21: Baucau | C21: Baguia | D21: ='[2]POM 4 2023 BA PDF (2)'!$C$27 -> Larisula | E21: 7 | F21: 005 | G21: Obras Publikas | H21: Estrada Rurais (Estrada Rai) | I21: Reabilitasaun | M21: 1 | N21: ='[3]Progres Infras'!$E$53 -> 37797 | P21: =N21+O21 -> 37797 | Q21: 0 | R21: =P21-Q21 -> 37797 | S21: 0 | T21: =Q21/P21 -> 0 | U21: 0.98 | V21: 0 | W21: 0 | X21: ='[4]Tra. 2025'!$J$28 -> 0 | Y21: 0 | Z21: 0
A22: =A21+1 -> 7 | B22: Baucau | C22: Baguia | D22: ='[2]POM 4 2023 BA PDF (2)'!$C$21 -> Lavateri | E22: 7 | F22: 005 | G22: Obras Publikas | H22: Estrada Rurais (Estrada Rai) | I22: Konstrusaun | M22: 1 | N22: ='[3]Progres Infras'!$E$54 -> 34270 | P22: =N22+O22 -> 34270 | Q22: 0 | R22: =P22-Q22 -> 34270 | S22: 0 | T22: =Q22/P22 -> 0 | U22: 1 | V22: 0 | W22: 0 | X22: ='[4]Tra. 2025'!$J$28 -> 0 | Y22: 0 | Z22: 0
A23: =A22+1 -> 8 | B23: Baucau | C23: Baguia | D23: ='[2]POM 4 2023 BA PDF (2)'!$C$33 -> Ossohuna | E23: 7 | F23: 005 | G23: Obras Publikas | H23: Estrada Rurais (Estrada Rai) | I23: Konstrusaun | M23: 1 | N23: ='[3]Progres Infras'!$E$55 -> 37797 | P23: =N23+O23 -> 37797 | Q23: 0 | R23: =P23-Q23 -> 37797 | S23: 0 | T23: =Q23/P23 -> 0 | U23: 0.25 | V23: 0 | W23: 0 | X23: 0 | Y23: 0 | Z23: 0
A24: =A23+1 -> 9 | B24: Baucau | C24: Baguia | D24: ='[2]POM 4 2023 BA PDF (2)'!$C$39 -> Samalari | E24: 7 | F24: 002 | G24: Obras Publikas | H24: Estrada Rurais (Estrada Rai) | I24: Konstrusaun | M24: 1 | N24: ='[3]Progres Infras'!$E$56 -> 34270 | P24: =N24+O24 -> 34270 | Q24: 0 | R24: =P24-Q24 -> 34270 | S24: 0 | T24: =Q24/P24 -> 0 | U24: 0.03 | V24: 0 | W24: 0 | X24: 0 | Y24: 0 | Z24: 0
A25: =A24+1 -> 10 | B25: Baucau | C25: Baguia | D25: ='[2]POM 4 2023 BA PDF (2)'!$C$42 -> Uacala | E25: 7 | F25: 005 | G25: Obras Publikas | H25: Estrada Rurais (Estrada Rai) | I25: Konstrusaun | M25: 1 | N25: ='[3]Progres Infras'!$E$57 -> 34270 | P25: =N25+O25 -> 34270 | Q25: 0 | R25: =P25-Q25 -> 34270 | S25: 0 | T25: =Q25/P25 -> 0 | U25: 0.12 | V25: 0 | W25: 0 | X25: 0 | Y25: 0 | Z25: 0
A26: =A25+1 -> 11 | B26: Baucau | C26: Baucau Vila | D26: ='[2]POM 4 2023 BA PDF (2)'!$C$68 -> Bahu | E26: 7 | F26: 005 | G26: Obras Publikas | H26: Estrada Rurais (Estrada Rai) | I26: Reabilitasaun | M26: 1 | N26: ='[3]Progres Infras'!$E$36 -> 38547 | P26: =N26+O26 -> 38547 | Q26: 0 | R26: =P26-Q26 -> 38547 | S26: 0 | T26: =Q26/P26 -> 0 | U26: 0.57 | V26: 1 | W26: 0 | X26: 17 | Y26: 8 | Z26: 0
A27: =A26+1 -> 12 | B27: Baucau | C27: Baucau Vila | D27: ='[2]POM 4 2023 BA PDF (2)'!$C$71 -> Bucoli | E27: 7 | F27: 003 | G27: Edukasaun No Desportu | H27: Eskola Primaria | I27: Reabilitasaun | M27: 1 | N27: ='[3]Progres Infras'!$E$37 -> 34520 | P27: =N27+O27 -> 34520 | Q27: 0 | R27: =P27-Q27 -> 34520 | S27: 0 | T27: =Q27/P27 -> 0 | U27: 0.35 | V27: 0 | W27: 0 | X27: 0 | Y27: 0 | Z27: 0
A28: =A27+1 -> 13 | B28: Baucau | C28: Baucau Vila | D28: ='[2]POM 4 2023 BA PDF (2)'!$C$74 -> Buibau | E28: 7 | F28: 005 | G28: Obras Publikas | H28: Estrada Rurais (Estrada Betaun) | I28: Konstrusaun | M28: 1 | N28: ='[3]Progres Infras'!$E$38 -> 34770 | P28: =N28+O28 -> 34770 | Q28: ='[3]Progres Infras'!$H$38 -> 5579.25 | R28: =P28-Q28 -> 29190.75 | S28: 0 | T28: =Q28/P28 -> 0.1604616 | U28: 1 | V28: 1 | W28: 0 | X28: ='[4]Tra. 2025'!$J$35 -> 12 | Y28: ='[4]Tra. 2025'!$K$35 -> 2 | Z28: 0
A29: =A28+1 -> 14 | B29: Baucau | C29: Baucau Vila | D29: ='[2]POM 4 2023 BA PDF (2)'!$C$77 -> Buruma | E29: 7 | F29: 005 | G29: Obras Publikas | H29: Estrada Rurais (Estrada Betaun) | I29: Konstrusaun | M29: 1 | N29: 0 | P29: ='[3]Progres Infras'!$E$39 -> 38547 | Q29: 0 | R29: =P29-Q29 -> 38547 | S29: 0 | T29: =Q29/P29 -> 0 | U29: 0.45 | V29: 0 | W29: 0 | X29: 0 | Y29: 0 | Z29: 0
A30: =A29+1 -> 15 | B30: Baucau | C30: Baucau Vila | D30: ='[2]POM 4 2023 BA PDF (2)'!$C$80 -> Caibada | E30: 7 | F30: 005 | G30: Obras Publikas | H30: Drenazen - Hada Fatuk | I30: Reabilitasaun | M30: 1 | N30: 0 | P30: ='[3]Progres Infras'!$E$40 -> 30993 | Q30: ='[3]Progres Infras'!$H$40 -> 455 | R30: =P30-Q30 -> 30538 | S30: 0 | T30: =Q30/P30 -> 0.014680734 | U30: 0.4 | V30: 0 | W30: 0 | X30: 0 | Y30: 0 | Z30: 0
A31: =A30+1 -> 16 | B31: Baucau | C31: Baucau Vila | D31: Gar-iuai | E31: 7 | F31: 005 | G31: Obras Publikas | H31: Estrada Rurais (Estrada Rai) | I31: Reabilitasaun | M31: 1 | N31: 0 | P31: ='[3]Progres Infras'!$E$41 -> 38297 | Q31: 0 | R31: =P31-Q31 -> 38297 | S31: 0 | T31: =Q31/P31 -> 0 | U31: 1 | V31: 0 | W31: 0 | X31: 0 | Y31: 0 | Z31: 0
A32: =A31+1 -> 17 | B32: Baucau | C32: Baucau Vila | D32: Samalari | E32: 7 | F32: 005 | G32: Obras Publikas | H32: Estrada Rurais (Estrada Rai) | I32: Konstrusaun | M32: 1 | N32: 0 | P32: ='[3]Progres Infras'!$E$42 -> 30743 | Q32: 0 | R32: =P32-Q32 -> 30743 | S32: 0 | T32: =Q32/P32 -> 0 | U32: 0.1 | V32: 0 | W32: 0 | X32: 0 | Y32: 0 | Z32: 0
A33: =A32+1 -> 18 | B33: Baucau | C33: Baucau Vila | D33: ='[2]POM 4 2023 BA PDF (2)'!$C$83 -> Seical | E33: 7 | F33: 005 | G33: Obras Publikas | H33: Estrada Rurais (Estrada Rai) | I33: Konstrusaun | M33: 1 | N33: 0 | P33: ='[3]Progres Infras'!$E$43 -> 30743 | Q33: 0 | R33: =P33-Q33 -> 30743 | S33: 0 | T33: =Q33/P33 -> 0 | U33: 0.45 | V33: 0 | W33: 0 | X33: 0 | Y33: 0 | Z33: 0
A34: =A33+1 -> 19 | B34: Baucau | C34: Baucau Vila | D34: ='[2]POM 4 2023 BA PDF (2)'!$C$86 -> Tirilolo | E34: 7 | F34: 005 | G34: Obras Publikas | H34: Estrada Rurais (Estrada Rai) | I34: Reabilitasaun | M34: 1 | N34: 0 | P34: ='[3]Progres Infras'!$E$44 -> 38547 | Q34: 0 | R34: =P34-Q34 -> 38547 | S34: 0 | T34: =Q34/P34 -> 0 | U34: 0.83 | V34: 0 | W34: 0 | X34: 0 | Y34: 0 | Z34: 0
A35: =A34+1 -> 20 | B35: Baucau | C35: Baucau Vila | D35: ='[2]POM 4 2023 BA PDF (2)'!$C$89 -> Triloka | E35: 7 | F35: 005 | G35: Obras Publikas | H35: Estrada Rurais (Estrada Rai) | I35: Konstrusaun | M35: 1 | N35: 0 | P35: ='[3]Progres Infras'!$E$45 -> 34520 | Q35: 0 | R35: =P35-Q35 -> 34520 | S35: 0 | T35: =Q35/P35 -> 0 | U35: 1 | V35: 1 | W35: 1 | X35: 0 | Y35: 0 | Z35: 0
A36: =A35+1 -> 21 | B36: Baucau | C36: Baucau Vila | D36: ='[2]POM 4 2023 BA PDF (2)'!$C$92 -> Uailili | E36: 7 | F36: 005 | G36: Obras Publikas | H36: Estrada Rurais (Estrada Rai) | I36: Reabilitasaun | M36: 1 | N36: 0 | P36: ='[3]Progres Infras'!$E$46 -> 34520 | Q36: 0 | R36: =P36-Q36 -> 34520 | S36: 0 | T36: =Q36/P36 -> 0 | U36: 1 | V36: 1 | W36: 0 | X36: ='[4]Tra. 2025'!$J$43 -> 18 | Y36: ='[4]Tra. 2025'!$K$43 -> 1 | Z36: 0
A37: =A36+1 -> 22 | B37: Baucau | C37: Laga | D37: ='[2]POM 4 2023 BA PDF (2)'!$C$139 -> Atelari | E37: 7 | F37: 005 | G37: Obras Publikas | H37: Estrada Rurais (Estrada Rai) | I37: Konstrusaun | M37: 1 | N37: 0 | P37: ='[3]Progres Infras'!$E$11 -> 34270 | Q37: 0 | R37: =P37-Q37 -> 34270 | S37: 0 | T37: =Q37/P37 -> 0 | U37: 1 | V37: 0 | W37: 0 | X37: 0 | Y37: 0 | Z37: 0
A38: =A37+1 -> 23 | B38: Baucau | C38: Laga | D38: ='[2]POM 4 2023 BA PDF (2)'!$C$124 -> Libagua | E38: 7 | F38: 005 | G38: Obras Publikas | H38: Estrada Rurais (Estrada Rai) | I38: Reabilitasaun | M38: 1 | N38: 0 | P38: ='[3]Progres Infras'!$E$12 -> 34270 | Q38: 13862.8 | R38: =P38-Q38 -> 20407.2 | S38: 0 | T38: =Q38/P38 -> 0.40451707 | U38: 0.8 | V38: 0 | W38: 0 | X38: ='[4]Tra. 2025'!$J$46 -> 33 | Y38: 0 | Z38: 0
A39: =A38+1 -> 24 | B39: Baucau | C39: Laga | D39: ='[2]POM 4 2023 BA PDF (2)'!$C$127 -> Nunira | E39: 7 | F39: 005 | G39: Obras Publikas | H39: Estrada Rurais (Estrada Betaun) | I39: Reabilitasaun | M39: 1 | N39: 0 | P39: ='[3]Progres Infras'!$E$13 -> 34270 | Q39: ='[3]Progres Infras'!$H$13 -> 15392.3 | R39: =P39-Q39 -> 18877.7 | S39: 0 | T39: =Q39/P39 -> 0.44914794 | U39: 1 | V39: 0 | W39: 0 | X39: ='[4]Tra. 2025'!$J$47 -> 13 | Y39: 0 | Z39: 0
A40: =A39+1 -> 25 | B40: Baucau | C40: Laga | D40: ='[2]POM 4 2023 BA PDF (2)'!$C$133 -> Saelari | E40: 7 | F40: 005 | G40: Obras Publikas | H40: Estrada Rurais (Estrada Betaun) | I40: Reabilitasaun | M40: 1 | N40: 0 | P40: ='[3]Progres Infras'!$E$14 -> 38047 | Q40: 18319.5 | R40: =P40-Q40 -> 19727.5 | S40: 0 | T40: =Q40/P40 -> 0.48149657 | U40: 1 | V40: 0 | W40: 0 | X40: 0 | Y40: 0 | Z40: 0
A41: =A40+1 -> 26 | B41: Baucau | C41: Laga | D41: ='[2]POM 4 2023 BA PDF (2)'!$C$136 -> Sagadate | E41: 7 | F41: 005 | G41: Obras Publikas | H41: Estrada Rurais (Estrada Rai) | I41: Reabilitasaun | M41: 1 | N41: 0 | P41: ='[3]Progres Infras'!$E$15 -> 38047 | Q41: 18933.45 | R41: =P41-Q41 -> 19113.55 | S41: 0 | T41: =Q41/P41 -> 0.49763319 | U41: 1 | V41: 0 | W41: 0 | X41: 0 | Y41: 0 | Z41: 0
A42: =A41+1 -> 27 | B42: Baucau | C42: Laga | D42: ='[2]POM 4 2023 BA PDF (2)'!$C$130 -> Samalari | E42: 7 | F42: 005 | G42: Obras Publikas | H42: Estrada Rurais (Estrada Rai) | I42: Konstrusaun | M42: 1 | N42: 0 | P42: ='[3]Progres Infras'!$E$16 -> 38047 | Q42: 0 | R42: =P42-Q42 -> 38047 | S42: 0 | T42: =Q42/P42 -> 0 | U42: 0.2374 | V42: 0 | W42: 0 | X42: 0 | Y42: 0 | Z42: 0
A43: =A42+1 -> 28 | B43: Baucau | C43: Laga | D43: ='[2]POM 4 2023 BA PDF (2)'!$C$121 -> Soba | E43: 7 | F43: 005 | G43: Obras Publikas | H43: Estrada Rurais (Estrada Rai) | I43: Reabilitasaun | M43: 1 | N43: 0 | P43: ='[3]Progres Infras'!$E$17 -> 34520 | Q43: 0 | R43: =P43-Q43 -> 34520 | S43: 0 | T43: =Q43/P43 -> 0 | U43: 0.3565 | V43: 0 | W43: 0 | X43: 0 | Y43: 0 | Z43: 0
A44: =A43+1 -> 29 | B44: Baucau | C44: Laga | D44: ='[2]POM 4 2023 BA PDF (2)'!$C$118 -> Tequinomata | E44: 7 | F44: 002 | G44: Bee no Saneamentu | H44: Sistema Bee Mos - Bomba (Bomba Submersible/Bomba Sentrifugal) | I44: Reabilitasaun | M44: 1 | N44: 0 | P44: ='[3]Progres Infras'!$E$18 -> 34520 | Q44: 0 | R44: =P44-Q44 -> 34520 | S44: 0 | T44: =Q44/P44 -> 0 | U44: 0.5825 | V44: 0 | W44: 0 | X44: ='[4]Tra. 2025'!$J$52 -> 9 | Y44: 0 | Z44: 0
A45: =A44+1 -> 30 | B45: Baucau | C45: Quelicai | D45: ='[2]POM 4 2023 BA PDF (2)'!$C$269 -> Abafala | E45: 7 | F45: 005 | G45: Obras Publikas | H45: Estrada Rurais (Estrada Betaun) | I45: Reabilitasaun | M45: 1 | N45: 0 | P45: ='[3]Progres Infras'!$E$20 -> 30743 | Q45: 0 | R45: =P45-Q45 -> 30743 | S45: 0 | T45: =Q45/P45 -> 0 | U45: 0.35 | V45: 0 | W45: 0 | X45: 0 | Y45: 0 | Z45: 0
A46: =A45+1 -> 31 | B46: Baucau | C46: Quelicai | D46: ='[2]POM 4 2023 BA PDF (2)'!$C$263 -> Baguia | E46: 7 | F46: 002 | G46: Bee no Saneamentu | H46: Sistema Bee Mos - Bomba (Bomba Submersible/Bomba Sentrifugal) | I46: Konstrusaun | M46: 1 | N46: 0 | P46: ='[3]Progres Infras'!$E$23 -> 34270 | Q46: 0 | R46: =P46-Q46 -> 34270 | S46: 0 | T46: =Q46/P46 -> 0 | U46: ='[5]Siklu VII 2025'!$J$46 -> 0 | V46: 0 | W46: 0 | X46: 0 | Y46: 0 | Z46: 0
A47: =A46+1 -> 32 | B47: Baucau | C47: Quelicai | D47: ='[2]POM 4 2023 BA PDF (2)'!$C$260 -> Bualale | E47: 7 | F47: 005 | G47: Setor Seluk | H47: Kampu Multi Funsaun | I47: Reabilitasaun | M47: 1 | N47: 0 | P47: ='[3]Progres Infras'!$E$24 -> 38047 | Q47: 0 | R47: =P47-Q47 -> 38047 | S47: 0 | T47: =Q47/P47 -> 0 | U47: ='[5]Siklu VII 2025'!$J$47 -> 0 | V47: 0 | W47: 0 | X47: 0 | Y47: 0 | Z47: 0
A48: =A47+1 -> 33 | B48: Baucau | C48: Quelicai | D48: ='[2]POM 4 2023 BA PDF (2)'!$C$284 -> Lacoliu | E48: 7 | F48: 005 | G48: Obras Publikas | H48: Estrada Rurais (Estrada Betaun) | I48: Reabilitasaun | M48: 1 | N48: 0 | P48: ='[3]Progres Infras'!$E$30 -> 34270 | Q48: 0 | R48: =P48-Q48 -> 34270 | S48: 0 | T48: =Q48/P48 -> 0 | U48: 0.3 | V48: 0 | W48: 0 | X48: 0 | Y48: 0 | Z48: 0
A49: =A48+1 -> 34 | B49: Baucau | C49: Quelicai | D49: ='[2]POM 4 2023 BA PDF (2)'!$C$272 -> Letemumo | E49: 7 | F49: 002 | G49: Bee no Saneamentu | H49: Sistema Bee Mos - Bomba (Bomba Submersible/Bomba Sentrifugal) | I49: Konstrusaun | M49: 1 | N49: 0 | P49: ='[3]Progres Infras'!$E$29 -> 34270 | Q49: 0 | R49: =P49-Q49 -> 34270 | S49: 0 | T49: =Q49/P49 -> 0 | U49: 0.42 | V49: 0 | W49: 0 | X49: 0 | Y49: 0 | Z49: 0
...

Sheet GRAFIK PROGRESU ATIVIDADE
A9: SUMARIU PROGRESU ATIVIDADE TINAN 2025
A10: MUNISÍPIU BAUCAU
A11: NU. | B11: TINAN | C11: FAZE/SIKLUS | D11: FINALIZA | E11: LAO HELA | F11: SEIDAUK IMPLEMENTA | G11: TOTAL PROJECTU | H11: % | I11: ALOKASAUN | J11: TOTAL | K11: GASTUS | L11: BALANSU | M11: % | N11: % | O11: STATUS | Q11: HEIN ENTREGA
M12: GASTUS | N12: FIZIKU | O12: SRD | P12: SRI
A15: 1 | B15: 2025 | C15: FAZE 1,2 & 3 SIKLUS 7 | D15: ='SIKLUS-7 KADA POSTU'!J86 -> 40 | E15: ='SIKLUS-7 KADA POSTU'!K86 -> 22 | F15: ='SIKLUS-7 KADA POSTU'!L86 -> 0 | G15: =SUM(D15:F15) -> 62 | H15: =G15/#REF! -> #REF! | I15: ='[6]ATIVIDADE KADA SIKLUS 2021-2024'!O524 -> 0 | J15: ='[6]ATIVIDADE KADA SIKLUS 2021-2024'!Q524 -> 0 | K15: ='[6]ATIVIDADE KADA SIKLUS 2021-2024'!R524 -> 0 | L15: =J15-K15 -> 0 | M15: =K15/J15*100% -> #DIV/0! | N15: ='SIKLUS-7'!R498 -> 0.96854839 | O15: ='SIKLUS-7 KADA POSTU'!V86 -> 25 | P15: ='SIKLUS-7 KADA POSTU'!W86 -> 19 | Q15: =O15-P15 -> 6 | S15: =P16+Q16 -> 25 | T15: =G16-S15 -> 37
A16: TOTAL | D16: =SUM(D15:D15) -> 40 | E16: =SUM(E15:E15) -> 22 | F16: =SUM(F15:F15) -> 0 | G16: =SUM(G15:G15) -> 62 | H16: =SUM(H15:H15) -> #REF! | I16: =SUM(I15:I15) -> 0 | J16: =SUM(J15:J15) -> 0 | K16: =SUM(K15:K15) -> 0 | L16: =SUM(L15:L15) -> 0 | M16: =K16/J16 -> #DIV/0! | N16: =AVERAGE(N15:N15) -> 0.96854839 | O16: =SUM(O15:O15) -> 25 | P16: =SUM(P15:P15) -> 19 | Q16: =SUM(Q15:Q15) -> 6 | R16: =D16-P16 -> 21 | S16: =S15+D31 -> 62 | T16: =T15-O16 -> 12 | W16: =O16+D31 -> 62
R17: =D16-O16 -> 15 | S17: =S16+F16 -> 62
R19: =O16-P16 -> 6
A21: NU. | B21: TINAN | C21: ATIVIDADE | D21: TOTAL | E21: PROGRESU | V21: =D16-O16 -> 15
A22: 1 | C22: FINALIZA | D22: =D16 -> 40 | E22: =D22/$D$25*100% -> 0.64516129
A23: =A22+1 -> 2 | C23: LAO HELA | D23: =E16 -> 22 | E23: =D23/$D$25*100% -> 0.35483871 | W23: 1484
A24: =A23+1 -> 3 | C24: SEIDAUK IMPLEMENTA | D24: =F16 -> 0 | E24: =D24/$D$25*100% -> 0 | W24: 300
A25: TOTAL | D25: =SUM(D22:D24) -> 62 | E25: =SUM(E22:E24) -> 1 | W25: 2
W26: =SUM(W23:W25) -> 1786
A28: NU. | B28: TINAN | C28: ATIVIDADE | D28: TOTAL | E28: PROGRESU
A29: 1 | C29: SRD | D29: =O16 -> 25 | E29: =D29/$D$33 -> 0.28735632
A30: =A29+1 -> 2 | C30: SRI | D30: =P16 -> 19 | E30: =D30/$D$33 -> 0.2183908
A31: =A30+1 -> 3 | C31: SEIDAUK SRD | D31: =G16-O16 -> 37 | E31: =D31/$D$33 -> 0.42528736
A32: =A31+1 -> 4 | C32: SEIDAUK SRI | D32: =Q16 -> 6 | E32: =D32/$D$33 -> 0.068965517
A33: TOTAL | D33: =SUM(D29:D32) -> 87 | E33: =SUM(E29:E32) -> 1
C35: S
Q48: 392
Q49: 316
Q50: =Q48-Q49 -> 76
A64: SUMARIU ATIVIDADE KADA POSTU 2025
A65: SUMARIU ATIVIDADE KADA POSTU 2025
A66: Nu. | C66: NARAN POSTU | D66: FINALIZA | E66: LAO HELA | F66: LA IMPLEMENTA | G66: TOTAL PROJETU | H66: % | I66: ALOKASAUN | J66: TOTAL | K66: GASTUS | L66: BALANSU | M66: % | N66: % | O66: STATUS
M67: GASTUS | N67: FIZIKU | O67: SRD | P67: SRI
A68: 001 | C68: BAGUIA | D68: ='SIKLUS-7 KADA POSTU'!J26 -> 4 | E68: ='SIKLUS-7 KADA POSTU'!K26 -> 6 | F68: ='SIKLUS-7 KADA POSTU'!L26 -> 0 | G68: =SUM(D68:F68) -> 10 | H68: =G68/$G$76 -> 0.16129032 | I68: ='[6]REKAP PROJEITU SUKU_2021-2024'!O88 -> 5010697.4 | J68: ='[6]REKAP PROJEITU SUKU_2021-2024'!Q88 -> 5044628.6 | K68: ='[6]REKAP PROJEITU SUKU_2021-2024'!R88 -> 3795100.5 | L68: =J68-K68 -> 1249528.1 | M68: =K68/J68*100% -> 0.75230523 | N68: ='SIKLUS-7 KADA POSTU'!U26 -> 0.974 | O68: ='SIKLUS-7 KADA POSTU'!V26 -> 3 | P68: ='SIKLUS-7 KADA POSTU'!W26 -> 3 | R68: ='[6]REKAP PROJEITU SUKU_2021-2024'!Z87 -> 0.95828125 | S68: ='[6]REKAP PROJEITU SUKU_2021-2024'!AA87 -> 0.99081846
A69: 002 | C69: BAUCAU VILA | D69: ='SIKLUS-7 KADA POSTU'!J39 -> 8 | E69: ='SIKLUS-7 KADA POSTU'!K39 -> 4 | F69: ='SIKLUS-7 KADA POSTU'!L39 -> 0 | G69: =SUM(D69:F69) -> 12 | H69: =G69/$G$76 -> 0.19354839 | I69: ='[6]REKAP PROJEITU SUKU_2021-2024'!O183 -> 4375723 | J69: ='[6]REKAP PROJEITU SUKU_2021-2024'!Q183 -> 4391829.8 | K69: ='[6]REKAP PROJEITU SUKU_2021-2024'!R183 -> 3832344.9 | L69: =J69-K69 -> 559484.84 | M69: =K69/J69*100% -> 0.8726078 | N69: ='SIKLUS-7 KADA POSTU'!U39 -> 0.93166667 | O69: ='SIKLUS-7 KADA POSTU'!V39 -> 7 | P69: ='SIKLUS-7 KADA POSTU'!W39 -> 1 | R69: ='[6]REKAP PROJEITU SUKU_2021-2024'!Z182 -> 0.98188131 | S69: ='[6]REKAP PROJEITU SUKU_2021-2024'!AA182 -> 0.97885748
A70: 003 | C70: LAGA | D70: ='SIKLUS-7 KADA POSTU'!J48 -> 7 | E70: ='SIKLUS-7 KADA POSTU'!K48 -> 1 | F70: ='SIKLUS-7 KADA POSTU'!L48 -> 0 | G70: =SUM(D70:F70) -> 8 | H70: =G70/$G$76 -> 0.12903226 | I70: ='[6]REKAP PROJEITU SUKU_2021-2024'!O244 -> 3200255.2 | J70: ='[6]REKAP PROJEITU SUKU_2021-2024'!Q244 -> 3220054.8 | K70: ='[6]REKAP PROJEITU SUKU_2021-2024'!R244 -> 2842317.5 | L70: =J70-K70 -> 377737.27 | M70: =K70/J70*100% -> 0.88269228 | N70: ='SIKLUS-7 KADA POSTU'!U48 -> 1 | O70: ='SIKLUS-7 KADA POSTU'!V48 -> 0 | P70: ='SIKLUS-7 KADA POSTU'!W48 -> 0 | R70: ='[6]REKAP PROJEITU SUKU_2021-2024'!Z243 -> 0.99987031 | S70: ='[6]REKAP PROJEITU SUKU_2021-2024'!AA243 -> 0.99321478
A71: 004 | C71: MATEBIAN | D71: ='SIKLUS-7 KADA POSTU'!J62 -> 2 | E71: ='SIKLUS-7 KADA POSTU'!K62 -> 3 | F71: ='SIKLUS-7 KADA POSTU'!L62 -> 0 | G71: =SUM(D71:F71) -> 5 | N71: ='SIKLUS-7 KADA POSTU'!U62 -> 0.984 | O71: ='SIKLUS-7 KADA POSTU'!V62 -> 0 | P71: ='SIKLUS-7 KADA POSTU'!W62 -> 0 | R71: ='[6]REKAP PROJEITU SUKU_2021-2024'!Z284 -> 0.97166667 | S71: ='[6]REKAP PROJEITU SUKU_2021-2024'!AA284 -> 0.96985136
A72: 005 | C72: QUELICAI ANTIGU | D72: ='SIKLUS-7 KADA POSTU'!J66 -> 1 | E72: ='SIKLUS-7 KADA POSTU'!K66 -> 2 | F72: ='SIKLUS-7 KADA POSTU'!L66 -> 0 | G72: =SUM(D72:F72) -> 3 | N72: ='SIKLUS-7 KADA POSTU'!U66 -> 1 | O72: ='SIKLUS-7 KADA POSTU'!V66 -> 0 | P72: ='SIKLUS-7 KADA POSTU'!W66 -> 0 | R72: ='[6]REKAP PROJEITU SUKU_2021-2024'!Z357 -> 0.95833333 | S72: ='[6]REKAP PROJEITU SUKU_2021-2024'!AA357 -> 0.98698945
A73: 006 | C73: QUELICAI | D73: ='SIKLUS-7 KADA POSTU'!J56 -> 1 | E73: ='SIKLUS-7 KADA POSTU'!K56 -> 6 | F73: ='SIKLUS-7 KADA POSTU'!L56 -> 0 | G73: =SUM(D73:F73) -> 7 | H73: =G73/$G$76 -> 0.11290323 | I73: ='[6]REKAP PROJEITU SUKU_2021-2024'!O367 -> 1507269.8 | J73: ='[6]REKAP PROJEITU SUKU_2021-2024'!Q367 -> 1512748.5 | K73: ='[6]REKAP PROJEITU SUKU_2021-2024'!R367 -> 1079012.3 | L73: =J73-K73 -> 433736.16 | M73: =K73/J73*100% -> 0.71327939 | N73: ='SIKLUS-7 KADA POSTU'!U56 -> 0.88714286 | O73: ='SIKLUS-7 KADA POSTU'!V56 -> 0 | P73: ='SIKLUS-7 KADA POSTU'!W56 -> 0 | R73: ='[6]REKAP PROJEITU SUKU_2021-2024'!Z366 -> 0.97776474 | S73: ='[6]REKAP PROJEITU SUKU_2021-2024'!AA366 -> 0.98738676
A74: 007 | C74: VEMASSE | D74: ='SIKLUS-7 KADA POSTU'!J75 -> 8 | E74: ='SIKLUS-7 KADA POSTU'!K75 -> 0 | F74: ='SIKLUS-7 KADA POSTU'!L75 -> 0 | G74: =SUM(D74:F74) -> 8 | H74: =G74/$G$76 -> 0.12903226 | I74: ='[6]REKAP PROJEITU SUKU_2021-2024'!O426 -> 2710769.2 | J74: ='[6]REKAP PROJEITU SUKU_2021-2024'!Q426 -> 2762569.8 | K74: ='[6]REKAP PROJEITU SUKU_2021-2024'!R426 -> 2430328.8 | L74: =J74-K74 -> 332241.03 | M74: =K74/J74*100% -> 0.87973479 | N74: ='SIKLUS-7 KADA POSTU'!U75 -> 1 | O74: ='SIKLUS-7 KADA POSTU'!V75 -> 6 | P74: ='SIKLUS-7 KADA POSTU'!W75 -> 6 | R74: ='[6]REKAP PROJEITU SUKU_2021-2024'!Z425 -> 1 | S74: ='[6]REKAP PROJEITU SUKU_2021-2024'!AA425 -> 0.98435923
A75: 008 | C75: VENILALE | D75: ='SIKLUS-7 KADA POSTU'!J85 -> 9 | E75: ='SIKLUS-7 KADA POSTU'!K85 -> 0 | F75: ='SIKLUS-7 KADA POSTU'!L85 -> 0 | G75: =SUM(D75:F75) -> 9 | H75: =G75/$G$76 -> 0.14516129 | I75: ='[6]REKAP PROJEITU SUKU_2021-2024'!O485 -> 3175298.2 | J75: ='[6]REKAP PROJEITU SUKU_2021-2024'!Q485 -> 3193430.8 | K75: ='[6]REKAP PROJEITU SUKU_2021-2024'!R485 -> 2875037.5 | L75: =J75-K75 -> 318393.26 | M75: =K75/J75*100% -> 0.90029743 | N75: ='SIKLUS-7 KADA POSTU'!U85 -> 1 | O75: ='SIKLUS-7 KADA POSTU'!V85 -> 9 | P75: ='SIKLUS-7 KADA POSTU'!W85 -> 9 | R75: ='[6]REKAP PROJEITU SUKU_2021-2024'!Z484 -> 1 | S75: ='[6]REKAP PROJEITU SUKU_2021-2024'!AA484 -> 0.98087388
A76: TOTAL | D76: =SUM(D68:D75) -> 40 | E76: =SUM(E68:E75) -> 22 | F76: =SUM(F68:F75) -> 0 | G76: =SUM(G68:G75) -> 62 | H76: =SUM(H68:H75) -> 0.87096774 | I76: =SUM(I68:I75) -> 19980013 | J76: =SUM(J68:J75) -> 20125262 | K76: =SUM(K68:K75) -> 16854142 | L76: =SUM(L68:L75) -> 3271120.7 | M76: =K76/J76 -> 0.83746196 | N76: =AVERAGE(N68:N75) -> 0.97210119 | O76: =SUM(O68:O75) -> 25 | P76: =SUM(P68:P75) -> 19
A112: SUMARIU ATIVIDADE KADA SETOR 2025
A113: MUNISIPIU BAUCAU
A114: KODE SETOR | C114: NARAN SETOR | D114: FINALIZA | E114: LAO HELA | F114: LA IMPLEMENTA | G114: TOTAL PROJECTU | H114: % | I114: ALOKASAUN | J114: TOTAL | K114: GASTUS | L114: BALANSU | M114: % | N114: % | O114: STATUS
...

Sheet Sheet1
E7: KUSTU ESTIMASAUN BA SALA NO DAPUR MERENDA ESKOLAR
E8: Nu. | F8: Diskrisaun | G8: Medida | H8: Kuantidade | I8: Unidade | J8: Kustu Estimasaun | K8: Kustu Total
J9: Kada Pakote
E10: 1 | F10: Sala Merenda Eskolar | G10: 6m x 11m | H10: 7 | I10: Pakote | J10: 30000 | K10: =H10*J10 -> 210000
E11: 2 | F11: Dapur Merenda Eskolar | G11: 4m x 6m
M15: Nu. | N15: TINAN | O15: < 50 | P15: < 75 | Q15: < 100 | R15: 100 | S15: La Implementa | T15: Total Projetu
M16: 1 | N16: 2021 | R16: 306 | T16: =SUM(O16:S16) -> 306
M17: 2 | N17: 2022 | Q17: 8 | R17: 1086 | S17: 1 | T17: =SUM(O17:S17) -> 1095
M18: 3 | N18: 2023 | P18: 1 | Q18: 4 | R18: 321 | T18: =SUM(O18:S18) -> 326
M19: 4 | N19: 2024 | O19: 1 | P19: 1 | Q19: 5 | R19: 54 | S19: 2 | T19: =SUM(O19:S19) -> 63
M20: 5 | N20: 2025 | O20: 4 | P20: 9 | Q20: 9 | R20: 40 | T20: =SUM(O20:S20) -> 62
M21: Total | O21: =SUM(O16:O20) -> 5 | P21: =SUM(P16:P20) -> 11 | Q21: =SUM(Q16:Q20) -> 26 | R21: =SUM(R16:R20) -> 1807 | S21: =SUM(S16:S20) -> 3 | T21: =SUM(T16:T20) -> 1852
O22: =O21+P21+Q21 -> 42

Sheet Sheet2
