Workbook
Name DistritoLOS: [1]Lokasi!$B$3:$B$16
Name ItemCDLOS: [1]Lokasi!$L$3:$L$27
Name PostoLOS: [1]Lokasi!$E$3:$E$81
Name PrioridadesProjetu: [1]Lokasi!$B$40:$B$43
Name Seitur: [1]Lokasi!$B$30:$B$37
Name StatusProjetu: [1]Lokasi!$B$25:$B$27
Name SucoLOS: [1]Lokasi!$I$3:$I$510
Name Table1: #REF!
Name TipoProjetu: [1]Lokasi!$B$19:$B$22

Sheet SIKLUS-7
A8: PROGRESU ATIVIDADE PROGRAMA NASIONAL DEZENVOLVIMENTU SUKU (PNDS)
A9: FAZE1, FAZE 2 & FAZE 3 SIKLU 7
A10: TINAN 2025
A11: ATUALIZA IHA FULAN :DEZEMBRU 2025
A13: Nu. | B13: Munisipiu | C13: PA | D13: Suku | E13: Faze / Siklus | F13: Kode Setor | G13: Setor | H13: Naran Projetu | I13: Atividade | J13: Total Projetu | K13: Alokasaun Orsamentu | N13: Gasta | O13: Balansu | P13: Osan restu | Q13: % Gasta | R13: % Fiziku | S13: Status SAD | T13: Status SAI | U13: Traballador | X13: Observasaun
K14: Transfere | L14: Osan Restu | M14: Total | U14: Feto | V14: Mane | W14: EHD
A16: 1 | B16: Aileu | C16: Aileu Vila | D16: Aissirimou | E16: 7 | G16: Obras Publikas | H16: Estrada Rurais (Estrada Rai) | I16: Konstrusaun | J16: 1 | K16: 0 | M16: =K16+L16 -> 0 | N16: 0 | O16: =M16-N16 -> 0 | P16: 0 | Q16: =N16/M16 -> #DIV/0! | S16: 0 | T16: 0 | U16: 0 | V16: 0 | W16: 0
A17: =A16+1 -> 2 | B17: Aileu | C17: Aileu Vila | D17: Bandudato | E17: 7 | G17: Obras Publikas | H17: Bareiras (Tembok Penahan) - Hada Fatuk | I17: Konstrusaun | J17: 1 | K17: 0 | M17: =K17+L17 -> 0 | N17: 0 | O17: =M17-N17 -> 0 | P17: 0 | Q17: =N17/M17 -> #DIV/0! | S17: 0 | T17: 0 | U17: 0 | V17: 0 | W17: 0
A18: =A17+1 -> 3 | B18: Aileu | C18: Aileu Vila | D18: Fahiria | E18: 7 | G18: Obras Publikas | H18: Estrada Rurais (Estrada Betaun) | I18: Konstrusaun | J18: 1 | K18: 0 | M18: =K18+L18 -> 0 | N18: 0 | O18: =M18-N18 -> 0 | P18: 0 | Q18: =N18/M18 -> #DIV/0! | S18: 0 | T18: 0 | U18: 0 | V18: 0 | W18: 0
A19: =A18+1 -> 4 | B19: Aileu | C19: Aileu Vila | D19: Fatubossa | E19: 7 | G19: Edukasaun no Desportu | H19: Residensia ba Professores | I19: Konstrusaun | J19: 1 | K19: 0 | M19: =K19+L19 -> 0 | N19: 0 | O19: =M19-N19 -> 0 | P19: 0 | Q19: =N19/M19 -> #DIV/0! | S19: 0 | T19: 0 | U19: 0 | V19: 0 | W19: 0
A20: =A19+1 -> 5 | B20: Aileu | C20: Aileu Vila | D20: Hoholau | E20: 7 | G20: Obras Publikas | H20: Estrada Rurais (Estrada Betaun) | I20: Konstrusaun | J20: 1 | K20: 0 | M20: =K20+L20 -> 0 | N20: 0 | O20: =M20-N20 -> 0 | P20: 0 | Q20: =N20/M20 -> #DIV/0! | S20: 0 | T20: 0 | U20: 0 | V20: 0 | W20: 0
A21: =A20+1 -> 6 | B21: Aileu | C21: Aileu Vila | D21: Lahae | E21: 7 | G21: Agrikultura, Seguransa Ailementar no Buka Moris | H21: Bareiras (Tembok Penahan) - Hada Fatuk | I21: Reabilitasaun | J21: 1 | K21: 0 | M21: =K21+L21 -> 0 | N21: 0 | O21: =M21-N21 -> 0 | P21: 0 | Q21: =N21/M21 -> #DIV/0! | S21: 0 | T21: 0 | U21: 0 | V21: 0 | W21: 0
A22: =A21+1 -> 7 | B22: Aileu | C22: Aileu Vila | D22: Lausi | E22: 7 | G22: Edukasaun no Desportu | H22: Residensia ba Professores | I22: Konstrusaun | J22: 1 | K22: 0 | M22: =K22+L22 -> 0 | N22: 0 | O22: =M22-N22 -> 0 | P22: 0 | Q22: =N22/M22 -> #DIV/0! | S22: 0 | T22: 0 | U22: 0 | V22: 0 | W22: 0
A23: =A22+1 -> 8 | B23: Aileu | C23: Aileu Vila | D23: Lequitura | E23: 7 | G23: Obras Publikas | H23: Estrada Rurais (Estrada Rai) | I23: Konstrusaun | J23: 1 | K23: 0 | M23: =K23+L23 -> 0 | N23: 0 | O23: =M23-N23 -> 0 | P23: 0 | Q23: =N23/M23 -> #DIV/0! | S23: 0 | T23: 0 | U23: 0 | V23: 0 | W23: 0
A24: =A23+1 -> 9 | B24: Aileu | C24: Aileu Vila | D24: Saboria | E24: 7 | G24: Obras Publikas | H24: Estrada Rurais (Estrada Betaun) | I24: Konstrusaun | J24: 1 | K24: 0 | M24: =K24+L24 -> 0 | N24: 0 | O24: =M24-N24 -> 0 | P24: 0 | Q24: =N24/M24 -> #DIV/0! | S24: 0 | T24: 0 | U24: 0 | V24: 0 | W24: 0
A25: =A24+1 -> 10 | B25: Aileu | C25: Aileu Vila | D25: Seloi Craic | E25: 7 | G25: Bee no Saneamentu | H25: Sistema Bee Mos - Gravitasaun | I25: Konstrusaun | J25: 1 | K25: 0 | M25: =K25+L25 -> 0 | N25: 0 | O25: =M25-N25 -> 0 | P25: 0 | Q25: =N25/M25 -> #DIV/0! | S25: 0 | T25: 0 | U25: 0 | V25: 0 | W25: 0
A26: =A25+1 -> 11 | B26: Aileu | C26: Aileu Vila | D26: Seloi Craic | E26: 7 | G26: Bee no Saneamentu | H26: Sistema Bee Mos - Gravitasaun | I26: Reabilitasaun | J26: 1 | K26: 0 | M26: =K26+L26 -> 0 | N26: 0 | O26: =M26-N26 -> 0 | P26: 0 | Q26: =N26/M26 -> #DIV/0! | S26: 0 | T26: 0 | U26: 0 | V26: 0 | W26: 0
A27: =A26+1 -> 12 | B27: Aileu | C27: Aileu Vila | D27: Seloi Malere | E27: 7 | G27: Obras Publikas | H27: Estrada Rurais (Estrada Betaun) | I27: Reabilitasaun | J27: 1 | K27: 0 | M27: =K27+L27 -> 0 | N27: 0 | O27: =M27-N27 -> 0 | P27: 0 | Q27: =N27/M27 -> #DIV/0! | S27: 0 | T27: 0 | U27: 0 | V27: 0 | W27: 0
A28: =A27+1 -> 13 | B28: Aileu | C28: Aileu Vila | D28: Suco Liurai (A) | E28: 7 | G28: Bee no Saneamentu | H28: Sistema Bee Mos - Gravitasaun | I28: Konstrusaun | J28: 1 | K28: 0 | M28: =K28+L28 -> 0 | N28: 0 | O28: =M28-N28 -> 0 | P28: 0 | Q28: =N28/M28 -> #DIV/0! | S28: 0 | T28: 0 | U28: 0 | V28: 0 | W28: 0
... A49: =A48+1 -> 34 | B49: Aileu | C49: Remixio | D49: Tulatequeu | E49: 7 | G49: Bee no Saneamentu | H49: Sistema Bee Mos - Bomba (Bomba Submersible/Bomba Sentrifugal) | I49: Konstrusaun | J49: 1 | K49: 0 | M49: =K49+L49 -> 0 | N49: 0 | O49: =M49-N49 -> 0 | P49: 0 | Q49: =N49/M49 -> #DIV/0! | S49: 0 | T49: 0 | U49: 0 | V49: 0 | W49: 0
A50: Aileu | D50: {=SUM(1/COUNTIF(D16:D49,D16:D49))} -> 33 | J50: =SUM(J16:J49) -> 34 | K50: =SUM(K16:K49) -> 0 | L50: =SUM(L16:L49) -> 0 | M50: =SUM(M16:M49) -> 0 | N50: =SUM(N16:N49) -> 0 | O50: =SUM(O16:O49) -> 0 | P50: =SUM(P16:P49) -> 0 | Q50: =N50/M50 -> #DIV/0! | R50: =AVERAGE(R16:R49) -> #DIV/0! | S50: =SUM(S16:S49) -> 0 | T50: =SUM(T16:T49) -> 0 | U50: =SUM(U16:U49) -> 0 | V50: =SUM(V16:V49) -> 0 | W50: =SUM(W16:W49) -> 0
A51: 1 | B51: Ainaro | C51: Ainaro Villa | D51: Ainaro | E51: 7 | G51: Obras Publikas | H51: Estrada Rurais (Estrada Betaun) | I51: Konstrusaun | J51: 1 | K51: 25926.36 | M51: =K51+L51 -> 25926.36 | N51: 0 | O51: =M51-N51 -> 25926.36 | P51: 0 | Q51: =N51/M51 -> 0 | S51: 0 | T51: 0 | U51: 0 | V51: 0 | W51: 0
A52: =A51+1 -> 2 | B52: Ainaro | C52: Ainaro Villa | D52: Cassa | E52: 7 | G52: Agrikultura, Seguransa Ailementar no Buka Moris | H52: Mini Merkadu | I52: Konstrusaun | J52: 1 | K52: 25780.71 | M52: =K52+L52 -> 25780.71 | N52: 0 | O52: =M52-N52 -> 25780.71 | P52: 0 | Q52: =N52/M52 -> 0 | S52: 0 | T52: 0 | U52: 0 | V52: 0 | W52: 0
A53: =A52+1 -> 3 | B53: Ainaro | C53: Ainaro Villa | D53: Manutaci | E53: 7 | G53: Obras Publikas | H53: Estrada Rurais (Estrada Betaun) | I53: Konstrusaun | J53: 1 | K53: 23013.29 | M53: =K53+L53 -> 23013.29 | N53: 0 | O53: =M53-N53 -> 23013.29 | P53: 0 | Q53: =N53/M53 -> 0 | S53: 0 | T53: 0 | U53: 0 | V53: 0 | W53: 0
A54: =A53+1 -> 4 | B54: Ainaro | C54: Ainaro Villa | D54: Mau-Nuno | E54: 7 | G54: Obras Publikas | H54: Estrada Rurais (Estrada Betaun) | I54: Konstrusaun | J54: 1 | K54: 20391.52 | M54: =K54+L54 -> 20391.52 | N54: 0 | O54: =M54-N54 -> 20391.52 | P54: 0 | Q54: =N54/M54 -> 0 | S54: 0 | T54: 0 | U54: 0 | V54: 0 | W54: 0
A55: =A54+1 -> 5 | B55: Ainaro | C55: Ainaro Villa | D55: Mau-Ulo | E55: 7 | G55: Obras Publikas | H55: Estrada Rurais (Estrada Betaun) | I55: Konstrusaun | J55: 1 | K55: 20391.52 | M55: =K55+L55 -> 20391.52 | N55: 0 | O55: =M55-N55 -> 20391.52 | P55: 0 | Q55: =N55/M55 -> 0 | S55: 0 | T55: 0 | U55: 0 | V55: 0 | W55: 0
A56: =A55+1 -> 6 | B56: Ainaro | C56: Ainaro Villa | D56: Soro | E56: 7 | G56: Obras Publikas | H56: Estrada Rurais (Estrada Betaun) | I56: Konstrusaun | J56: 1 | K56: 23158.94 | M56: =K56+L56 -> 23158.94 | N56: 0 | O56: =M56-N56 -> 23158.94 | P56: 0 | Q56: =N56/M56 -> 0 | S56: 0 | T56: 0 | U56: 0 | V56: 0 | W56: 0
A57: =A56+1 -> 7 | B57: Ainaro | C57: Ainaro Villa | D57: Suro-Craic | E57: 7 | G57: Obras Publikas | H57: Estrada Rurais (Estrada Betaun) | I57: Konstrusaun | J57: 1 | K57: 23013.29 | M57: =K57+L57 -> 23013.29 | N57: 0 | O57: =M57-N57 -> 23013.29 | P57: 0 | Q57: =N57/M57 -> 0 | S57: 0 | T57: 0 | U57: 0 | V57: 0 | W57: 0
A58: =A57+1 -> 8 | B58: Ainaro | C58: Hato-Builico | D58: Mauchiga | E58: 7 | G58: Obras Publikas | H58: Estrada Rurais (Estrada Betaun) | I58: Konstrusaun | J58: 1 | K58: 25780.71 | M58: =K58+L58 -> 25780.71 | N58: 0 | O58: =M58-N58 -> 25780.71 | P58: 0 | Q58: =N58/M58 -> 0 | S58: 0 | T58: 0 | U58: 0 | V58: 0 | W58: 0
A59: =A58+1 -> 9 | B59: Ainaro | C59: Hato-Builico | D59: Mulo | E59: 7 | G59: Obras Publikas | H59: Estrada Rurais (Estrada Betaun) | I59: Konstrusaun | J59: 1 | K59: 28548.13 | M59: =K59+L59 -> 28548.13 | N59: 0 | O59: =M59-N59 -> 28548.13 | P59: 0 | Q59: =N59/M59 -> 0 | S59: 0 | T59: 0 | U59: 0 | V59: 0 | W59: 0
A60: =A59+1 -> 10 | B60: Ainaro | C60: Hato-Builico | D60: Nunu-Mogue | E60: 7 | G60: Obras Publikas | H60: Estrada Rurais (Estrada Betaun) | I60: Konstrusaun | J60: 1 | K60: 25926.36 | M60: =K60+L60 -> 25926.36 | N60: 0 | O60: =M60-N60 -> 25926.36 | P60: 0 | Q60: =N60/M60 -> 0 | S60: 0 | T60: 0 | U60: 0 | V60: 0 | W60: 0
A61: =A60+1 -> 11 | B61: Ainaro | C61: Hato-Udo | D61: Foho-Ailico | E61: 7 | G61: Bee no Saneamentu | H61: Sistema Bee Mos - Gravitasaun | I61: Konstrusaun | J61: 1 | K61: 31169.89 | M61: =K61+L61 -> 31169.89 | N61: 0 | O61: =M61-N61 -> 31169.89 | P61: 0 | Q61: =N61/M61 -> 0 | S61: 0 | T61: 0 | U61: 0 | V61: 0 | W61: 0
A62: =A61+1 -> 12 | B62: Ainaro | C62: Hato-Udo | D62: Leolima | E62: 7 | G62: Obras Publikas | H62: Satan Rai (Bronjong) | I62: Konstrusaun | J62: 1 | K62: 31169.89 | M62: =K62+L62 -> 31169.89 | N62: 0 | O62: =M62-N62 -> 31169.89 | P62: 0 | Q62: =N62/M62 -> 0 | S62: 0 | T62: 0 | U62: 0 | V62: 0 | W62: 0
A63: =A62+1 -> 13 | B63: Ainaro | C63: Maubisse | D63: Aituto | E63: 7 | G63: Obras Publikas | H63: Estrada Rurais (Estrada Betaun) | I63: Konstrusaun | J63: 1 | K63: 28548.13 | M63: =K63+L63 -> 28548.13 | N63: 0 | O63: =M63-N63 -> 28548.13 | P63: 0 | Q63: =N63/M63 -> 0 | S63: 0 | T63: 0 | U63: 0 | V63: 0 | W63: 0
... A66: =A65+1 -> 16 | B66: Ainaro | C66: Maubisse | D66: Horai-Quic | E66: 7 | G66: Obras Publikas | H66: Estrada Rurais (Estrada Betaun) | I66: Konstrusaun | J66: 1 | K66: 25780.71 | M66: =K66+L66 -> 25780.71 | N66: 0 | O66: =M66-N66 -> 25780.71 | P66: 0 | Q66: =N66/M66 -> 0 | S66: 0 | T66: 0 | U66: 0 | V66: 0 | W66: 0
A67: =A66+1 -> 17 | B67: Ainaro | C67: Maubisse | D67: Manelobas | E67: 7 | G67: Obras Publikas | H67: Estrada Rurais (Estrada Betaun) | I67: Konstrusaun | J67: 1 | K67: 28256.82 | M67: =K67+L67 -> 28256.82 | N67: 0 | O67: =M67-N67 -> 28256.82 | P67: 0 | Q67: =N67/M67 -> 0 | S67: 0 | T67: 0 | U67: 0 | V67: 0 | W67: 0 | AB67: =256-10 -> 246
A68: =A67+1 -> 18 | B68: Ainaro | C68: Maubisse | D68: Manetú | E68: 7 | G68: Obras Publikas | H68: Estrada Rurais (Estrada Betaun) | I68: Konstrusaun | J68: 1 | K68: 31024.24 | M68: =K68+L68 -> 31024.24 | N68: 0 | O68: =M68-N68 -> 31024.24 | P68: 0 | Q68: =N68/M68 -> 0 | S68: 0 | T68: 0 | U68: 0 | V68: 0 | W68: 0
A69: =A68+1 -> 19 | B69: Ainaro | C69: Maubisse | D69: Maubisse | E69: 7 | G69: Obras Publikas | H69: Estrada Rurais (Estrada Betaun) | I69: Konstrusaun | J69: 1 | K69: 31169.89 | M69: =K69+L69 -> 31169.89 | N69: 0 | O69: =M69-N69 -> 31169.89 | P69: 0 | Q69: =N69/M69 -> 0 | S69: 0 | T69: 0 | U69: 0 | V69: 0 | W69: 0
A70: =A69+1 -> 20 | B70: Ainaro | C70: Maubisse | D70: Maulau | E70: 7 | G70: Obras Publikas | H70: Estrada Rurais (Estrada Rai) | I70: Konstrusaun | J70: 1 | K70: 28402.47 | M70: =K70+L70 -> 28402.47 | N70: 0 | O70: =M70-N70 -> 28402.47 | P70: 0 | Q70: =N70/M70 -> 0 | S70: 0 | T70: 0 | U70: 0 | V70: 0 | W70: 0
A71: =A70+1 -> 21 | B71: Ainaro | C71: Maubisse | D71: Suco Liurai (Maubisse) | E71: 7 | G71: Obras Publikas | H71: Estrada Rurais (Estrada Betaun) | I71: Konstrusaun | J71: 1 | K71: 25635.05 | M71: =K71+L71 -> 25635.05 | N71: 0 | O71: =M71-N71 -> 25635.05 | P71: 0 | Q71: =N71/M71 -> 0 | S71: 0 | T71: 0 | U71: 0 | V71: 0 | W71: 0
A72: Ainaro | D72: {=SUM(1/COUNTIF(D51:D71,D51:D71))} -> 21 | J72: =SUM(J51:J71) -> 21 | K72: =SUM(K51:K71) -> 557125.44 | L72: =SUM(L51:L71) -> 0 | M72: =SUM(M51:M71) -> 557125.44 | N72: =SUM(N51:N71) -> 0 | O72: =SUM(O51:O71) -> 557125.44 | P72: =SUM(P51:P71) -> 0 | Q72: =N72/M72 -> 0 | R72: =AVERAGE(R51:R71) -> #DIV/0! | S72: =SUM(S51:S71) -> 0 | T72: =SUM(T51:T71) -> 0 | U72: =SUM(U51:U71) -> 0 | V72: =SUM(V51:V71) -> 0 | W72: =SUM(W51:W71) -> 0
A73: 1 | B73: Atauro | C73: Atauro | D73: Beloi | E73: 7 | G73: Bee no Saneamentu | H73: Tanke Udan Be'en (Betaun) | I73: Konstrusaun | J73: 1 | K73: 0 | M73: =K73+L73 -> 0 | N73: 0 | O73: =M73-N73 -> 0 | P73: 0 | Q73: =N73/M73 -> #DIV/0! | S73: 0 | T73: 0 | U73: 0 | V73: 0 | W73: 0
A74: =A73+1 -> 2 | B74: Atauro | C74: Atauro | D74: Biqueli | E74: 7 | G74: Obras Publikas | H74: Estrada Rurais (Estrada Rai) | I74: Konstrusaun | J74: 1 | K74: 0 | M74: =K74+L74 -> 0 | N74: 0 | O74: =M74-N74 -> 0 | P74: 0 | Q74: =N74/M74 -> #DIV/0! | S74: 0 | T74: 0 | U74: 0 | V74: 0 | W74: 0
A75: =A74+1 -> 3 | B75: Atauro | C75: Atauro | D75: Macadade | E75: 7 | G75: Edukasaun no Desportu | H75: Eskola Infantil / Pre-Primaria | I75: Konstrusaun | J75: 1 | K75: 0 | M75: =K75+L75 -> 0 | N75: 0 | O75: =M75-N75 -> 0 | P75: 0 | Q75: =N75/M75 -> #DIV/0! | S75: 0 | T75: 0 | U75: 0 | V75: 0 | W75: 0
A76: =A75+1 -> 4 | B76: Atauro | C76: Atauro | D76: Maquili | E76: 7 | G76: Obras Publikas | H76: Estrada Rurais (Estrada Rai) | I76: Konstrusaun | J76: 1 | K76: 0 | M76: =K76+L76 -> 0 | N76: 0 | O76: =M76-N76 -> 0 | P76: 0 | Q76: =N76/M76 -> #DIV/0! | S76: 0 | T76: 0 | U76: 0 | V76: 0 | W76: 0
A77: =A76+1 -> 5 | B77: Atauro | C77: Atauro | D77: Villa Maumeta | E77: 7 | G77: Obras Publikas | H77: Estrada Rurais (Estrada Rai) | I77: Konstrusaun | J77: 1 | K77: 0 | M77: =K77+L77 -> 0 | N77: 0 | O77: =M77-N77 -> 0 | P77: 0 | Q77: =N77/M77 -> #DIV/0! | S77: 0 | T77: 0 | U77: 0 | V77: 0 | W77: 0
A78: Atauro | D78: {=SUM(1/COUNTIF(D73:D77,D73:D77))} -> 5 | J78: =SUM(J73:J77) -> 5 | K78: =SUM(K73:K77) -> 0 | L78: =SUM(L73:L77) -> 0 | M78: =SUM(K78+L78) -> 0 | N78: =SUM(N73:N77) -> 0 | O78: =SUM(O73:O77) -> 0 | P78: =SUM(P73:P77) -> 0 | Q78: =N78/M78 -> #DIV/0! | R78: =AVERAGE(R73:R77) -> #DIV/0! | S78: =SUM(S73:S77) -> 0 | T78: =SUM(T73:T77) -> 0 | U78: =SUM(U73:U77) -> 0 | V78: =SUM(V73:V77) -> 0 | W78: =SUM(W73:W77) -> 0
A79: 1 | B79: Baucau | C79: Baguia | D79: ='[2]POM 4 2023 BA PDF (2)'!$C$36 -> Afaloicai | E79: 7 | F79: 001 | G79: Saude | H79: Residensia Pessoal Saude | I79: Konstrusaun | J79: 1 | K79: ='[3]Progres Infras'!$E$48 -> 37797 | M79: =K79+L79 -> 37797 | N79: 0 | O79: =M79-N79 -> 37797 | P79: 0 | Q79: =N79/M79 -> 0 | R79: 0.85 | S79: 0 | T79: 0 | U79: ='[4]Tra. 2025'!$J$22 -> 0 | V79: 0 | W79: 0
A80: =A79+1 -> 2 | B80: Baucau | C80: Baguia | D80: ='[2]POM 4 2023 BA PDF (2)'!$C$30 -> Alaua Craik | E80: 7 | F80: 005 | G80: Obras Publikas | H80: Estrada Rurais (Estrada Rai) | I80: Reabilitasaun | J80: 1 | K80: ='[3]Progres Infras'!$E$49 -> 37797 | M80: =K80+L80 -> 37797 | N80: 0 | O80: =M80-N80 -> 37797 | P80: 0 | Q80: =N80/M80 -> 0 | R80: 0.95 | S80: 0 | T80: 0 | U80: ='[4]Tra. 2025'!$J$23 -> 12 | V80: ='[4]Tra. 2025'!$K$23 -> 2 | W80: 0
A81: =A80+1 -> 3 | B81: Baucau | C81: Baguia | D81: ='[2]POM 4 2023 BA PDF (2)'!$C$15 -> Alaua Leten | E81: 7 | F81: 005 | G81: Obras Publikas | H81: Estrada Rurais (Estrada Betaun) | I81: Reabilitasaun | J81: 1 | K81: ='[3]Progres Infras'!$E$50 -> 37797 | M81: =K81+L81 -> 37797 | N81: 0 | O81: =M81-N81 -> 37797 | P81: 0 | Q81: =N81/M81 -> 0 | R81: 0.96 | T81: 0 | U81: ='[4]Tra. 2025'!$J$24 -> 0 | V81: 0 | W81: 0
A82: =A81+1 -> 4 | B82: Baucau | C82: Baguia | D82: ='[2]POM 4 2023 BA PDF (2)'!$C$18 -> Defauassi | E82: 7 | F82: 002 | G82: Bee no Saneamentu | H82: Sistema Bee Mos - Gravitasaun | I82: Reabilitasaun | J82: 1 | K82: ='[3]Progres Infras'!$E$51 -> 37651 | M82: =K82+L82 -> 37651 | N82: 0 | O82: =M82-N82 -> 37651 | P82: 0 | Q82: =N82/M82 -> 0 | R82: 1 | S82: 0 | T82: 0 | U82: ='[4]Tra. 2025'!$J$25 -> 0 | V82: 0 | W82: 0
A83: =A82+1 -> 5 | B83: Baucau | C83: Baguia | D83: ='[2]POM 4 2023 BA PDF (2)'!$C$24 -> Haeconi | E83: 7 | F83: 005 | G83: Obras Publikas | H83: Estrada Rurais (Estrada Rai) | I83: Konstrusaun | J83: 1 | K83: ='[3]Progres Infras'!$E$52 -> 41574 | M83: =K83+L83 -> 41574 | N83: 0 | O83: =M83-N83 -> 41574 | P83: 0 | Q83: =N83/M83 -> 0 | R83: 1 | S83: 1 | T83: 1 | U83: ='[4]Tra. 2025'!$J$26 -> 0 | V83: 0 | W83: 0
A84: =A83+1 -> 6 | B84: Baucau | C84: Baguia | D84: ='[2]POM 4 2023 BA PDF (2)'!$C$27 -> Larisula | E84: 7 | F84: 005 | G84: Obras Publikas | H84: Estrada Rurais (Estrada Rai) | I84: Reabilitasaun | J84: 1 | K84: ='[3]Progres Infras'!$E$53 -> 37797 | M84: =K84+L84 -> 37797 | N84: 0 | O84: =M84-N84 -> 37797 | P84: 0 | Q84: =N84/M84 -> 0 | R84: 1 | S84: 1 | T84: 1 | U84: ='[4]Tra. 2025'!$J$28 -> 0 | V84: 0 | W84: 0
A85: =A84+1 -> 7 | B85: Baucau | C85: Baguia | D85: ='[2]POM 4 2023 BA PDF (2)'!$C$21 -> Lavateri | E85: 7 | F85: 005 | G85: Obras Publikas | H85: Estrada Rurais (Estrada Rai) | I85: Konstrusaun | J85: 1 | K85: ='[3]Progres Infras'!$E$54 -> 34270 | M85: =K85+L85 -> 34270 | N85: 0 | O85: =M85-N85 -> 34270 | P85: 0 | Q85: =N85/M85 -> 0 | R85: 1 | S85: 1 | T85: 1 | U85: ='[4]Tra. 2025'!$J$28 -> 0 | V85: 0 | W85: 0
A86: =A85+1 -> 8 | B86: Baucau | C86: Baguia | D86: ='[2]POM 4 2023 BA PDF (2)'!$C$33 -> Ossohuna | E86: 7 | F86: 005 | G86: Obras Publikas | H86: Estrada Rurais (Estrada Rai) | I86: Konstrusaun | J86: 1 | K86: ='[3]Progres Infras'!$E$55 -> 37797 | M86: =K86+L86 -> 37797 | N86: 0 | O86: =M86-N86 -> 37797 | P86: 0 | Q86: =N86/M86 -> 0 | R86: 1 | S86: 0 | T86: 0 | U86: 0 | V86: 0 | W86: 0
A87: =A86+1 -> 9 | B87: Baucau | C87: Baguia | D87: ='[2]POM 4 2023 BA PDF (2)'!$C$39 -> Samalari | E87: 7 | F87: 002 | G87: Obras Publikas | H87: Estrada Rurais (Estrada Rai) | I87: Konstrusaun | J87: 1 | K87: ='[3]Progres Infras'!$E$56 -> 34270 | M87: =K87+L87 -> 34270 | N87: 0 | O87: =M87-N87 -> 34270 | P87: 0 | Q87: =N87/M87 -> 0 | R87: 1 | S87: 0 | T87: 0 | U87: 0 | V87: 0 | W87: 0
A88: =A87+1 -> 10 | B88: Baucau | C88: Baguia | D88: ='[2]POM 4 2023 BA PDF (2)'!$C$42 -> Uacala | E88: 7 | F88: 005 | G88: Obras Publikas | H88: Estrada Rurais (Estrada Rai) | I88: Konstrusaun | J88: 1 | K88: ='[3]Progres Infras'!$E$57 -> 34270 | M88: =K88+L88 -> 34270 | N88: 0 | O88: =M88-N88 -> 34270 | P88: 0 | Q88: =N88/M88 -> 0 | R88: 0.98 | S88: 0 | T88: 0 | U88: 0 | V88: 0 | W88: 0
A89: =A88+1 -> 11 | B89: Baucau | C89: Baucau Vila | D89: ='[2]POM 4 2023 BA PDF (2)'!$C$68 -> Bahu | E89: 7 | F89: 005 | G89: Obras Publikas | H89: Estrada Rurais (Estrada Rai) | I89: Reabilitasaun | J89: 1 | K89: ='[3]Progres Infras'!$E$36 -> 38547 | M89: =K89+L89 -> 38547 | N89: 0 | O89: =M89-N89 -> 38547 | P89: 0 | Q89: =N89/M89 -> 0 | R89: 1 | S89: 1 | T89: 0 | U89: 17 | V89: 8 | W89: 0
A90: =A89+1 -> 12 | B90: Baucau | C90: Baucau Vila | D90: ='[2]POM 4 2023 BA PDF (2)'!$C$71 -> Bucoli | E90: 7 | F90: 003 | G90: Edukasaun No Desportu | H90: Eskola Primaria | I90: Reabilitasaun | J90: 1 | K90: ='[3]Progres Infras'!$E$37 -> 34520 | M90: =K90+L90 -> 34520 | N90: 0 | O90: =M90-N90 -> 34520 | P90: 0 | Q90: =N90/M90 -> 0 | R90: 1 | S90: 0 | T90: 0 | U90: 0 | V90: 0 | W90: 0
A91: =A90+1 -> 13 | B91: Baucau | C91: Baucau Vila | D91: ='[2]POM 4 2023 BA PDF (2)'!$C$74 -> Buibau | E91: 7 | F91: 005 | G91: Obras Publikas | H91: Estrada Rurais (Estrada Betaun) | I91: Konstrusaun | J91: 1 | K91: ='[3]Progres Infras'!$E$38 -> 34770 | M91: =K91+L91 -> 34770 | N91: ='[3]Progres Infras'!$H$38 -> 5579.25 | O91: =M91-N91 -> 29190.75 | P91: 0 | Q91: =N91/M91 -> 0.1604616 | R91: 1 | S91: 1 | T91: 0 | U91: ='[4]Tra. 2025'!$J$35 -> 12 | V91: ='[4]Tra. 2025'!$K$35 -> 2 | W91: 0
A92: =A91+1 -> 14 | B92: Baucau | C92: Baucau Vila | D92: ='[2]POM 4 2023 BA PDF (2)'!$C$77 -> Buruma | E92: 7 | F92: 005 | G92: Obras Publikas | H92: Estrada Rurais (Estrada Betaun) | I92: Konstrusaun | J92: 1 | K92: 0 | M92: ='[3]Progres Infras'!$E$39 -> 38547 | N92: 0 | O92: =M92-N92 -> 38547 | P92: 0 | Q92: =N92/M92 -> 0 | R92: 1 | S92: 0 | T92: 0 | U92: 0 | V92: 0 | W92: 0
A93: =A92+1 -> 15 | B93: Baucau | C93: Baucau Vila | D93: ='[2]POM 4 2023 BA PDF (2)'!$C$80 -> Caibada | E93: 7 | F93: 005 | G93: Obras Publikas | H93: Drenazen - Hada Fatuk | I93: Reabilitasaun | J93: 1 | K93: 0 | M93: ='[3]Progres Infras'!$E$40 -> 30993 | N93: ='[3]Progres Infras'!$H$40 -> 455 | O93: =M93-N93 -> 30538 | P93: 0 | Q93: =N93/M93 -> 0.014680734 | R93: 1 | S93: 0 | T93: 0 | U93: 0 | V93: 0 | W93: 0
A94: =A93+1 -> 16 | B94: Baucau | C94: Baucau Vila | D94: Gar-iuai | E94: 7 | F94: 005 | G94: Obras Publikas | H94: Estrada Rurais (Estrada Rai) | I94: Reabilitasaun | J94: 1 | K94: 0 | M94: ='[3]Progres Infras'!$E$41 -> 38297 | N94: 0 | O94: =M94-N94 -> 38297 | P94: 0 | Q94: =N94/M94 -> 0 | R94: 1 | S94: 1 | T94: 0 | U94: 0 | V94: 0 | W94: 0
A95: =A94+1 -> 17 | B95: Baucau | C95: Baucau Vila | D95: Samalari | E95: 7 | F95: 003 | G95: Edukasaun No Desportu | H95: Eskola Primaria | I95: Estensaun | J95: 1 | K95: 0 | M95: ='[3]Progres Infras'!$E$42 -> 30743 | N95: 0 | O95: =M95-N95 -> 30743 | P95: 0 | Q95: =N95/M95 -> 0 | R95: 0.48 | S95: 0 | T95: 0 | U95: 0 | V95: 0 | W95: 0 | AA95: 657
A96: =A95+1 -> 18 | B96: Baucau | C96: Baucau Vila | D96: ='[2]POM 4 2023 BA PDF (2)'!$C$83 -> Seical | E96: 7 | F96: 005 | G96: Obras Publikas | H96: Estrada Rurais (Estrada Rai) | I96: Konstrusaun | J96: 1 | K96: 0 | M96: ='[3]Progres Infras'!$E$43 -> 30743 | N96: 0 | O96: =M96-N96 -> 30743 | P96: 0 | Q96: =N96/M96 -> 0 | R96: 1 | S96: 1 | T96: 0 | U96: 0 | V96: 0 | W96: 0 | AA96: 336
A97: =A96+1 -> 19 | B97: Baucau | C97: Baucau Vila | D97: ='[2]POM 4 2023 BA PDF (2)'!$C$86 -> Tirilolo | E97: 7 | F97: 005 | G97: Obras Publikas | H97: Estrada Rurais (Estrada Rai) | I97: Reabilitasaun | J97: 1 | K97: 0 | M97: ='[3]Progres Infras'!$E$44 -> 38547 | N97: 0 | O97: =M97-N97 -> 38547 | P97: 0 | Q97: =N97/M97 -> 0 | R97: 1 | S97: 1 | T97: 0 | U97: 0 | V97: 0 | W97: 0 | AA97: =AA96/AA95*100 -> 51.141553
A98: =A97+1 -> 20 | B98: Baucau | C98: Baucau Vila | D98: ='[2]POM 4 2023 BA PDF (2)'!$C$89 -> Triloka | E98: 7 | F98: 005 | G98: Obras Publikas | H98: Estrada Rurais (Estrada Rai) | I98: Konstrusaun | J98: 1 | K98: 0 | M98: ='[3]Progres Infras'!$E$45 -> 34520 | N98: 0 | O98: =M98-N98 -> 34520 | P98: 0 | Q98: =N98/M98 -> 0 | R98: 1 | S98: 1 | T98: 1 | U98: 0 | V98: 0 | W98: 0
A99: =A98+1 -> 21 | B99: Baucau | C99: Baucau Vila | D99: ='[2]POM 4 2023 BA PDF (2)'!$C$89 -> Triloka | F99: 006 | G99: Agrikultura, Seguransa Ailementar no Buka Moris | H99: Fatin Hakiak Fahi | I99: Konstrusaun | J99: 1 | R99: 0.7 | S99: 0 | T99: 0 | U99: 0 | V99: 0 | W99: 0 | X99: Fundus Addisional - Fatin Hakiak Fahi
A100: =A99+1 -> 22 | B100: Baucau | C100: Baucau Vila | D100: ='[2]POM 4 2023 BA PDF (2)'!$C$92 -> Uailili | E100: 7 | F100: 005 | G100: Obras Publikas | H100: Estrada Rurais (Estrada Rai) | I100: Reabilitasaun | J100: 1 | K100: 0 | M100: ='[3]Progres Infras'!$E$46 -> 34520 | N100: 0 | O100: =M100-N100 -> 34520 | P100: 0 | Q100: =N100/M100 -> 0 | R100: 1 | S100: 1 | T100: 0 | U100: ='[4]Tra. 2025'!$J$43 -> 18 | V100: ='[4]Tra. 2025'!$K$43 -> 1 | W100: 0
A101: =A100+1 -> 23 | B101: Baucau | C101: Laga | D101: ='[2]POM 4 2023 BA PDF (2)'!$C$139 -> Atelari | E101: 7 | F101: 005 | G101: Obras Publikas | H101: Estrada Rurais (Estrada Rai) | I101: Konstrusaun | J101: 1 | K101: 0 | M101: ='[3]Progres Infras'!$E$11 -> 34270 | N101: 0 | O101: =M101-N101 -> 34270 | P101: 0 | Q101: =N101/M101 -> 0 | R101: 1 | S101: 0 | T101: 0 | U101: 0 | V101: 0 | W101: 0
A102: =A101+1 -> 24 | B102: Baucau | C102: Laga | D102: ='[2]POM 4 2023 BA PDF (2)'!$C$124 -> Libagua | E102: 7 | F102: 005 | G102: Obras Publikas | H102: Estrada Rurais (Estrada Rai) | I102: Reabilitasaun | J102: 1 | K102: 0 | M102: ='[3]Progres Infras'!$E$12 -> 34270 | N102: 13862.8 | O102: =M102-N102 -> 20407.2 | P102: 0 | Q102: =N102/M102 -> 0.40451707 | R102: 1 | S102: 0 | T102: 0 | U102: ='[4]Tra. 2025'!$J$46 -> 33 | V102: 0 | W102: 0
A103: =A102+1 -> 25 | B103: Baucau | C103: Laga | D103: ='[2]POM 4 2023 BA PDF (2)'!$C$127 -> Nunira | E103: 7 | F103: 005 | G103: Obras Publikas | H103: Estrada Rurais (Estrada Betaun) | I103: Reabilitasaun | J103: 1 | K103: 0 | M103: ='[3]Progres Infras'!$E$13 -> 34270 | N103: ='[3]Progres Infras'!$H$13 -> 15392.3 | O103: =M103-N103 -> 18877.7 | P103: 0 | Q103: =N103/M103 -> 0.44914794 | R103: 1 | S103: 0 | T103: 0 | U103: ='[4]Tra. 2025'!$J$47 -> 13 | V103: 0 | W103: 0
A104: =A103+1 -> 26 | B104: Baucau | C104: Laga | D104: ='[2]POM 4 2023 BA PDF (2)'!$C$133 -> Saelari | E104: 7 | F104: 005 | G104: Obras Publikas | H104: Estrada Rurais (Estrada Betaun) | I104: Reabilitasaun | J104: 1 | K104: 0 | M104: ='[3]Progres Infras'!$E$14 -> 38047 | N104: 18319.5 | O104: =M104-N104 -> 19727.5 | P104: 0 | Q104: =N104/M104 -> 0.48149657 | R104: 1 | S104: 0 | T104: 0 | U104: 0 | V104: 0 | W104: 0
A105: =A104+1 -> 27 | B105: Baucau | C105: Laga | D105: ='[2]POM 4 2023 BA PDF (2)'!$C$136 -> Sagadate | E105: 7 | F105: 005 | G105: Obras Publikas | H105: Estrada Rurais (Estrada Rai) | I105: Reabilitasaun | J105: 1 | K105: 0 | M105: ='[3]Progres Infras'!$E$15 -> 38047 | N105: 18933.45 | O105: =M105-N105 -> 19113.55 | P105: 0 | Q105: =N105/M105 -> 0.49763319 | R105: 1 | S105: 0 | T105: 0 | U105: 0 | V105: 0 | W105: 0
A106: =A105+1 -> 28 | B106: Baucau | C106: Laga | D106: ='[2]POM 4 2023 BA PDF (2)'!$C$130 -> Samalari | E106: 7 | F106: 005 | G106: Obras Publikas | H106: Estrada Rurais (Estrada Rai) | I106: Konstrusaun | J106: 1 | K106: 0 | M106: ='[3]Progres Infras'!$E$16 -> 38047 | N106: 0 | O106: =M106-N106 -> 38047 | P106: 0 | Q106: =N106/M106 -> 0 | R106: 1 | S106: 0 | T106: 0 | U106: 0 | V106: 0 | W106: 0
A107: =A106+1 -> 29 | B107: Baucau | C107: Laga | D107: ='[2]POM 4 2023 BA PDF (2)'!$C$121 -> Soba | E107: 7 | F107: 005 | G107: Edukasaun No Desportu | H107: Eskola Primaria | I107: Estensaun | J107: 1 | K107: 0 | M107: ='[3]Progres Infras'!$E$17 -> 34520 | N107: 0 | O107: =M107-N107 -> 34520 | P107: 0 | Q107: =N107/M107 -> 0 | R107: 1 | S107: 0 | T107: 0 | U107: 0 | V107: 0 | W107: 0
A108: =A107+1 -> 30 | B108: Baucau | C108: Laga | D108: ='[2]POM 4 2023 BA PDF (2)'!$C$118 -> Tequinomata | E108: 7 | F108: 002 | G108: Bee no Saneamentu | H108: Sistema Bee Mos - Bomba (Bomba Submersible/Bomba Sentrifugal) | I108: Reabilitasaun | J108: 1 | K108: 0 | M108: ='[3]Progres Infras'!$E$18 -> 34520 | N108: 0 | O108: =M108-N108 -> 34520 | P108: 0 | Q108: =N108/M108 -> 0 | R108: 1 | S108: 0 | T108: 0 | U108: ='[4]Tra. 2025'!$J$52 -> 9 | V108: 0 | W108: 0
A109: =A108+1 -> 31 | B109: Baucau | C109: Quelicai | D109: ='[2]POM 4 2023 BA PDF (2)'!$C$269 -> Abafala | E109: 7 | F109: 005 | G109: Obras Publikas | H109: Estrada Rurais (Estrada Betaun) | I109: Reabilitasaun | J109: 1 | K109: 0 | M109: ='[3]Progres Infras'!$E$20 -> 30743 | N109: 0 | O109: =M109-N109 -> 30743 | P109: 0 | Q109: =N109/M109 -> 0 | R109: 0.95 | S109: 0 | T109: 0 | U109: 0 | V109: 0 | W109: 0
A110: =A109+1 -> 32 | B110: Baucau | C110: Quelicai | D110: ='[2]POM 4 2023 BA PDF (2)'!$C$263 -> Baguia | E110: 7 | F110: 002 | G110: Bee no Saneamentu | H110: Sistema Bee Mos - Bomba (Bomba Submersible/Bomba Sentrifugal) | I110: Konstrusaun | J110: 1 | K110: 0 | M110: ='[3]Progres Infras'!$E$23 -> 34270 | N110: 0 | O110: =M110-N110 -> 34270 | P110: 0 | Q110: =N110/M110 -> 0 | R110: 0.95 | S110: 0 | T110: 0 | U110: 0 | V110: 0 | W110: 0
A111: =A110+1 -> 33 | B111: Baucau | C111: Quelicai | D111: ='[2]POM 4 2023 BA PDF (2)'!$C$260 -> Bualale | E111: 7 | F111: 005 | G111: Setor Seluk | H111: Kampu Multi Funsaun | I111: Reabilitasaun | J111: 1 | K111: 0 | M111: ='[3]Progres Infras'!$E$24 -> 38047 | N111: 0 | O111: =M111-N111 -> 38047 | P111: 0 | Q111: =N111/M111 -> 0 | R111: 0.97 | S111: 0 | T111: 0 | U111: 0 | V111: 0 | W111: 0
A112: =A111+1 -> 34 | B112: Baucau | C112: Quelicai | D112: ='[2]POM 4 2023 BA PDF (2)'!$C$284 -> Lacoliu | E112: 7 | F112: 005 | G112: Obras Publikas | H112: Estrada Rurais (Estrada Betaun) | I112: Reabilitasaun | J112: 1 | K112: 0 | M112: ='[3]Progres Infras'!$E$30 -> 34270 | N112: 0 | O112: =M112-N112 -> 34270 | P112: 0 | Q112: =N112/M112 -> 0 | R112: 0.82 | S112: 0 | T112: 0 | U112: 0 | V112: 0 | W112: 0
A113: =A112+1 -> 35 | B113: Baucau | C113: Quelicai | D113: ='[2]POM 4 2023 BA PDF (2)'!$C$272 -> Letemumo | E113: 7 | F113: 002 | G113: Obras Publikas | H113: Estrada Rurais (Estrada Rai) | I113: Konstrusaun | J113: 1 | K113: 0 | M113: ='[3]Progres Infras'!$E$29 -> 34270 | N113: 0 | O113: =M113-N113 -> 34270 | P113: 0 | Q113: =N113/M113 -> 0 | R113: 0.95 | S113: 0 | T113: 0 | U113: 0 | V113: 0 | W113: 0
A114: =A113+1 -> 36 | B114: Baucau | C114: Quelicai | D114: Macalaco | E114: 7 | F114: 005 | G114: Obras Publikas | H114: Estrada Rurais (Estrada Rai) | I114: Reabilitasaun | J114: 1 | K114: 0 | M114: ='[3]Progres Infras'!$E$31 -> 34270 | N114: 0 | O114: =M114-N114 -> 34270 | P114: 0 | Q114: =N114/M114 -> 0 | R114: 1 | S114: 0 | T114: 0 | U114: 0 | V114: 0 | W114: 0
A115: =A114+1 -> 37 | B115: Baucau | C115: Quelicai | D115: ='[2]POM 4 2023 BA PDF (2)'!$C$299 -> Uaitame | E115: 7 | F115: 005 | G115: Obras Publikas | H115: Estrada Rurais (Estrada Rai) | I115: Konstrusaun | J115: 1 | K115: 0 | M115: ='[3]Progres Infras'!$E$34 -> 38047 | N115: 0 | O115: =M115-N115 -> 38047 | P115: 0 | Q115: =N115/M115 -> 0 | R115: 0.57 | S115: 0 | T115: 0 | U115: 0 | V115: 0 | W115: 0
A116: =A115+1 -> 38 | B116: Baucau | C116: Matebian | D116: ='[2]POM 4 2023 BA PDF (2)'!$C$257 -> Abo | E116: 7 | F116: 005 | G116: Obras Publikas | H116: Estrada Rurais (Estrada Betaun) | I116: Reabilitasaun | J116: 1 | K116: 0 | M116: ='[3]Progres Infras'!$E$21 -> 34270 | N116: 0 | O116: =M116-N116 -> 34270 | P116: 0 | Q116: =N116/M116 -> 0 | R116: 1 | S116: 0 | T116: 0 | U116: ='[4]Tra. 2025'!$J$62 -> 10 | V116: 0 | W116: 0
A117: =A116+1 -> 39 | B117: Baucau | C117: Matebian | D117: ='[2]POM 4 2023 BA PDF (2)'!$C$278 -> Laisor. De Baixo | E117: 7 | F117: 005 | G117: Obras Publikas | H117: Estrada Rurais (Estrada Betaun) | I117: Reabilitasaun | J117: 1 | K117: 0 | M117: ='[3]Progres Infras'!$E$26 -> 34270 | N117: 0 | O117: =M117-N117 -> 34270 | P117: 0 | Q117: =N117/M117 -> 0 | R117: 1 | S117: 0 | T117: 0 | U117: 0 | V117: 0 | W117: 0
A118: =A117+1 -> 40 | B118: Baucau | C118: Matebian | D118: ='[2]POM 4 2023 BA PDF (2)'!$C$275 -> Laisor. De Cima | E118: 7 | F118: 004 | G118: Agrikultura, Seguransa Ailementar no Buka Moris | H118: Bee Kanu (Sekundaria/kanu distribuisaun) - Hada Fatuk | I118: Konstrusaun | J118: 1 | K118: 0 | M118: ='[3]Progres Infras'!$E$27 -> 34270 | N118: 0 | O118: =M118-N118 -> 34270 | P118: 0 | Q118: =N118/M118 -> 0 | R118: 0.92 | S118: 0 | T118: 0 | U118: 0 | V118: 0 | W118: 0
A119: =A118+1 -> 41 | B119: Baucau | C119: Matebian | D119: ='[2]POM 4 2023 BA PDF (2)'!$C$287 -> Maluro | E119: 7 | F119: 004 | G119: Agrikultura, Seguransa Ailementar no Buka Moris | H119: Bee Kanu (Sekundaria/kanu distribuisaun) - Hada Fatuk | I119: Konstrusaun | J119: 1 | K119: 0 | M119: ='[3]Progres Infras'!$E$32 -> 34270 | N119: 0 | O119: =M119-N119 -> 34270 | P119: 0 | Q119: =N119/M119 -> 0 | R119: 1 | S119: 0 | T119: 0 | U119: 0 | V119: 0 | W119: 0
A120: =A119+1 -> 42 | B120: Baucau | C120: Matebian | D120: ='[2]POM 4 2023 BA PDF (2)'!$C$296 -> Lelalai | E120: 7 | F120: 005 | G120: Obras Publikas | H120: Bareiras (Tembok Penahan) - Hada Fatuk | I120: Konstrusaun | J120: 1 | K120: 0 | M120: ='[3]Progres Infras'!$E$28 -> 34270 | N120: 0 | O120: =M120-N120 -> 34270 | P120: 0 | Q120: =N120/M120 -> 0 | R120: 1 | S120: 0 | T120: 0 | U120: 0 | V120: 0 | W120: 0
A121: =A120+1 -> 43 | B121: Baucau | C121: Quelicai Antigu | D121: ='[2]POM 4 2023 BA PDF (2)'!$C$266 -> Afaca | E121: 7 | F121: 005 | G121: Obras Publikas | H121: Estrada Rurais (Estrada Betaun) | I121: Konstrusaun | J121: 1 | K121: 0 | M121: ='[3]Progres Infras'!$E$22 -> 34270 | N121: 0 | O121: =M121-N121 -> 34270 | P121: 0 | Q121: =N121/M121 -> 0 | R121: 1 | S121: 0 | T121: 0 | U121: 0 | V121: 0 | W121: 0
A122: =A121+1 -> 44 | B122: Baucau | C122: Quelicai Antigu | D122: ='[2]POM 4 2023 BA PDF (2)'!$C$293 -> Guruca | E122: 7 | F122: 005 | G122: Obras Publikas | H122: Estrada Rurais (Estrada Rai) | I122: Reabilitasaun | J122: 1 | K122: 0 | M122: ='[3]Progres Infras'!$E$25 -> 30743 | N122: 0 | O122: =M122-N122 -> 30743 | P122: 0 | Q122: =N122/M122 -> 0 | R122: 1 | S122: 0 | T122: 0 | U122: 0 | V122: 0 | W122: 0
A123: =A122+1 -> 45 | B123: Baucau | C123: Quelicai Antigu | D123: ='[2]POM 4 2023 BA PDF (2)'!$C$281 -> Namanei | E123: 7 | F123: 005 | G123: Obras Publikas | H123: Estrada Rurais (Estrada Rai) | I123: Konstrusaun | J123: 1 | K123: 0 | M123: ='[3]Progres Infras'!$E$33 -> 34270 | N123: 0 | O123: =M123-N123 -> 34270 | P123: 0 | Q123: =N123/M123 -> 0 | R123: 1 | S123: 0 | T123: 0 | U123: 0 | V123: 0 | W123: 0
A124: =A123+1 -> 46 | B124: Baucau | C124: Vemasse | D124: ='[2]POM 4 2023 BA PDF (2)'!$C$214 -> Caicua | E124: 7 | F124: 005 | G124: Obras Publikas | H124: Estrada Rurais (Estrada Rai) | I124: Konstrusaun | J124: 1 | K124: 0 | M124: ='[3]Progres Infras'!$E$59 -> 34270 | N124: 0 | O124: =M124-N124 -> 34270 | P124: 0 | Q124: =N124/M124 -> 0 | R124: 1 | S124: 1 | T124: 1 | U124: ='[4]Tra. 2025'!$J$72 -> 30 | V124: 0 | W124: 0
A125: =A124+1 -> 47 | B125: Baucau | C125: Vemasse | D125: ='[2]POM 4 2023 BA PDF (2)'!$C$217 -> Loilubu | E125: 7 | F125: 002 | G125: Bee no Saneamentu | H125: Sistema Bee Mos - Bomba (Bomba Submersible/Bomba Sentrifugal) | I125: Reabilitasaun | J125: 1 | K125: 0 | M125: ='[3]Progres Infras'!$E$60 -> 30743 | N125: 0 | O125: =M125-N125 -> 30743 | P125: 0 | Q125: =N125/M125 -> 0 | R125: 1 | S125: 0 | T125: 0 | U125: 0 | V125: 0 | W125: 0
A126: =A125+1 -> 48 | B126: Baucau | C126: Vemasse | D126: ='[2]POM 4 2023 BA PDF (2)'!$C$217 -> Loilubu | E126: 7 | F126: 005 | G126: Obras Publikas | H126: Estrada Rurais (Estrada Rai) | I126: Reabilitasaun | J126: 1 | K126: 0 | R126: 1
A127: =A126+1 -> 49 | B127: Baucau | C127: Vemasse | D127: ='[2]POM 4 2023 BA PDF (2)'!$C$220 -> OssoAla | E127: 7 | F127: 005 | G127: Obras Publikas | H127: Estrada Rurais (Estrada Rai) | I127: Konstrusaun | J127: 1 | K127: 0 | M127: ='[3]Progres Infras'!$E$61 -> 30743 | N127: ='[3]Progres Infras'!$H$61 -> 13039 | O127: =M127-N127 -> 17704 | P127: 0 | Q127: =N127/M127 -> 0.42412907 | R127: 1 | S127: 1 | T127: 1 | U127: 0 | V127: 0 | W127: 0
A128: =A127+1 -> 50 | B128: Baucau | C128: Vemasse | D128: ='[2]POM 4 2023 BA PDF (2)'!$C$223 -> Ostico | E128: 7 | F128: 005 | G128: Obras Publikas | H128: Estrada Rurais (Estrada Rai) | I128: Reabilitasaun | J128: 1 | K128: 0 | M128: ='[3]Progres Infras'!$E$62 -> 30743 | N128: 0 | O128: =M128-N128 -> 30743 | P128: 0 | Q128: =N128/M128 -> 0 | R128: 1 | S128: 1 | T128: 1 | U128: 0 | V128: 0 | W128: 0
A129: =A128+1 -> 51 | B129: Baucau | C129: Vemasse | D129: ='[2]POM 4 2023 BA PDF (2)'!$C$226 -> Uaigae | E129: 7 | F129: 005 | G129: Obras Publikas | H129: Estrada Rurais (Estrada Betaun) | I129: Konstrusaun | J129: 1 | K129: 0 | M129: ='[3]Progres Infras'!$E$63 -> 34270 | N129: ='[3]Progres Infras'!$H$63 -> 5683.02 | O129: =M129-N129 -> 28586.98 | P129: 0 | Q129: =N129/M129 -> 0.16583076 | R129: 1 | S129: 1 | T129: 1 | U129: ='[4]Tra. 2025'!$J$76 -> 5 | V129: 0 | W129: 0
A130: =A129+1 -> 52 | B130: Baucau | C130: Vemasse | D130: ='[2]POM 4 2023 BA PDF (2)'!$C$229 -> Uatolari | E130: 7 | F130: 005 | G130: Obras Publikas | H130: Estrada Rurais (Estrada Rai) | I130: Konstrusaun | J130: 1 | K130: 0 | M130: ='[3]Progres Infras'!$E$64 -> 30743 | N130: 0 | O130: =M130-N130 -> 30743 | P130: 0 | Q130: =N130/M130 -> 0 | R130: 1 | S130: 1 | T130: 1 | U130: 0 | V130: 0 | W130: 0
A131: =A130+1 -> 53 | B131: Baucau | C131: Vemasse | D131: ='[2]POM 4 2023 BA PDF (2)'!$C$232 -> Vemasse | E131: 7 | F131: 005 | G131: Obras Publikas | H131: Estrada Rurais (Estrada Telford) | I131: Konstrusaun | J131: 1 | K131: 0 | M131: ='[3]Progres Infras'!$E$65 -> 41824 | N131: 0 | O131: =M131-N131 -> 41824 | P131: 0 | Q131: =N131/M131 -> 0 | R131: 1 | S131: 1 | T131: 1 | U131: ='[4]Tra. 2025'!$J$78 -> 21 | V131: 0 | W131: 0
...

Sheet SIKLU 7_LAO HELA
A1: LISTA PROJETU 2025 NEBE MAK SEI LAO HELA
A2: Nu. | B2: Munisipiu | C2: PA | D2: Suku | E2: Setor | F2: Naran Projetu | G2: Atividade | H2: % Fiziku | I2: Observasaun
A3: 1 | B3: Baucau | C3: Baguia | D3: Afaloicai | E3: Saude | F3: Residensia Pessoal Saude | G3: Konstrusaun | H3: 0.65
A4: 2 | B4: Baucau | C4: Baguia | D4: Alaua Craik | E4: Obras Publikas | F4: Estrada Rurais (Estrada Rai) | G4: Reabilitasaun | H4: 0.32
A5: 3 | B5: Baucau | C5: Baguia | D5: Alaua Leten | E5: Obras Publikas | F5: Estrada Rurais (Estrada Betaun) | G5: Reabilitasaun | H5: 0.86
A6: 4 | B6: Baucau | C6: Baguia | D6: Defauassi | E6: Bee no Saneamentu | F6: Sistema Bee Mos - Gravitasaun | G6: Reabilitasaun | H6: 0.83
A7: 5 | B7: Baucau | C7: Baguia | D7: Ossohuna | E7: Obras Publikas | F7: Estrada Rurais (Estrada Rai) | G7: Konstrusaun | H7: 0.87
A8: 6 | B8: Baucau | C8: Baguia | D8: Uacala | E8: Obras Publikas | F8: Estrada Rurais (Estrada Rai) | G8: Konstrusaun | H8: 0.7
A9: 7 | B9: Baucau | C9: Baucau Vila | D9: Bucoli | E9: Edukasaun No Desportu | F9: Eskola Primaria | G9: Reabilitasaun | H9: 0.73
A10: 8 | B10: Baucau | C10: Baucau Vila | D10: Caibada | E10: Obras Publikas | F10: Drenazen - Hada Fatuk | G10: Reabilitasaun | H10: 0.75
A11: 9 | B11: Baucau | C11: Baucau Vila | D11: Samalari | E11: Edukasaun No Desportu | F11: Eskola Primaria | G11: Estensaun | H11: 0.3
A12: 10 | B12: Baucau | C12: Baucau Vila | D12: Triloka | E12: Agrikultura, Seguransa Ailementar no Buka Moris | F12: Fatin Hakiak Fahi (Fahi Luhan) | G12: Konstrusaun | H12: 0.1 | I12: PROJETU ADDISIONAL
A13: 11 | B13: Baucau | C13: Laga | D13: Saelari | E13: Obras Publikas | F13: Estrada Rurais (Estrada Betaun) | G13: Reabilitasaun | H13: 0.95
A14: 12 | B14: Baucau | C14: Laga | D14: Samalari | E14: Obras Publikas | F14: Estrada Rurais (Estrada Rai) | G14: Konstrusaun | H14: 0.95
A15: 13 | B15: Baucau | C15: Laga | D15: Soba | E15: Edukasaun No Desportu | F15: Eskola Primaria | G15: Estensaun | H15: 0.6599
A16: 14 | B16: Baucau | C16: Quelicai | D16: Abafala | E16: Obras Publikas | F16: Estrada Rurais (Estrada Betaun) | G16: Reabilitasaun | H16: 0.59
A17: 15 | B17: Baucau | C17: Quelicai | D17: Baguia | E17: Bee no Saneamentu | F17: Sistema Bee Mos - Bomba (Bomba Submersible/Bomba Sentrifugal) | G17: Konstrusaun | H17: 0.4
A18: 16 | B18: Baucau | C18: Quelicai | D18: Bualale | E18: Setor Seluk | F18: Kampu Multi Funsaun | G18: Reabilitasaun | H18: 0.4
A19: 17 | B19: Baucau | C19: Quelicai | D19: Lacoliu | E19: Obras Publikas | F19: Estrada Rurais (Estrada Betaun) | G19: Reabilitasaun | H19: 0.67
A20: 18 | B20: Baucau | C20: Quelicai | D20: Letemumo | E20: Bee no Saneamentu | F20: Sistema Bee Mos - Bomba (Bomba Submersible/Bomba Sentrifugal) | G20: Konstrusaun | H20: 0.84
A21: 19 | B21: Baucau | C21: Quelicai | D21: Uaitame | E21: Obras Publikas | F21: Estrada Rurais (Estrada Rai) | G21: Konstrusaun | H21: 0.15
A22: 20 | B22: Baucau | C22: Matebian | D22: Abo | E22: Obras Publikas | F22: Estrada Rurais (Estrada Betaun) | G22: Reabilitasaun | H22: 0.95
A23: 21 | B23: Baucau | C23: Matebian | D23: Laisor. De Baixo | E23: Obras Publikas | F23: Estrada Rurais (Estrada Betaun) | G23: Reabilitasaun | H23: 0.93
A24: 22 | B24: Baucau | C24: Matebian | D24: Laisor. De Cima | E24: Agrikultura, Seguransa Ailementar no Buka Moris | F24: Bee Kanu (Sekundaria/kanu distribuisaun) - Hada Fatuk | G24: Konstrusaun | H24: 0.67
... A28: 26 | B28: Baucau | C28: Vemasse | D28: Loilubu | E28: Obras Publikas | F28: Estrada Rurais (Estrada Rai) | G28: Reabilitasaun | H28: 0.15

Sheet SIKLUS-7 KADA POSTU
A8: PROGRESU ATIVIDADE PROGRAMA NASIONAL DEZENVOLVIMENTU SUKU (PNDS)
A9: FAZE1, FAZE 2 & FAZE 3 SIKLU 7
A10: TINAN 2025
A11: ATUALIZA IHA FULAN : AGOSTU 2025
A13: Nu. | B13: Munisipiu | C13: PA | D13: Suku | E13: Faze / Siklus | F13: Kode Setor | G13: Setor | H13: Naran Projetu | I13: Atividade | J13: FINALIZA | K13: LAO HELA | L13: SEIDAUK IMPLEMENTA | M13: Total Projetu | N13: Alokasaun Orsamentu | Q13: Gasta | R13: Balansu | S13: Osan restu | T13: % Gasta | U13: % Fiziku | V13: Status SAD | W13: Status SAI | X13: Traballador
N14: Transfere | O14: Osan Restu | P14: Total | X14: Feto | Y14: Mane | Z14: EHD
A16: 1 | B16: Baucau | C16: Baguia | D16: ='[2]POM 4 2023 BA PDF (2)'!$C$36 -> Afaloicai | E16: 7 | F16: 001 | G16: Saude | H16: Residensia Pessoal Saude | I16: Konstrusaun | K16: 1 | M16: =J16+K16+L16 -> 1 | N16: ='[3]Progres Infras'!$E$48 -> 37797 | P16: =N16+O16 -> 37797 | Q16: 0 | R16: =P16-Q16 -> 37797 | S16: 0 | T16: =Q16/P16 -> 0 | U16: ='SIKLUS-7'!R79 -> 0.85 | V16: ='SIKLUS-7'!S79 -> 0 | W16: ='SIKLUS-7'!T79 -> 0 | X16: ='SIKLUS-7'!U79 -> 0 | Y16: ='SIKLUS-7'!V79 -> 0 | Z16: ='SIKLUS-7'!W79 -> 0
A17: =A16+1 -> 2 | B17: Baucau | C17: Baguia | D17: ='[2]POM 4 2023 BA PDF (2)'!$C$30 -> Alaua Craik | E17: 7 | F17: 005 | G17: Obras Publikas | H17: Estrada Rurais (Estrada Rai) | I17: Reabilitasaun | K17: 1 | M17: =J17+K17+L17 -> 1 | N17: ='[3]Progres Infras'!$E$49 -> 37797 | P17: =N17+O17 -> 37797 | Q17: 0 | R17: =P17-Q17 -> 37797 | S17: 0 | T17: =Q17/P17 -> 0 | U17: ='SIKLUS-7'!R80 -> 0.95 | V17: ='SIKLUS-7'!S80 -> 0 | W17: ='SIKLUS-7'!T80 -> 0 | X17: ='SIKLUS-7'!U80 -> 12 | Y17: ='SIKLUS-7'!V80 -> 2 | Z17: ='SIKLUS-7'!W80 -> 0
A18: =A17+1 -> 3 | B18: Baucau | C18: Baguia | D18: ='[2]POM 4 2023 BA PDF (2)'!$C$15 -> Alaua Leten | E18: 7 | F18: 005 | G18: Obras Publikas | H18: Estrada Rurais (Estrada Betaun) | I18: Reabilitasaun | K18: 1 | M18: =J18+K18+L18 -> 1 | N18: ='[3]Progres Infras'!$E$50 -> 37797 | P18: =N18+O18 -> 37797 | Q18: 0 | R18: =P18-Q18 -> 37797 | S18: 0 | T18: =Q18/P18 -> 0 | U18: ='SIKLUS-7'!R81 -> 0.96 | V18: ='SIKLUS-7'!S81 -> 0 | W18: ='SIKLUS-7'!T81 -> 0 | X18: ='SIKLUS-7'!U81 -> 0 | Y18: ='SIKLUS-7'!V81 -> 0 | Z18: ='SIKLUS-7'!W81 -> 0
A19: =A18+1 -> 4 | B19: Baucau | C19: Baguia | D19: ='[2]POM 4 2023 BA PDF (2)'!$C$18 -> Defauassi | E19: 7 | F19: 002 | G19: Bee no Saneamentu | H19: Sistema Bee Mos - Gravitasaun | I19: Reabilitasaun | K19: 1 | M19: =J19+K19+L19 -> 1 | N19: ='[3]Progres Infras'!$E$51 -> 37651 | P19: =N19+O19 -> 37651 | Q19: 0 | R19: =P19-Q19 -> 37651 | S19: 0 | T19: =Q19/P19 -> 0 | U19: ='SIKLUS-7'!R82 -> 1 | V19: ='SIKLUS-7'!S82 -> 0 | W19: ='SIKLUS-7'!T82 -> 0 | X19: ='SIKLUS-7'!U82 -> 0 | Y19: ='SIKLUS-7'!V82 -> 0 | Z19: ='SIKLUS-7'!W82 -> 0
A20: =A19+1 -> 5 | B20: Baucau | C20: Baguia | D20: ='[2]POM 4 2023 BA PDF (2)'!$C$24 -> Haeconi | E20: 7 | F20: 005 | G20: Obras Publikas | H20: Estrada Rurais (Estrada Rai) | I20: Konstrusaun | J20: 1 | M20: =J20+K20+L20 -> 1 | N20: ='[3]Progres Infras'!$E$52 -> 41574 | P20: =N20+O20 -> 41574 | Q20: 0 | R20: =P20-Q20 -> 41574 | S20: 0 | T20: =Q20/P20 -> 0 | U20: ='SIKLUS-7'!R83 -> 1 | V20: ='SIKLUS-7'!S83 -> 1 | W20: ='SIKLUS-7'!T83 -> 1 | X20: ='SIKLUS-7'!U83 -> 0 | Y20: ='SIKLUS-7'!V83 -> 0 | Z20: ='SIKLUS-7'!W83 -> 0
A21: =A20+1 -> 6 | B21: Baucau | C21: Baguia | D21: ='[2]POM 4 2023 BA PDF (2)'!$C$27 -> Larisula | E21: 7 | F21: 005 | G21: Obras Publikas | H21: Estrada Rurais (Estrada Rai) | I21: Reabilitasaun | J21: 1 | M21: =J21+K21+L21 -> 1 | N21: ='[3]Progres Infras'!$E$53 -> 37797 | P21: =N21+O21 -> 37797 | Q21: 0 | R21: =P21-Q21 -> 37797 | S21: 0 | T21: =Q21/P21 -> 0 | U21: ='SIKLUS-7'!R84 -> 1 | V21: ='SIKLUS-7'!S84 -> 1 | W21: ='SIKLUS-7'!T84 -> 1 | X21: ='SIKLUS-7'!U84 -> 0 | Y21: ='SIKLUS-7'!V84 -> 0 | Z21: ='SIKLUS-7'!W84 -> 0
A22: =A21+1 -> 7 | B22: Baucau | C22: Baguia | D22: ='[2]POM 4 2023 BA PDF (2)'!$C$21 -> Lavateri | E22: 7 | F22: 005 | G22: Obras Publikas | H22: Estrada Rurais (Estrada Rai) | I22: Konstrusaun | J22: 1 | M22: =J22+K22+L22 -> 1 | N22: ='[3]Progres Infras'!$E$54 -> 34270 | P22: =N22+O22 -> 34270 | Q22: 0 | R22: =P22-Q22 -> 34270 | S22: 0 | T22: =Q22/P22 -> 0 | U22: ='SIKLUS-7'!R85 -> 1 | V22: ='SIKLUS-7'!S85 -> 1 | W22: ='SIKLUS-7'!T85 -> 1 | X22: ='SIKLUS-7'!U85 -> 0 | Y22: ='SIKLUS-7'!V85 -> 0 | Z22: ='SIKLUS-7'!W85 -> 0
A23: =A22+1 -> 8 | B23: Baucau | C23: Baguia | D23: ='[2]POM 4 2023 BA PDF (2)'!$C$33 -> Ossohuna | E23: 7 | F23: 005 | G23: Obras Publikas | H23: Estrada Rurais (Estrada Rai) | I23: Konstrusaun | K23: 1 | M23: =J23+K23+L23 -> 1 | N23: ='[3]Progres Infras'!$E$55 -> 37797 | P23: =N23+O23 -> 37797 | Q23: 0 | R23: =P23-Q23 -> 37797 | S23: 0 | T23: =Q23/P23 -> 0 | U23: ='SIKLUS-7'!R86 -> 1 | V23: ='SIKLUS-7'!S86 -> 0 | W23: ='SIKLUS-7'!T86 -> 0 | X23: ='SIKLUS-7'!U86 -> 0 | Y23: ='SIKLUS-7'!V86 -> 0 | Z23: ='SIKLUS-7'!W86 -> 0
A24: =A23+1 -> 9 | B24: Baucau | C24: Baguia | D24: ='[2]POM 4 2023 BA PDF (2)'!$C$39 -> Samalari | E24: 7 | F24: 002 | G24: Obras Publikas | H24: Estrada Rurais (Estrada Rai) | I24: Konstrusaun | J24: 1 | M24: =J24+K24+L24 -> 1 | N24: ='[3]Progres Infras'!$E$56 -> 34270 | P24: =N24+O24 -> 34270 | Q24: 0 | R24: =P24-Q24 -> 34270 | S24: 0 | T24: =Q24/P24 -> 0 | U24: ='SIKLUS-7'!R87 -> 1 | V24: ='SIKLUS-7'!S87 -> 0 | W24: ='SIKLUS-7'!T87 -> 0 | X24: ='SIKLUS-7'!U87 -> 0 | Y24: ='SIKLUS-7'!V87 -> 0 | Z24: ='SIKLUS-7'!W87 -> 0
A25: =A24+1 -> 10 | B25: Baucau | C25: Baguia | D25: ='[2]POM 4 2023 BA PDF (2)'!$C$42 -> Uacala | E25: 7 | F25: 005 | G25: Obras Publikas | H25: Estrada Rurais (Estrada Rai) | I25: Konstrusaun | K25: 1 | M25: =J25+K25+L25 -> 1 | N25: ='[3]Progres Infras'!$E$57 -> 34270 | P25: =N25+O25 -> 34270 | Q25: 0 | R25: =P25-Q25 -> 34270 | S25: 0 | T25: =Q25/P25 -> 0 | U25: ='SIKLUS-7'!R88 -> 0.98 | V25: ='SIKLUS-7'!S88 -> 0 | W25: ='SIKLUS-7'!T88 -> 0 | X25: ='SIKLUS-7'!U88 -> 0 | Y25: ='SIKLUS-7'!V88 -> 0 | Z25: ='SIKLUS-7'!W88 -> 0
J26: =SUM(J16:J25) -> 4 | K26: =SUM(K16:K25) -> 6 | L26: =SUM(L16:L25) -> 0 | M26: =SUM(M16:M25) -> 10 | U26: =AVERAGE(U16:U25) -> 0.974 | V26: =SUM(V16:V25) -> 3 | W26: =SUM(W16:W25) -> 3 | X26: =SUM(X16:X25) -> 12 | Y26: =SUM(Y16:Y25) -> 2 | Z26: =SUM(Z16:Z25) -> 0
A27: =A25+1 -> 11 | B27: Baucau | C27: Baucau Vila | D27: ='[2]POM 4 2023 BA PDF (2)'!$C$68 -> Bahu | E27: 7 | F27: 005 | G27: Obras Publikas | H27: Estrada Rurais (Estrada Rai) | I27: Reabilitasaun | J27: 1 | M27: =J27+K27+L27 -> 1 | N27: ='[3]Progres Infras'!$E$36 -> 38547 | P27: =N27+O27 -> 38547 | Q27: 0 | R27: =P27-Q27 -> 38547 | S27: 0 | T27: =Q27/P27 -> 0 | U27: ='SIKLUS-7'!R89 -> 1 | V27: ='SIKLUS-7'!S89 -> 1 | W27: ='SIKLUS-7'!T89 -> 0 | X27: ='SIKLUS-7'!U89 -> 17 | Y27: ='SIKLUS-7'!V89 -> 8 | Z27: ='SIKLUS-7'!W89 -> 0
A28: =A27+1 -> 12 | B28: Baucau | C28: Baucau Vila | D28: ='[2]POM 4 2023 BA PDF (2)'!$C$71 -> Bucoli | E28: 7 | F28: 003 | G28: Edukasaun No Desportu | H28: Eskola Primaria | I28: Reabilitasaun | K28: 1 | M28: =J28+K28+L28 -> 1 | N28: ='[3]Progres Infras'!$E$37 -> 34520 | P28: =N28+O28 -> 34520 | Q28: 0 | R28: =P28-Q28 -> 34520 | S28: 0 | T28: =Q28/P28 -> 0 | U28: ='SIKLUS-7'!R90 -> 1 | V28: ='SIKLUS-7'!S90 -> 0 | W28: ='SIKLUS-7'!T90 -> 0 | X28: ='SIKLUS-7'!U90 -> 0 | Y28: ='SIKLUS-7'!V90 -> 0 | Z28: ='SIKLUS-7'!W90 -> 0
A29: =A28+1 -> 13 | B29: Baucau | C29: Baucau Vila | D29: ='[2]POM 4 2023 BA PDF (2)'!$C$74 -> Buibau | E29: 7 | F29: 005 | G29: Obras Publikas | H29: Estrada Rurais (Estrada Betaun) | I29: Konstrusaun | J29: 1 | M29: =J29+K29+L29 -> 1 | N29: ='[3]Progres Infras'!$E$38 -> 34770 | P29: =N29+O29 -> 34770 | Q29: ='[3]Progres Infras'!$H$38 -> 5579.25 | R29: =P29-Q29 -> 29190.75 | S29: 0 | T29: =Q29/P29 -> 0.1604616 | U29: ='SIKLUS-7'!R91 -> 1 | V29: ='SIKLUS-7'!S91 -> 1 | W29: ='SIKLUS-7'!T91 -> 0 | X29: ='SIKLUS-7'!U91 -> 12 | Y29: ='SIKLUS-7'!V91 -> 2 | Z29: ='SIKLUS-7'!W91 -> 0
A30: =A29+1 -> 14 | B30: Baucau | C30: Baucau Vila | D30: ='[2]POM 4 2023 BA PDF (2)'!$C$77 -> Buruma | E30: 7 | F30: 005 | G30: Obras Publikas | H30: Estrada Rurais (Estrada Betaun) | I30: Konstrusaun | J30: 1 | M30: =J30+K30+L30 -> 1 | N30: 0 | P30: ='[3]Progres Infras'!$E$39 -> 38547 | Q30: 0 | R30: =P30-Q30 -> 38547 | S30: 0 | T30: =Q30/P30 -> 0 | U30: ='SIKLUS-7'!R92 -> 1 | V30: ='SIKLUS-7'!S92 -> 0 | W30: ='SIKLUS-7'!T92 -> 0 | X30: ='SIKLUS-7'!U92 -> 0 | Y30: ='SIKLUS-7'!V92 -> 0 | Z30: ='SIKLUS-7'!W92 -> 0
A31: =A30+1 -> 15 | B31: Baucau | C31: Baucau Vila | D31: ='[2]POM 4 2023 BA PDF (2)'!$C$80 -> Caibada | E31: 7 | F31: 005 | G31: Obras Publikas | H31: Drenazen - Hada Fatuk | I31: Reabilitasaun | K31: 1 | M31: =J31+K31+L31 -> 1 | N31: 0 | P31: ='[3]Progres Infras'!$E$40 -> 30993 | Q31: ='[3]Progres Infras'!$H$40 -> 455 | R31: =P31-Q31 -> 30538 | S31: 0 | T31: =Q31/P31 -> 0.014680734 | U31: ='SIKLUS-7'!R93 -> 1 | V31: ='SIKLUS-7'!S93 -> 0 | W31: ='SIKLUS-7'!T93 -> 0 | X31: ='SIKLUS-7'!U93 -> 0 | Y31: ='SIKLUS-7'!V93 -> 0 | Z31: ='SIKLUS-7'!W93 -> 0
A32: =A31+1 -> 16 | B32: Baucau | C32: Baucau Vila | D32: Gar-iuai | E32: 7 | F32: 005 | G32: Obras Publikas | H32: Estrada Rurais (Estrada Rai) | I32: Reabilitasaun | J32: 1 | M32: =J32+K32+L32 -> 1 | N32: 0 | P32: ='[3]Progres Infras'!$E$41 -> 38297 | Q32: 0 | R32: =P32-Q32 -> 38297 | S32: 0 | T32: =Q32/P32 -> 0 | U32: ='SIKLUS-7'!R94 -> 1 | V32: ='SIKLUS-7'!S94 -> 1 | W32: ='SIKLUS-7'!T94 -> 0 | X32: ='SIKLUS-7'!U94 -> 0 | Y32: ='SIKLUS-7'!V94 -> 0 | Z32: ='SIKLUS-7'!W94 -> 0
A33: =A32+1 -> 17 | B33: Baucau | C33: Baucau Vila | D33: Samalari | E33: 7 | F33: 003 | G33: Edukasaun No Desportu | H33: Eskola Primaria | I33: Konstrusaun | K33: 1 | M33: =J33+K33+L33 -> 1 | N33: 0 | P33: ='[3]Progres Infras'!$E$42 -> 30743 | Q33: 0 | R33: =P33-Q33 -> 30743 | S33: 0 | T33: =Q33/P33 -> 0 | U33: ='SIKLUS-7'!R95 -> 0.48 | V33: ='SIKLUS-7'!S95 -> 0 | W33: ='SIKLUS-7'!T95 -> 0 | X33: ='SIKLUS-7'!U95 -> 0 | Y33: ='SIKLUS-7'!V95 -> 0 | Z33: ='SIKLUS-7'!W95 -> 0
A34: =A33+1 -> 18 | B34: Baucau | C34: Baucau Vila | D34: ='[2]POM 4 2023 BA PDF (2)'!$C$83 -> Seical | E34: 7 | F34: 005 | G34: Obras Publikas | H34: Estrada Rurais (Estrada Rai) | I34: Konstrusaun | J34: 1 | M34: =J34+K34+L34 -> 1 | N34: 0 | P34: ='[3]Progres Infras'!$E$43 -> 30743 | Q34: 0 | R34: =P34-Q34 -> 30743 | S34: 0 | T34: =Q34/P34 -> 0 | U34: ='SIKLUS-7'!R96 -> 1 | V34: ='SIKLUS-7'!S96 -> 1 | W34: ='SIKLUS-7'!T96 -> 0 | X34: ='SIKLUS-7'!U96 -> 0 | Y34: ='SIKLUS-7'!V96 -> 0 | Z34: ='SIKLUS-7'!W96 -> 0
A35: =A34+1 -> 19 | B35: Baucau | C35: Baucau Vila | D35: ='[2]POM 4 2023 BA PDF (2)'!$C$86 -> Tirilolo | E35: 7 | F35: 005 | G35: Obras Publikas | H35: Estrada Rurais (Estrada Rai) | I35: Reabilitasaun | J35: 1 | M35: =J35+K35+L35 -> 1 | N35: 0 | P35: ='[3]Progres Infras'!$E$44 -> 38547 | Q35: 0 | R35: =P35-Q35 -> 38547 | S35: 0 | T35: =Q35/P35 -> 0 | U35: ='SIKLUS-7'!R97 -> 1 | V35: ='SIKLUS-7'!S97 -> 1 | W35: ='SIKLUS-7'!T97 -> 0 | X35: ='SIKLUS-7'!U97 -> 0 | Y35: ='SIKLUS-7'!V97 -> 0 | Z35: ='SIKLUS-7'!W97 -> 0
A36: =A35+1 -> 20 | B36: Baucau | C36: Baucau Vila | D36: ='[2]POM 4 2023 BA PDF (2)'!$C$89 -> Triloka | E36: 7 | F36: 005 | G36: Obras Publikas | H36: Estrada Rurais (Estrada Rai) | I36: Konstrusaun | J36: 1 | M36: =J36+K36+L36 -> 1 | N36: 0 | P36: ='[3]Progres Infras'!$E$45 -> 34520 | Q36: 0 | R36: =P36-Q36 -> 34520 | S36: 0 | T36: =Q36/P36 -> 0 | U36: ='SIKLUS-7'!R98 -> 1 | V36: ='SIKLUS-7'!S98 -> 1 | W36: ='SIKLUS-7'!T98 -> 1 | X36: ='SIKLUS-7'!U98 -> 0 | Y36: ='SIKLUS-7'!V98 -> 0 | Z36: ='SIKLUS-7'!W98 -> 0
A37: =A36+1 -> 21 | B37: Baucau | C37: Baucau Vila | D37: ='[2]POM 4 2023 BA PDF (2)'!$C$89 -> Triloka | F37: 006 | G37: Agrikultura, Seguransa Ailementar no Buka Moris | H37: Fatin Hakiak Fahi | I37: Konstrusaun | K37: 1 | M37: =J37+K37+L37 -> 1 | U37: ='SIKLUS-7'!R99 -> 0.7
A38: =A37+1 -> 22 | B38: Baucau | C38: Baucau Vila | D38: ='[2]POM 4 2023 BA PDF (2)'!$C$92 -> Uailili | E38: 7 | F38: 005 | G38: Obras Publikas | H38: Estrada Rurais (Estrada Rai) | I38: Reabilitasaun | J38: 1 | M38: =J38+K38+L38 -> 1 | N38: 0 | P38: ='[3]Progres Infras'!$E$46 -> 34520 | Q38: 0 | R38: =P38-Q38 -> 34520 | S38: 0 | T38: =Q38/P38 -> 0 | U38: ='SIKLUS-7'!R100 -> 1 | V38: ='SIKLUS-7'!S100 -> 1 | W38: ='SIKLUS-7'!T100 -> 0 | X38: ='SIKLUS-7'!U100 -> 18 | Y38: ='SIKLUS-7'!V100 -> 1 | Z38: ='SIKLUS-7'!W100 -> 0
J39: =SUM(J27:J38) -> 8 | K39: =SUM(K27:K38) -> 4 | L39: =SUM(L27:L38) -> 0 | M39: =SUM(M27:M38) -> 12 | U39: =AVERAGE(U27:U38) -> 0.93166667 | V39: =SUM(V27:V38) -> 7 | W39: =SUM(W27:W38) -> 1 | X39: =SUM(X27:X38) -> 47 | Y39: =SUM(Y27:Y38) -> 11 | Z39: =SUM(Z27:Z38) -> 0
A40: =A38+1 -> 23 | B40: Baucau | C40: Laga | D40: ='[2]POM 4 2023 BA PDF (2)'!$C$139 -> Atelari | E40: 7 | F40: 005 | G40: Obras Publikas | H40: Estrada Rurais (Estrada Rai) | I40: Konstrusaun | J40: 1 | M40: =J40+K40+L40 -> 1 | N40: 0 | P40: ='[3]Progres Infras'!$E$11 -> 34270 | Q40: 0 | R40: =P40-Q40 -> 34270 | S40: 0 | T40: =Q40/P40 -> 0 | U40: ='SIKLUS-7'!R101 -> 1 | V40: ='SIKLUS-7'!S101 -> 0 | W40: ='SIKLUS-7'!T101 -> 0 | X40: ='SIKLUS-7'!U101 -> 0 | Y40: ='SIKLUS-7'!V101 -> 0 | Z40: ='SIKLUS-7'!W101 -> 0
A41: =A40+1 -> 24 | B41: Baucau | C41: Laga | D41: ='[2]POM 4 2023 BA PDF (2)'!$C$124 -> Libagua | E41: 7 | F41: 005 | G41: Obras Publikas | H41: Estrada Rurais (Estrada Rai) | I41: Reabilitasaun | J41: 1 | M41: =J41+K41+L41 -> 1 | N41: 0 | P41: ='[3]Progres Infras'!$E$12 -> 34270 | Q41: 13862.8 | R41: =P41-Q41 -> 20407.2 | S41: 0 | T41: =Q41/P41 -> 0.40451707 | U41: ='SIKLUS-7'!R102 -> 1 | V41: ='SIKLUS-7'!S102 -> 0 | W41: ='SIKLUS-7'!T102 -> 0 | X41: ='SIKLUS-7'!U102 -> 33 | Y41: ='SIKLUS-7'!V102 -> 0 | Z41: ='SIKLUS-7'!W102 -> 0
A42: =A41+1 -> 25 | B42: Baucau | C42: Laga | D42: ='[2]POM 4 2023 BA PDF (2)'!$C$127 -> Nunira | E42: 7 | F42: 005 | G42: Obras Publikas | H42: Estrada Rurais (Estrada Betaun) | I42: Reabilitasaun | J42: 1 | M42: =J42+K42+L42 -> 1 | N42: 0 | P42: ='[3]Progres Infras'!$E$13 -> 34270 | Q42: ='[3]Progres Infras'!$H$13 -> 15392.3 | R42: =P42-Q42 -> 18877.7 | S42: 0 | T42: =Q42/P42 -> 0.44914794 | U42: ='SIKLUS-7'!R103 -> 1 | V42: ='SIKLUS-7'!S103 -> 0 | W42: ='SIKLUS-7'!T103 -> 0 | X42: ='SIKLUS-7'!U103 -> 13 | Y42: ='SIKLUS-7'!V103 -> 0 | Z42: ='SIKLUS-7'!W103 -> 0
A43: =A42+1 -> 26 | B43: Baucau | C43: Laga | D43: ='[2]POM 4 2023 BA PDF (2)'!$C$133 -> Saelari | E43: 7 | F43: 005 | G43: Obras Publikas | H43: Estrada Rurais (Estrada Betaun) | I43: Reabilitasaun | J43: 1 | M43: =J43+K43+L43 -> 1 | N43: 0 | P43: ='[3]Progres Infras'!$E$14 -> 38047 | Q43: 18319.5 | R43: =P43-Q43 -> 19727.5 | S43: 0 | T43: =Q43/P43 -> 0.48149657 | U43: ='SIKLUS-7'!R104 -> 1 | V43: ='SIKLUS-7'!S104 -> 0 | W43: ='SIKLUS-7'!T104 -> 0 | X43: ='SIKLUS-7'!U104 -> 0 | Y43: ='SIKLUS-7'!V104 -> 0 | Z43: ='SIKLUS-7'!W104 -> 0
A44: =A43+1 -> 27 | B44: Baucau | C44: Laga | D44: ='[2]POM 4 2023 BA PDF (2)'!$C$136 -> Sagadate | E44: 7 | F44: 005 | G44: Obras Publikas | H44: Estrada Rurais (Estrada Rai) | I44: Reabilitasaun | J44: 1 | M44: =J44+K44+L44 -> 1 | N44: 0 | P44: ='[3]Progres Infras'!$E$15 -> 38047 | Q44: 18933.45 | R44: =P44-Q44 -> 19113.55 | S44: 0 | T44: =Q44/P44 -> 0.49763319 | U44: ='SIKLUS-7'!R105 -> 1 | V44: ='SIKLUS-7'!S105 -> 0 | W44: ='SIKLUS-7'!T105 -> 0 | X44: ='SIKLUS-7'!U105 -> 0 | Y44: ='SIKLUS-7'!V105 -> 0 | Z44: ='SIKLUS-7'!W105 -> 0
A45: =A44+1 -> 28 | B45: Baucau | C45: Laga | D45: ='[2]POM 4 2023 BA PDF (2)'!$C$130 -> Samalari | E45: 7 | F45: 005 | G45: Obras Publikas | H45: Estrada Rurais (Estrada Rai) | I45: Konstrusaun | J45: 1 | M45: =J45+K45+L45 -> 1 | N45: 0 | P45: ='[3]Progres Infras'!$E$16 -> 38047 | Q45: 0 | R45: =P45-Q45 -> 38047 | S45: 0 | T45: =Q45/P45 -> 0 | U45: ='SIKLUS-7'!R106 -> 1 | V45: ='SIKLUS-7'!S106 -> 0 | W45: ='SIKLUS-7'!T106 -> 0 | X45: ='SIKLUS-7'!U106 -> 0 | Y45: ='SIKLUS-7'!V106 -> 0 | Z45: ='SIKLUS-7'!W106 -> 0
A46: =A45+1 -> 29 | B46: Baucau | C46: Laga | D46: ='[2]POM 4 2023 BA PDF (2)'!$C$121 -> Soba | E46: 7 | F46: 005 | G46: Obras Publikas | H46: Estrada Rurais (Estrada Rai) | I46: Reabilitasaun | K46: 1 | M46: =J46+K46+L46 -> 1 | N46: 0 | P46: ='[3]Progres Infras'!$E$17 -> 34520 | Q46: 0 | R46: =P46-Q46 -> 34520 | S46: 0 | T46: =Q46/P46 -> 0 | U46: ='SIKLUS-7'!R107 -> 1 | V46: ='SIKLUS-7'!S107 -> 0 | W46: ='SIKLUS-7'!T107 -> 0 | X46: ='SIKLUS-7'!U107 -> 0 | Y46: ='SIKLUS-7'!V107 -> 0 | Z46: ='SIKLUS-7'!W107 -> 0
A47: =A46+1 -> 30 | B47: Baucau | C47: Laga | D47: ='[2]POM 4 2023 BA PDF (2)'!$C$118 -> Tequinomata | E47: 7 | F47: 002 | G47: Bee no Saneamentu | H47: Sistema Bee Mos - Bomba (Bomba Submersible/Bomba Sentrifugal) | I47: Reabilitasaun | J47: 1 | M47: =J47+K47+L47 -> 1 | N47: 0 | P47: ='[3]Progres Infras'!$E$18 -> 34520 | Q47: 0 | R47: =P47-Q47 -> 34520 | S47: 0 | T47: =Q47/P47 -> 0 | U47: ='SIKLUS-7'!R108 -> 1 | V47: ='SIKLUS-7'!S108 -> 0 | W47: ='SIKLUS-7'!T108 -> 0 | X47: ='SIKLUS-7'!U108 -> 9 | Y47: ='SIKLUS-7'!V108 -> 0 | Z47: ='SIKLUS-7'!W108 -> 0
J48: =SUM(J40:J47) -> 7 | K48: =SUM(K40:K47) -> 1 | L48: =SUM(L40:L47) -> 0 | M48: =SUM(M40:M47) -> 8 | U48: =AVERAGE(U40:U47) -> 1 | V48: =SUM(V40:V47) -> 0 | W48: =SUM(W40:W47) -> 0 | X48: =SUM(X40:X47) -> 55 | Y48: =SUM(Y40:Y47) -> 0 | Z48: =SUM(Z40:Z47) -> 0
A49: =A47+1 -> 31 | B49: Baucau | C49: Quelicai | D49: ='[2]POM 4 2023 BA PDF (2)'!$C$269 -> Abafala | E49: 7 | F49: 005 | G49: Obras Publikas | H49: Estrada Rurais (Estrada Betaun) | I49: Reabilitasaun | K49: 1 | M49: =J49+K49+L49 -> 1 | N49: 0 | P49: ='[3]Progres Infras'!$E$20 -> 30743 | Q49: 0 | R49: =P49-Q49 -> 30743 | S49: 0 | T49: =Q49/P49 -> 0 | U49: ='SIKLUS-7'!R109 -> 0.95 | V49: ='SIKLUS-7'!S109 -> 0 | W49: ='SIKLUS-7'!T109 -> 0 | X49: ='SIKLUS-7'!U109 -> 0 | Y49: ='SIKLUS-7'!V109 -> 0 | Z49: ='SIKLUS-7'!W109 -> 0
A50: =A49+1 -> 32 | B50: Baucau | C50: Quelicai | D50: ='[2]POM 4 2023 BA PDF (2)'!$C$263 -> Baguia | E50: 7 | F50: 002 | G50: Bee no Saneamentu | H50: Sistema Bee Mos - Bomba (Bomba Submersible/Bomba Sentrifugal) | I50: Konstrusaun | K50: 1 | M50: =J50+K50+L50 -> 1 | N50: 0 | P50: ='[3]Progres Infras'!$E$23 -> 34270 | Q50: 0 | R50: =P50-Q50 -> 34270 | S50: 0 | T50: =Q50/P50 -> 0 | U50: ='SIKLUS-7'!R110 -> 0.95 | V50: ='SIKLUS-7'!S110 -> 0 | W50: ='SIKLUS-7'!T110 -> 0 | X50: ='SIKLUS-7'!U110 -> 0 | Y50: ='SIKLUS-7'!V110 -> 0 | Z50: ='SIKLUS-7'!W110 -> 0
A51: =A50+1 -> 33 | B51: Baucau | C51: Quelicai | D51: ='[2]POM 4 2023 BA PDF (2)'!$C$260 -> Bualale | E51: 7 | F51: 005 | G51: Setor Seluk | H51: Kampu Multi Funsaun | I51: Reabilitasaun | K51: 1 | M51: =J51+K51+L51 -> 1 | N51: 0 | P51: ='[3]Progres Infras'!$E$24 -> 38047 | Q51: 0 | R51: =P51-Q51 -> 38047 | S51: 0 | T51: =Q51/P51 -> 0 | U51: ='SIKLUS-7'!R111 -> 0.97 | V51: ='SIKLUS-7'!S111 -> 0 | W51: ='SIKLUS-7'!T111 -> 0 | X51: ='SIKLUS-7'!U111 -> 0 | Y51: ='SIKLUS-7'!V111 -> 0 | Z51: ='SIKLUS-7'!W111 -> 0
A52: =A51+1 -> 34 | B52: Baucau | C52: Quelicai | D52: ='[2]POM 4 2023 BA PDF (2)'!$C$284 -> Lacoliu | E52: 7 | F52: 005 | G52: Obras Publikas | H52: Estrada Rurais (Estrada Betaun) | I52: Reabilitasaun | K52: 1 | M52: =J52+K52+L52 -> 1 | N52: 0 | P52: ='[3]Progres Infras'!$E$30 -> 34270 | Q52: 0 | R52: =P52-Q52 -> 34270 | S52: 0 | T52: =Q52/P52 -> 0 | U52: ='SIKLUS-7'!R112 -> 0.82 | V52: ='SIKLUS-7'!S112 -> 0 | W52: ='SIKLUS-7'!T112 -> 0 | X52: ='SIKLUS-7'!U112 -> 0 | Y52: ='SIKLUS-7'!V112 -> 0 | Z52: ='SIKLUS-7'!W112 -> 0
A53: =A52+1 -> 35 | B53: Baucau | C53: Quelicai | D53: ='[2]POM 4 2023 BA PDF (2)'!$C$272 -> Letemumo | E53: 7 | F53: 002 | G53: Bee no Saneamentu | H53: Sistema Bee Mos - Bomba (Bomba Submersible/Bomba Sentrifugal) | I53: Konstrusaun | K53: 1 | M53: =J53+K53+L53 -> 1 | N53: 0 | P53: ='[3]Progres Infras'!$E$29 -> 34270 | Q53: 0 | R53: =P53-Q53 -> 34270 | S53: 0 | T53: =Q53/P53 -> 0 | U53: ='SIKLUS-7'!R113 -> 0.95 | V53: ='SIKLUS-7'!S113 -> 0 | W53: ='SIKLUS-7'!T113 -> 0 | X53: ='SIKLUS-7'!U113 -> 0 | Y53: ='SIKLUS-7'!V113 -> 0 | Z53: ='SIKLUS-7'!W113 -> 0
A54: =A53+1 -> 36 | B54: Baucau | C54: Quelicai | D54: Macalaco | E54: 7 | F54: 005 | G54: Obras Publikas | H54: Estrada Rurais (Estrada Rai) | I54: Reabilitasaun | J54: 1 | M54: =J54+K54+L54 -> 1 | N54: 0 | P54: ='[3]Progres Infras'!$E$31 -> 34270 | Q54: 0 | R54: =P54-Q54 -> 34270 | S54: 0 | T54: =Q54/P54 -> 0 | U54: ='SIKLUS-7'!R114 -> 1 | V54: ='SIKLUS-7'!S114 -> 0 | W54: ='SIKLUS-7'!T114 -> 0 | X54: ='SIKLUS-7'!U114 -> 0 | Y54: ='SIKLUS-7'!V114 -> 0 | Z54: ='SIKLUS-7'!W114 -> 0
A55: =A54+1 -> 37 | B55: Baucau | C55: Quelicai | D55: ='[2]POM 4 2023 BA PDF (2)'!$C$299 -> Uaitame | E55: 7 | F55: 005 | G55: Obras Publikas | H55: Estrada Rurais (Estrada Rai) | I55: Konstrusaun | K55: 1 | M55: =J55+K55+L55 -> 1 | N55: 0 | P55: ='[3]Progres Infras'!$E$34 -> 38047 | Q55: 0 | R55: =P55-Q55 -> 38047 | S55: 0 | T55: =Q55/P55 -> 0 | U55: ='SIKLUS-7'!R115 -> 0.57 | V55: ='SIKLUS-7'!S115 -> 0 | W55: ='SIKLUS-7'!T115 -> 0 | X55: ='SIKLUS-7'!U115 -> 0 | Y55: ='SIKLUS-7'!V115 -> 0 | Z55: ='SIKLUS-7'!W115 -> 0
J56: =SUM(J49:J55) -> 1 | K56: =SUM(K49:K55) -> 6 | L56: =SUM(L49:L55) -> 0 | M56: =SUM(M49:M55) -> 7 | U56: =AVERAGE(U49:U55) -> 0.88714286 | V56: =AVERAGE(V49:V55) -> 0 | W56: =AVERAGE(W49:W55) -> 0 | X56: =AVERAGE(X49:X55) -> 0 | Y56: =AVERAGE(Y49:Y55) -> 0 | Z56: =AVERAGE(Z49:Z55) -> 0
A57: =A55+1 -> 38 | B57: Baucau | C57: Matebian | D57: ='[2]POM 4 2023 BA PDF (2)'!$C$257 -> Abo | E57: 7 | F57: 005 | G57: Obras Publikas | H57: Estrada Rurais (Estrada Betaun) | I57: Reabilitasaun | J57: 1 | M57: =J57+K57+L57 -> 1 | N57: 0 | P57: ='[3]Progres Infras'!$E$21 -> 34270 | Q57: 0 | R57: =P57-Q57 -> 34270 | S57: 0 | T57: =Q57/P57 -> 0 | U57: ='SIKLUS-7'!R116 -> 1 | V57: ='SIKLUS-7'!S116 -> 0 | W57: ='SIKLUS-7'!T116 -> 0 | X57: ='SIKLUS-7'!U116 -> 10 | Y57: ='SIKLUS-7'!V116 -> 0 | Z57: ='SIKLUS-7'!W116 -> 0
A58: =A57+1 -> 39 | B58: Baucau | C58: Matebian | D58: ='[2]POM 4 2023 BA PDF (2)'!$C$278 -> Laisor. De Baixo | E58: 7 | F58: 005 | G58: Obras Publikas | H58: Estrada Rurais (Estrada Betaun) | I58: Reabilitasaun | K58: 1 | M58: =J58+K58+L58 -> 1 | N58: 0 | P58: ='[3]Progres Infras'!$E$26 -> 34270 | Q58: 0 | R58: =P58-Q58 -> 34270 | S58: 0 | T58: =Q58/P58 -> 0 | U58: ='SIKLUS-7'!R117 -> 1 | V58: ='SIKLUS-7'!S117 -> 0 | W58: ='SIKLUS-7'!T117 -> 0 | X58: ='SIKLUS-7'!U117 -> 0 | Y58: ='SIKLUS-7'!V117 -> 0 | Z58: ='SIKLUS-7'!W117 -> 0
A59: =A58+1 -> 40 | B59: Baucau | C59: Matebian | D59: ='[2]POM 4 2023 BA PDF (2)'!$C$275 -> Laisor. De Cima | E59: 7 | F59: 004 | G59: Agrikultura, Seguransa Ailementar no Buka Moris | H59: Bee Kanu (Sekundaria/kanu distribuisaun) - Hada Fatuk | I59: Konstrusaun | K59: 1 | M59: =J59+K59+L59 -> 1 | N59: 0 | P59: ='[3]Progres Infras'!$E$27 -> 34270 | Q59: 0 | R59: =P59-Q59 -> 34270 | S59: 0 | T59: =Q59/P59 -> 0 | U59: ='SIKLUS-7'!R118 -> 0.92 | V59: ='SIKLUS-7'!S118 -> 0 | W59: ='SIKLUS-7'!T118 -> 0 | X59: ='SIKLUS-7'!U118 -> 0 | Y59: ='SIKLUS-7'!V118 -> 0 | Z59: ='SIKLUS-7'!W118 -> 0
A60: =A59+1 -> 41 | B60: Baucau | C60: Matebian | D60: ='[2]POM 4 2023 BA PDF (2)'!$C$287 -> Maluro | E60: 7 | F60: 004 | G60: Agrikultura, Seguransa Ailementar no Buka Moris | H60: Bee Kanu (Sekundaria/kanu distribuisaun) - Hada Fatuk | I60: Konstrusaun | K60: 1 | M60: =J60+K60+L60 -> 1 | N60: 0 | P60: ='[3]Progres Infras'!$E$32 -> 34270 | Q60: 0 | R60: =P60-Q60 -> 34270 | S60: 0 | T60: =Q60/P60 -> 0 | U60: ='SIKLUS-7'!R119 -> 1 | V60: ='SIKLUS-7'!S119 -> 0 | W60: ='SIKLUS-7'!T119 -> 0 | X60: ='SIKLUS-7'!U119 -> 0 | Y60: ='SIKLUS-7'!V119 -> 0 | Z60: ='SIKLUS-7'!W119 -> 0
A61: =A60+1 -> 42 | B61: Baucau | C61: Matebian | D61: ='[2]POM 4 2023 BA PDF (2)'!$C$296 -> Lelalai | E61: 7 | F61: 005 | G61: Obras Publikas | H61: Bareiras (Tembok Penahan) - Hada Fatuk | I61: Konstrusaun | J61: 1 | M61: =J61+K61+L61 -> 1 | N61: 0 | P61: ='[3]Progres Infras'!$E$28 -> 34270 | Q61: 0 | R61: =P61-Q61 -> 34270 | S61: 0 | T61: =Q61/P61 -> 0 | U61: ='SIKLUS-7'!R120 -> 1 | V61: ='SIKLUS-7'!S120 -> 0 | W61: ='SIKLUS-7'!T120 -> 0 | X61: ='SIKLUS-7'!U120 -> 0 | Y61: ='SIKLUS-7'!V120 -> 0 | Z61: ='SIKLUS-7'!W120 -> 0
J62: =SUM(J57:J61) -> 2 | K62: =SUM(K57:K61) -> 3 | L62: =SUM(L57:L61) -> 0 | M62: =SUM(M57:M61) -> 5 | U62: =AVERAGE(U57:U61) -> 0.984 | V62: =SUM(V57:V61) -> 0 | W62: =SUM(W57:W61) -> 0 | X62: =SUM(X57:X61) -> 10 | Y62: =SUM(Y57:Y61) -> 0 | Z62: =SUM(Z57:Z61) -> 0
A63: =A61+1 -> 43 | B63: Baucau | C63: Quelicai Antigu | D63: ='[2]POM 4 2023 BA PDF (2)'!$C$266 -> Afaca | E63: 7 | F63: 005 | G63: Obras Publikas | H63: Estrada Rurais (Estrada Betaun) | I63: Konstrusaun | K63: 1 | M63: =J63+K63+L63 -> 1 | N63: 0 | P63: ='[3]Progres Infras'!$E$22 -> 34270 | Q63: 0 | R63: =P63-Q63 -> 34270 | S63: 0 | T63: =Q63/P63 -> 0 | U63: ='SIKLUS-7'!R121 -> 1 | V63: ='SIKLUS-7'!S121 -> 0 | W63: ='SIKLUS-7'!T121 -> 0 | X63: ='SIKLUS-7'!U121 -> 0 | Y63: ='SIKLUS-7'!V121 -> 0 | Z63: ='SIKLUS-7'!W121 -> 0
A64: =A63+1 -> 44 | B64: Baucau | C64: Quelicai Antigu | D64: ='[2]POM 4 2023 BA PDF (2)'!$C$293 -> Guruca | E64: 7 | F64: 005 | G64: Obras Publikas | H64: Estrada Rurais (Estrada Rai) | I64: Reabilitasaun | K64: 1 | M64: =J64+K64+L64 -> 1 | N64: 0 | P64: ='[3]Progres Infras'!$E$25 -> 30743 | Q64: 0 | R64: =P64-Q64 -> 30743 | S64: 0 | T64: =Q64/P64 -> 0 | U64: ='SIKLUS-7'!R122 -> 1 | V64: ='SIKLUS-7'!S122 -> 0 | W64: ='SIKLUS-7'!T122 -> 0 | X64: ='SIKLUS-7'!U122 -> 0 | Y64: ='SIKLUS-7'!V122 -> 0 | Z64: ='SIKLUS-7'!W122 -> 0
A65: =A64+1 -> 45 | B65: Baucau | C65: Quelicai Antigu | D65: ='[2]POM 4 2023 BA PDF (2)'!$C$281 -> Namanei | E65: 7 | F65: 005 | G65: Obras Publikas | H65: Estrada Rurais (Estrada Rai) | I65: Konstrusaun | J65: 1 | M65: =J65+K65+L65 -> 1 | N65: 0 | P65: ='[3]Progres Infras'!$E$33 -> 34270 | Q65: 0 | R65: =P65-Q65 -> 34270 | S65: 0 | T65: =Q65/P65 -> 0 | U65: ='SIKLUS-7'!R123 -> 1 | V65: ='SIKLUS-7'!S123 -> 0 | W65: ='SIKLUS-7'!T123 -> 0 | X65: ='SIKLUS-7'!U123 -> 0 | Y65: ='SIKLUS-7'!V123 -> 0 | Z65: ='SIKLUS-7'!W123 -> 0
J66: =SUM(J63:J65) -> 1 | K66: =SUM(K63:K65) -> 2 | L66: =SUM(L63:L65) -> 0 | M66: =SUM(M63:M65) -> 3 | U66: =AVERAGE(U63:U65) -> 1 | V66: =SUM(V63:V65) -> 0 | W66: =SUM(W63:W65) -> 0 | X66: =SUM(X63:X65) -> 0 | Y66: =SUM(Y63:Y65) -> 0 | Z66: =SUM(Z63:Z65) -> 0
A67: =A65+1 -> 46 | B67: Baucau | C67: Vemasse | D67: ='[2]POM 4 2023 BA PDF (2)'!$C$214 -> Caicua | E67: 7 | F67: 005 | G67: Obras Publikas | H67: Estrada Rurais (Estrada Rai) | I67: Konstrusaun | J67: 1 | M67: =J67+K67+L67 -> 1 | N67: 0 | P67: ='[3]Progres Infras'!$E$59 -> 34270 | Q67: 0 | R67: =P67-Q67 -> 34270 | S67: 0 | T67: =Q67/P67 -> 0 | U67: ='SIKLUS-7'!R124 -> 1 | V67: ='SIKLUS-7'!S124 -> 1 | W67: ='SIKLUS-7'!T124 -> 1 | X67: ='SIKLUS-7'!U124 -> 30 | Y67: ='SIKLUS-7'!V124 -> 0 | Z67: ='SIKLUS-7'!W124 -> 0
A68: =A67+1 -> 47 | B68: Baucau | C68: Vemasse | D68: ='[2]POM 4 2023 BA PDF (2)'!$C$217 -> Loilubu | E68: 7 | F68: 002 | G68: Bee no Saneamentu | H68: Sistema Bee Mos - Bomba (Bomba Submersible/Bomba Sentrifugal) | I68: Reabilitasaun | J68: 1 | M68: =J68+K68+L68 -> 1 | N68: 0 | P68: ='[3]Progres Infras'!$E$60 -> 30743 | Q68: 0 | R68: =P68-Q68 -> 30743 | S68: 0 | T68: =Q68/P68 -> 0 | U68: ='SIKLUS-7'!R125 -> 1 | V68: ='SIKLUS-7'!S125 -> 0 | W68: ='SIKLUS-7'!T125 -> 0 | X68: ='SIKLUS-7'!U125 -> 0 | Y68: ='SIKLUS-7'!V125 -> 0 | Z68: ='SIKLUS-7'!W125 -> 0
B69: Baucau | C69: Vemasse | D69: ='[2]POM 4 2023 BA PDF (2)'!$C$217 -> Loilubu | E69: 8 | F69: 005 | G69: Obras Publikas | H69: Estrada Rurais (Estrada Rai) | I69: Reabilitasaun | J69: 1 | M69: =J69+K69+L69 -> 1 | U69: ='SIKLUS-7'!R126 -> 1 | V69: ='SIKLUS-7'!S126 -> 0 | W69: ='SIKLUS-7'!T126 -> 0 | X69: ='SIKLUS-7'!U126 -> 0 | Y69: ='SIKLUS-7'!V126 -> 0 | Z69: ='SIKLUS-7'!W126 -> 0
A70: =A68+1 -> 48 | B70: Baucau | C70: Vemasse | D70: ='[2]POM 4 2023 BA PDF (2)'!$C$220 -> OssoAla | E70: 7 | F70: 005 | G70: Obras Publikas | H70: Estrada Rurais (Estrada Rai) | I70: Konstrusaun | J70: 1 | M70: =J70+K70+L70 -> 1 | N70: 0 | P70: ='[3]Progres Infras'!$E$61 -> 30743 | Q70: ='[3]Progres Infras'!$H$61 -> 13039 | R70: =P70-Q70 -> 17704 | S70: 0 | T70: =Q70/P70 -> 0.42412907 | U70: ='SIKLUS-7'!R127 -> 1 | V70: ='SIKLUS-7'!S127 -> 1 | W70: ='SIKLUS-7'!T127 -> 1 | X70: ='SIKLUS-7'!U127 -> 0 | Y70: ='SIKLUS-7'!V127 -> 0 | Z70: ='SIKLUS-7'!W127 -> 0
A71: =A70+1 -> 49 | B71: Baucau | C71: Vemasse | D71: ='[2]POM 4 2023 BA PDF (2)'!$C$223 -> Ostico | E71: 7 | F71: 005 | G71: Obras Publikas | H71: Estrada Rurais (Estrada Rai) | I71: Reabilitasaun | J71: 1 | M71: =J71+K71+L71 -> 1 | N71: 0 | P71: ='[3]Progres Infras'!$E$62 -> 30743 | Q71: 0 | R71: =P71-Q71 -> 30743 | S71: 0 | T71: =Q71/P71 -> 0 | U71: ='SIKLUS-7'!R128 -> 1 | V71: ='SIKLUS-7'!S128 -> 1 | W71: ='SIKLUS-7'!T128 -> 1 | X71: ='SIKLUS-7'!U128 -> 0 | Y71: ='SIKLUS-7'!V128 -> 0 | Z71: ='SIKLUS-7'!W128 -> 0
A72: =A71+1 -> 50 | B72: Baucau | C72: Vemasse | D72: ='[2]POM 4 2023 BA PDF (2)'!$C$226 -> Uaigae | E72: 7 | F72: 005 | G72: Obras Publikas | H72: Estrada Rurais (Estrada Betaun) | I72: Konstrusaun | J72: 1 | M72: =J72+K72+L72 -> 1 | N72: 0 | P72: ='[3]Progres Infras'!$E$63 -> 34270 | Q72: ='[3]Progres Infras'!$H$63 -> 5683.02 | R72: =P72-Q72 -> 28586.98 | S72: 0 | T72: =Q72/P72 -> 0.16583076 | U72: ='SIKLUS-7'!R129 -> 1 | V72: ='SIKLUS-7'!S129 -> 1 | W72: ='SIKLUS-7'!T129 -> 1 | X72: ='SIKLUS-7'!U129 -> 5 | Y72: ='SIKLUS-7'!V129 -> 0 | Z72: ='SIKLUS-7'!W129 -> 0
A73: =A72+1 -> 51 | B73: Baucau | C73: Vemasse | D73: ='[2]POM 4 2023 BA PDF (2)'!$C$229 -> Uatolari | E73: 7 | F73: 005 | G73: Obras Publikas | H73: Estrada Rurais (Estrada Rai) | I73: Konstrusaun | J73: 1 | M73: =J73+K73+L73 -> 1 | N73: 0 | P73: ='[3]Progres Infras'!$E$64 -> 30743 | Q73: 0 | R73: =P73-Q73 -> 30743 | S73: 0 | T73: =Q73/P73 -> 0 | U73: ='SIKLUS-7'!R130 -> 1 | V73: ='SIKLUS-7'!S130 -> 1 | W73: ='SIKLUS-7'!T130 -> 1 | X73: ='SIKLUS-7'!U130 -> 0 | Y73: ='SIKLUS-7'!V130 -> 0 | Z73: ='SIKLUS-7'!W130 -> 0
A74: =A73+1 -> 52 | B74: Baucau | C74: Vemasse | D74: ='[2]POM 4 2023 BA PDF (2)'!$C$232 -> Vemasse | E74: 7 | F74: 005 | G74: Obras Publikas | H74: Estrada Rurais (Estrada Telford) | I74: Konstrusaun | J74: 1 | M74: =J74+K74+L74 -> 1 | N74: 0 | P74: ='[3]Progres Infras'!$E$65 -> 41824 | Q74: 0 | R74: =P74-Q74 -> 41824 | S74: 0 | T74: =Q74/P74 -> 0 | U74: ='SIKLUS-7'!R131 -> 1 | V74: ='SIKLUS-7'!S131 -> 1 | W74: ='SIKLUS-7'!T131 -> 1 | X74: ='SIKLUS-7'!U131 -> 21 | Y74: ='SIKLUS-7'!V131 -> 0 | Z74: ='SIKLUS-7'!W131 -> 0
J75: =SUM(J67:J74) -> 8 | K75: =SUM(K67:K74) -> 0 | L75: =SUM(L67:L74) -> 0 | M75: =SUM(M67:M74) -> 8 | U75: =AVERAGE(U67:U74) -> 1 | V75: =SUM(V67:V74) -> 6 | W75: =SUM(W67:W74) -> 6 | X75: =SUM(X67:X74) -> 56 | Y75: =SUM(Y67:Y74) -> 0 | Z75: =SUM(Z67:Z74) -> 0
A76: =A74+1 -> 53 | B76: Baucau | C76: Venilale | D76: ='[2]POM 4 2023 BA PDF (2)'!$C$166 -> Badohoo | E76: 7 | F76: 005 | G76: Obras Publikas | H76: Estrada Rurais (Estrada Rai) | I76: Reabilitasaun | J76: 1 | M76: =J76+K76+L76 -> 1 | N76: 0 | P76: ='[3]Progres Infras'!$E$67 -> 38047 | Q76: 0 | R76: =P76-Q76 -> 38047 | S76: 0 | T76: =Q76/P76 -> 0 | U76: ='SIKLUS-7'!R132 -> 1 | V76: ='SIKLUS-7'!S132 -> 1 | W76: ='SIKLUS-7'!T132 -> 1 | X76: ='SIKLUS-7'!U132 -> 0 | Y76: ='SIKLUS-7'!V132 -> 0 | Z76: ='SIKLUS-7'!W132 -> 0
A77: =A76+1 -> 54 | B77: Baucau | C77: Venilale | D77: ='[2]POM 4 2023 BA PDF (2)'!$C$187 -> Bahamori | E77: 7 | F77: 005 | G77: Obras Publikas | H77: Estrada Rurais (Estrada Rai) | I77: Reabilitasaun | J77: 1 | M77: =J77+K77+L77 -> 1 | N77: 0 | P77: ='[3]Progres Infras'!$E$68 -> 34520 | Q77: 0 | R77: =P77-Q77 -> 34520 | S77: 0 | T77: =Q77/P77 -> 0 | U77: ='SIKLUS-7'!R133 -> 1 | V77: ='SIKLUS-7'!S133 -> 1 | W77: ='SIKLUS-7'!T133 -> 1 | X77: ='SIKLUS-7'!U133 -> 5 | Y77: ='SIKLUS-7'!V133 -> 0 | Z77: ='SIKLUS-7'!W133 -> 0
A78: =A77+1 -> 55 | B78: Baucau | C78: Venilale | D78: ='[2]POM 4 2023 BA PDF (2)'!$C$187 -> Bahamori | E78: 7 | F78: 002 | G78: Bee no Saneamentu | H78: Manutensaun periodiku no immediata ne'ebe relevante projetu bee mos | I78: Manutensaun | J78: 1 | M78: =J78+K78+L78 -> 1 | N78: 0 | P78: ='[3]Progres Infras'!$E$68 -> 34520 | Q78: 0 | R78: =P78-Q78 -> 34520 | S78: 0 | T78: =Q78/P78 -> 0 | U78: ='SIKLUS-7'!R134 -> 1 | V78: ='SIKLUS-7'!S134 -> 1 | W78: ='SIKLUS-7'!T134 -> 1 | X78: ='SIKLUS-7'!U134 -> 0 | Y78: ='SIKLUS-7'!V134 -> 0 | Z78: ='SIKLUS-7'!W134 -> 0
A79: =A78+1 -> 56 | B79: Baucau | C79: Venilale | D79: ='[2]POM 4 2023 BA PDF (2)'!$C$175 -> Fatulia | E79: 7 | F79: 005 | G79: Obras Publikas | H79: Estrada Rurais (Estrada Rai) | I79: Reabilitasaun | J79: 1 | M79: =J79+K79+L79 -> 1 | N79: 0 | P79: ='[3]Progres Infras'!$E$69 -> 38047 | Q79: 0 | R79: =P79-Q79 -> 38047 | S79: 0 | T79: =Q79/P79 -> 0 | U79: ='SIKLUS-7'!R135 -> 1 | V79: ='SIKLUS-7'!S135 -> 1 | W79: ='SIKLUS-7'!T135 -> 1 | X79: ='SIKLUS-7'!U135 -> 0 | Y79: ='SIKLUS-7'!V135 -> 0 | Z79: ='SIKLUS-7'!W135 -> 0
A80: =A79+1 -> 57 | B80: Baucau | C80: Venilale | D80: ='[2]POM 4 2023 BA PDF (2)'!$C$181 -> Uailaha | E80: 7 | F80: 005 | G80: Obras Publikas | H80: Estrada Rurais (Estrada Rai) | I80: Reabilitasaun | J80: 1 | M80: =J80+K80+L80 -> 1 | N80: 0 | P80: ='[3]Progres Infras'!$E$70 -> 38047 | Q80: 0 | R80: =P80-Q80 -> 38047 | S80: 0 | T80: =Q80/P80 -> 0 | U80: ='SIKLUS-7'!R136 -> 1 | V80: ='SIKLUS-7'!S136 -> 1 | W80: ='SIKLUS-7'!T136 -> 1 | X80: ='SIKLUS-7'!U136 -> 0 | Y80: ='SIKLUS-7'!V136 -> 0 | Z80: ='SIKLUS-7'!W136 -> 0
A81: =A80+1 -> 58 | B81: Baucau | C81: Venilale | D81: ='[2]POM 4 2023 BA PDF (2)'!$C$178 -> Uaioli | E81: 7 | F81: 005 | G81: Obras Publikas | H81: Estrada Rurais (Estrada Rai) | I81: Konstrusaun | J81: 1 | M81: =J81+K81+L81 -> 1 | N81: 0 | P81: ='[3]Progres Infras'!$E$71 -> 34270 | Q81: 0 | R81: =P81-Q81 -> 34270 | S81: 0 | T81: =Q81/P81 -> 0 | U81: ='SIKLUS-7'!R137 -> 1 | V81: ='SIKLUS-7'!S137 -> 1 | W81: ='SIKLUS-7'!T137 -> 1 | X81: ='SIKLUS-7'!U137 -> 4 | Y81: ='SIKLUS-7'!V137 -> 0 | Z81: ='SIKLUS-7'!W137 -> 0
A82: =A81+1 -> 59 | B82: Baucau | C82: Venilale | D82: ='[2]POM 4 2023 BA PDF (2)'!$C$184 -> Uatohaco | E82: 7 | F82: 002 | G82: Bee no Saneamentu | H82: Sistema Bee Mos - Gravitasaun | I82: Konstrusaun | J82: 1 | M82: =J82+K82+L82 -> 1 | N82: 0 | P82: ='[3]Progres Infras'!$E$72 -> 38047 | Q82: 0 | R82: =P82-Q82 -> 38047 | S82: 0 | T82: =Q82/P82 -> 0 | U82: ='SIKLUS-7'!R138 -> 1 | V82: ='SIKLUS-7'!S138 -> 1 | W82: ='SIKLUS-7'!T138 -> 1 | X82: ='SIKLUS-7'!U138 -> 35 | Y82: ='SIKLUS-7'!V138 -> 30 | Z82: ='SIKLUS-7'!W138 -> 0
A83: =A82+1 -> 60 | B83: Baucau | C83: Venilale | D83: ='[2]POM 4 2023 BA PDF (2)'!$C$172 -> Uma Ana Ico | E83: 7 | F83: 004 | G83: Agrikultura, Seguransa Ailementar no Buka Moris | H83: Bee Kanu (Sekundaria/kanu distribuisaun) - Hada Fatuk | I83: Konstrusaun | J83: 1 | M83: =J83+K83+L83 -> 1 | N83: 0 | P83: ='[3]Progres Infras'!$E$73 -> 34270 | Q83: 0 | R83: =P83-Q83 -> 34270 | S83: 0 | T83: =Q83/P83 -> 0 | U83: ='SIKLUS-7'!R139 -> 1 | V83: ='SIKLUS-7'!S139 -> 1 | W83: ='SIKLUS-7'!T139 -> 1 | X83: ='SIKLUS-7'!U139 -> 20 | Y83: ='SIKLUS-7'!V139 -> 0 | Z83: ='SIKLUS-7'!W139 -> 0
A84: =A83+1 -> 61 | B84: Baucau | C84: Venilale | D84: ='[2]POM 4 2023 BA PDF (2)'!$C$169 -> Uma Ana Ulo | E84: 7 | F84: 005 | G84: Obras Publikas | H84: Estrada Rurais (Estrada Rai) | I84: Reabilitasaun | J84: 1 | M84: =J84+K84+L84 -> 1 | N84: 0 | P84: ='[3]Progres Infras'!$E$74 -> 34520 | Q84: 0 | R84: =P84-Q84 -> 34520 | S84: 0 | T84: =Q84/P84 -> 0 | U84: ='SIKLUS-7'!R140 -> 1 | V84: ='SIKLUS-7'!S140 -> 1 | W84: ='SIKLUS-7'!T140 -> 1 | X84: ='SIKLUS-7'!U140 -> 4 | Y84: ='SIKLUS-7'!V140 -> 0 | Z84: ='SIKLUS-7'!W140 -> 0
J85: =SUM(J76:J84) -> 9 | K85: =SUM(K76:K84) -> 0 | L85: =SUM(L76:L84) -> 0 | M85: =SUM(M76:M84) -> 9 | U85: =AVERAGE(U76:U84) -> 1 | V85: =SUM(V76:V84) -> 9 | W85: =SUM(W76:W84) -> 9 | X85: =SUM(X76:X84) -> 68 | Y85: =SUM(Y76:Y84) -> 30 | Z85: =SUM(Z76:Z84) -> 0
A86: Baucau | D86: {=SUM(1/COUNTIF(D16:D84,D16:D84))} -> #DIV/0! | J86: =J85+J75+J66+J62+J56+J48+J39+J26 -> 40 | K86: =K85+K75+K66+K62+K56+K48+K39+K26 -> 22 | L86: =L85+L75+L66+L62+L56+L48+L39+L26 -> 0 | M86: =M85+M75+M66+M62+M56+M48+M39+M26 -> 62 | N86: =SUM(N16:N84) -> 478857 | O86: =SUM(O16:O84) -> 0 | P86: =SUM(N86+O86) -> 478857 | Q86: =SUM(Q16:Q84) -> 91264.32 | R86: =SUM(R16:R84) -> 2022667.7 | S86: =SUM(S16:S84) -> 0 | T86: =Q86/P86 -> 0.19058784 | U86: =(U85+U75+U66+U62+U56+U48+U39+U26)/8 -> 0.97210119 | V86: =V85+V75+V66+V62+V56+V48+V39+V26 -> 25 | W86: =W85+W75+W66+W62+W56+W48+W39+W26 -> 19 | X86: =X85+X75+X66+X62+X56+X48+X39+X26 -> 248 | Y86: =Y85+Y75+Y66+Y62+Y56+Y48+Y39+Y26 -> 43 | Z86: =Z85+Z75+Z66+Z62+Z56+Z48+Z39+Z26 -> 0

Sheet SIKLUS-7- SETOR
A8: PROGRESU ATIVIDADE PROGRAMA NASIONAL DEZENVOLVIMENTU SUKU (PNDS)
A9: FAZE1, FAZE 2 & FAZE 3 SIKLU 7
A10: TINAN 2025
A11: ATUALIZA IHA FULAN : AGOSTU 2025
A13: Nu. | B13: Munisipiu | C13: PA | D13: Suku | E13: Faze / Siklus | F13: Kode Setor | G13: Setor | H13: Naran Projetu | I13: Atividade | J13: FINALIZA | K13: LAO HELA | L13: SEIDAUK IMPLEMENTA | M13: Total Projetu | N13: Alokasaun Orsamentu | Q13: Gasta | R13: Balansu | S13: Osan restu | T13: % Gasta | U13: % Fiziku | V13: Status SAD | W13: Status SAI | X13: Traballador
N14: Transfere | O14: Osan Restu | P14: Total | X14: Feto | Y14: Mane | Z14: EHD
A16: 1 | B16: Baucau | C16: Baguia | D16: ='[2]POM 4 2023 BA PDF (2)'!$C$36 -> Afaloicai | E16: 7 | F16: 001 | G16: Saude | H16: Residensia Pessoal Saude | I16: Konstrusaun | M16: 1 | N16: ='[3]Progres Infras'!$E$48 -> 37797 | P16: =N16+O16 -> 37797 | Q16: 0 | R16: =P16-Q16 -> 37797 | S16: 0 | T16: =Q16/P16 -> 0 | U16: 0.35 | V16: 0 | W16: 0 | X16: ='[4]Tra. 2025'!$J$22 -> 0 | Y16: 0 | Z16: 0
A17: =A16+1 -> 2 | B17: Baucau | C17: Baguia | D17: ='[2]POM 4 2023 BA PDF (2)'!$C$30 -> Alaua Craik | E17: 7 | F17: 005 | G17: Obras Publikas | H17: Estrada Rurais (Estrada Rai) | I17: Reabilitasaun | M17: 1 | N17: ='[3]Progres Infras'!$E$49 -> 37797 | P17: =N17+O17 -> 37797 | Q17: 0 | R17: =P17-Q17 -> 37797 | S17: 0 | T17: =Q17/P17 -> 0 | U17: 0.12 | V17: 0 | W17: 0 | X17: ='[4]Tra. 2025'!$J$23 -> 12 | Y17: ='[4]Tra. 2025'!$K$23 -> 2 | Z17: 0
A18: =A17+1 -> 3 | B18: Baucau | C18: Baguia | D18: ='[2]POM 4 2023 BA PDF (2)'!$C$15 -> Alaua Leten | E18: 7 | F18: 005 | G18: Obras Publikas | H18: Estrada Rurais (Estrada Betaun) | I18: Reabilitasaun | M18: 1 | N18: ='[3]Progres Infras'!$E$50 -> 37797 | P18: =N18+O18 -> 37797 | Q18: 0 | R18: =P18-Q18 -> 37797 | S18: 0 | T18: =Q18/P18 -> 0 | U18: 0.51 | V18: 0 | W18: 0 | X18: ='[4]Tra. 2025'!$J$24 -> 0 | Y18: 0 | Z18: 0
A19: =A18+1 -> 4 | B19: Baucau | C19: Baguia | D19: ='[2]POM 4 2023 BA PDF (2)'!$C$18 -> Defauassi | E19: 7 | F19: 002 | G19: Bee no Saneamentu | H19: Sistema Bee Mos - Gravitasaun | I19: Reabilitasaun | M19: 1 | N19: ='[3]Progres Infras'!$E$51 -> 37651 | P19: =N19+O19 -> 37651 | Q19: 0 | R19: =P19-Q19 -> 37651 | S19: 0 | T19: =Q19/P19 -> 0 | U19: 0.5 | V19: 0 | W19: 0 | X19: ='[4]Tra. 2025'!$J$25 -> 0 | Y19: 0 | Z19: 0
A20: =A19+1 -> 5 | B20: Baucau | C20: Baguia | D20: ='[2]POM 4 2023 BA PDF (2)'!$C$24 -> Haeconi | E20: 7 | F20: 005 | G20: Obras Publikas | H20: Estrada Rurais (Estrada Rai) | I20: Konstrusaun | M20: 1 | N20: ='[3]Progres Infras'!$E$52 -> 41574 | P20: =N20+O20 -> 41574 | Q20: 0 | R20: =P20-Q20 -> 41574 | S20: 0 | T20: =Q20/P20 -> 0 | U20: 0.95 | V20: 0 | W20: 0 | X20: ='[4]Tra. 2025'!$J$26 -> 0 | Y20: 0 | Z20: 0
A21: =A20+1 -> 6 | B21: Baucau | C21: Baguia | D21: ='[2]POM 4 2023 BA PDF (2)'!$C$27 -> Larisula | E21: 7 | F21: 005 | G21: Obras Publikas | H21: Estrada Rurais (Estrada Rai) | I21: Reabilitasaun | M21: 1 | N21: ='[3]Progres Infras'!$E$53 -> 37797 | P21: =N21+O21 -> 37797 | Q21: 0 | R21: =P21-Q21 -> 37797 | S21: 0 | T21: =Q21/P21 -> 0 | U21: 0.98 | V21: 0 | W21: 0 | X21: ='[4]Tra. 2025'!$J$28 -> 0 | Y21: 0 | Z21: 0
A22: =A21+1 -> 7 | B22: Baucau | C22: Baguia | D22: ='[2]POM 4 2023 BA PDF (2)'!$C$21 -> Lavateri | E22: 7 | F22: 005 | G22: Obras Publikas | H22: Estrada Rurais (Estrada Rai) | I22: Konstrusaun | M22: 1 | N22: ='[3]Progres Infras'!$E$54 -> 34270 | P22: =N22+O22 -> 34270 | Q22: 0 | R22: =P22-Q22 -> 34270 | S22: 0 | T22: =Q22/P22 -> 0 | U22: 1 | V22: 0 | W22: 0 | X22: ='[4]Tra. 2025'!$J$28 -> 0 | Y22: 0 | Z22: 0
A23: =A22+1 -> 8 | B23: Baucau | C23: Baguia | D23: ='[2]POM 4 2023 BA PDF (2)'!$C$33 -> Ossohuna | E23: 7 | F23: 005 | G23: Obras Publikas | H23: Estrada Rurais (Estrada Rai) | I23: Konstrusaun | M23: 1 | N23: ='[3]Progres Infras'!$E$55 -> 37797 | P23: =N23+O23 -> 37797 | Q23: 0 | R23: =P23-Q23 -> 37797 | S23: 0 | T23: =Q23/P23 -> 0 | U23: 0.25 | V23: 0 | W23: 0 | X23: 0 | Y23: 0 | Z23: 0
A24: =A23+1 -> 9 | B24: Baucau | C24: Baguia | D24: ='[2]POM 4 2023 BA PDF (2)'!$C$39 -> Samalari | E24: 7 | F24: 002 | G24: Obras Publikas | H24: Estrada Rurais (Estrada Rai) | I24: Konstrusaun | M24: 1 | N24: ='[3]Progres Infras'!$E$56 -> 34270 | P24: =N24+O24 -> 34270 | Q24: 0 | R24: =P24-Q24 -> 34270 | S24: 0 | T24: =Q24/P24 -> 0 | U24: 0.03 | V24: 0 | W24: 0 | X24: 0 | Y24: 0 | Z24: 0
A25: =A24+1 -> 10 | B25: Baucau | C25: Baguia | D25: ='[2]POM 4 2023 BA PDF (2)'!$C$42 -> Uacala | E25: 7 | F25: 005 | G25: Obras Publikas | H25: Estrada Rurais (Estrada Rai) | I25: Konstrusaun | M25: 1 | N25: ='[3]Progres Infras'!$E$57 -> 34270 | P25: =N25+O25 -> 34270 | Q25: 0 | R25: =P25-Q25 -> 34270 | S25: 0 | T25: =Q25/P25 -> 0 | U25: 0.12 | V25: 0 | W25: 0 | X25: 0 | Y25: 0 | Z25: 0
A26: =A25+1 -> 11 | B26: Baucau | C26: Baucau Vila | D26: ='[2]POM 4 2023 BA PDF (2)'!$C$68 -> Bahu | E26: 7 | F26: 005 | G26: Obras Publikas | H26: Estrada Rurais (Estrada Rai) | I26: Reabilitasaun | M26: 1 | N26: ='[3]Progres Infras'!$E$36 -> 38547 | P26: =N26+O26 -> 38547 | Q26: 0 | R26: =P26-Q26 -> 38547 | S26: 0 | T26: =Q26/P26 -> 0 | U26: 0.57 | V26: 1 | W26: 0 | X26: 17 | Y26: 8 | Z26: 0
A27: =A26+1 -> 12 | B27: Baucau | C27: Baucau Vila | D27: ='[2]POM 4 2023 BA PDF (2)'!$C$71 -> Bucoli | E27: 7 | F27: 003 | G27: Edukasaun No Desportu | H27: Eskola Primaria | I27: Reabilitasaun | M27: 1 | N27: ='[3]Progres Infras'!$E$37 -> 34520 | P27: =N27+O27 -> 34520 | Q27: 0 | R27: =P27-Q27 -> 34520 | S27: 0 | T27: =Q27/P27 -> 0 | U27: 0.35 | V27: 0 | W27: 0 | X27: 0 | Y27: 0 | Z27: 0
A28: =A27+1 -> 13 | B28: Baucau | C28: Baucau Vila | D28: ='[2]POM 4 2023 BA PDF (2)'!$C$74 -> Buibau | E28: 7 | F28: 005 | G28: Obras Publikas | H28: Estrada Rurais (Estrada Betaun) | I28: Konstrusaun | M28: 1 | N28: ='[3]Progres Infras'!$E$38 -> 34770 | P28: =N28+O28 -> 34770 | Q28: ='[3]Progres Infras'!$H$38 -> 5579.25 | R28: =P28-Q28 -> 29190.75 | S28: 0 | T28: =Q28/P28 -> 0.1604616 | U28: 1 | V28: 1 | W28: 0 | X28: ='[4]Tra. 2025'!$J$35 -> 12 | Y28: ='[4]Tra. 2025'!$K$35 -> 2 | Z28: 0
A29: =A28+1 -> 14 | B29: Baucau | C29: Baucau Vila | D29: ='[2]POM 4 2023 BA PDF (2)'!$C$77 -> Buruma | E29: 7 | F29: 005 | G29: Obras Publikas | H29: Estrada Rurais (Estrada Betaun) | I29: Konstrusaun | M29: 1 | N29: 0 | P29: ='[3]Progres Infras'!$E$39 -> 38547 | Q29: 0 | R29: =P29-Q29 -> 38547 | S29: 0 | T29: =Q29/P29 -> 0 | U29: 0.45 | V29: 0 | W29: 0 | X29: 0 | Y29: 0 | Z29: 0
A30: =A29+1 -> 15 | B30: Baucau | C30: Baucau Vila | D30: ='[2]POM 4 2023 BA PDF (2)'!$C$80 -> Caibada | E30: 7 | F30: 005 | G30: Obras Publikas | H30: Drenazen - Hada Fatuk | I30: Reabilitasaun | M30: 1 | N30: 0 | P30: ='[3]Progres Infras'!$E$40 -> 30993 | Q30: ='[3]Progres Infras'!$H$40 -> 455 | R30: =P30-Q30 -> 30538 | S30: 0 | T30: =Q30/P30 -> 0.014680734 | U30: 0.4 | V30: 0 | W30: 0 | X30: 0 | Y30: 0 | Z30: 0
A31: =A30+1 -> 16 | B31: Baucau | C31: Baucau Vila | D31: Gar-iuai | E31: 7 | F31: 005 | G31: Obras Publikas | H31: Estrada Rurais (Estrada Rai) | I31: Reabilitasaun | M31: 1 | N31: 0 | P31: ='[3]Progres Infras'!$E$41 -> 38297 | Q31: 0 | R31: =P31-Q31 -> 38297 | S31: 0 | T31: =Q31/P31 -> 0 | U31: 1 | V31: 0 | W31: 0 | X31: 0 | Y31: 0 | Z31: 0
A32: =A31+1 -> 17 | B32: Baucau | C32: Baucau Vila | D32: Samalari | E32: 7 | F32: 005 | G32: Obras Publikas | H32: Estrada Rurais (Estrada Rai) | I32: Konstrusaun | M32: 1 | N32: 0 | P32: ='[3]Progres Infras'!$E$42 -> 30743 | Q32: 0 | R32: =P32-Q32 -> 30743 | S32: 0 | T32: =Q32/P32 -> 0 | U32: 0.1 | V32: 0 | W32: 0 | X32: 0 | Y32: 0 | Z32: 0
A33: =A32+1 -> 18 | B33: Baucau | C33: Baucau Vila | D33: ='[2]POM 4 2023 BA PDF (2)'!$C$83 -> Seical | E33: 7 | F33: 005 | G33: Obras Publikas | H33: Estrada Rurais (Estrada Rai) | I33: Konstrusaun | M33: 1 | N33: 0 | P33: ='[3]Progres Infras'!$E$43 -> 30743 | Q33: 0 | R33: =P33-Q33 -> 30743 | S33: 0 | T33: =Q33/P33 -> 0 | U33: 0.45 | V33: 0 | W33: 0 | X33: 0 | Y33: 0 | Z33: 0
A34: =A33+1 -> 19 | B34: Baucau | C34: Baucau Vila | D34: ='[2]POM 4 2023 BA PDF (2)'!$C$86 -> Tirilolo | E34: 7 | F34: 005 | G34: Obras Publikas | H34: Estrada Rurais (Estrada Rai) | I34: Reabilitasaun | M34: 1 | N34: 0 | P34: ='[3]Progres Infras'!$E$44 -> 38547 | Q34: 0 | R34: =P34-Q34 -> 38547 | S34: 0 | T34: =Q34/P34 -> 0 | U34: 0.83 | V34: 0 | W34: 0 | X34: 0 | Y34: 0 | Z34: 0
A35: =A34+1 -> 20 | B35: Baucau | C35: Baucau Vila | D35: ='[2]POM 4 2023 BA PDF (2)'!$C$89 -> Triloka | E35: 7 | F35: 005 | G35: Obras Publikas | H35: Estrada Rurais (Estrada Rai) | I35: Konstrusaun | M35: 1 | N35: 0 | P35: ='[3]Progres Infras'!$E$45 -> 34520 | Q35: 0 | R35: =P35-Q35 -> 34520 | S35: 0 | T35: =Q35/P35 -> 0 | U35: 1 | V35: 1 | W35: 1 | X35: 0 | Y35: 0 | Z35: 0
A36: =A35+1 -> 21 | B36: Baucau | C36: Baucau Vila | D36: ='[2]POM 4 2023 BA PDF (2)'!$C$92 -> Uailili | E36: 7 | F36: 005 | G36: Obras Publikas | H36: Estrada Rurais (Estrada Rai) | I36: Reabilitasaun | M36: 1 | N36: 0 | P36: ='[3]Progres Infras'!$E$46 -> 34520 | Q36: 0 | R36: =P36-Q36 -> 34520 | S36: 0 | T36: =Q36/P36 -> 0 | U36: 1 | V36: 1 | W36: 0 | X36: ='[4]Tra. 2025'!$J$43 -> 18 | Y36: ='[4]Tra. 2025'!$K$43 -> 1 | Z36: 0
A37: =A36+1 -> 22 | B37: Baucau | C37: Laga | D37: ='[2]POM 4 2023 BA PDF (2)'!$C$139 -> Atelari | E37: 7 | F37: 005 | G37: Obras Publikas | H37: Estrada Rurais (Estrada Rai) | I37: Konstrusaun | M37: 1 | N37: 0 | P37: ='[3]Progres Infras'!$E$11 -> 34270 | Q37: 0 | R37: =P37-Q37 -> 34270 | S37: 0 | T37: =Q37/P37 -> 0 | U37: 1 | V37: 0 | W37: 0 | X37: 0 | Y37: 0 | Z37: 0
A38: =A37+1 -> 23 | B38: Baucau | C38: Laga | D38: ='[2]POM 4 2023 BA PDF (2)'!$C$124 -> Libagua | E38: 7 | F38: 005 | G38: Obras Publikas | H38: Estrada Rurais (Estrada Rai) | I38: Reabilitasaun | M38: 1 | N38: 0 | P38: ='[3]Progres Infras'!$E$12 -> 34270 | Q38: 13862.8 | R38: =P38-Q38 -> 20407.2 | S38: 0 | T38: =Q38/P38 -> 0.40451707 | U38: 0.8 | V38: 0 | W38: 0 | X38: ='[4]Tra. 2025'!$J$46 -> 33 | Y38: 0 | Z38: 0
A39: =A38+1 -> 24 | B39: Baucau | C39: Laga | D39: ='[2]POM 4 2023 BA PDF (2)'!$C$127 -> Nunira | E39: 7 | F39: 005 | G39: Obras Publikas | H39: Estrada Rurais (Estrada Betaun) | I39: Reabilitasaun | M39: 1 | N39: 0 | P39: ='[3]Progres Infras'!$E$13 -> 34270 | Q39: ='[3]Progres Infras'!$H$13 -> 15392.3 | R39: =P39-Q39 -> 18877.7 | S39: 0 | T39: =Q39/P39 -> 0.44914794 | U39: 1 | V39: 0 | W39: 0 | X39: ='[4]Tra. 2025'!$J$47 -> 13 | Y39: 0 | Z39: 0
A40: =A39+1 -> 25 | B40: Baucau | C40: Laga | D40: ='[2]POM 4 2023 BA PDF (2)'!$C$133 -> Saelari | E40: 7 | F40: 005 | G40: Obras Publikas | H40: Estrada Rurais (Estrada Betaun) | I40: Reabilitasaun | M40: 1 | N40: 0 | P40: ='[3]Progres Infras'!$E$14 -> 38047 | Q40: 18319.5 | R40: =P40-Q40 -> 19727.5 | S40: 0 | T40: =Q40/P40 -> 0.48149657 | U40: 1 | V40: 0 | W40: 0 | X40: 0 | Y40: 0 | Z40: 0
A41: =A40+1 -> 26 | B41: Baucau | C41: Laga | D41: ='[2]POM 4 2023 BA PDF (2)'!$C$136 -> Sagadate | E41: 7 | F41: 005 | G41: Obras Publikas | H41: Estrada Rurais (Estrada Rai) | I41: Reabilitasaun | M41: 1 | N41: 0 | P41: ='[3]Progres Infras'!$E$15 -> 38047 | Q41: 18933.45 | R41: =P41-Q41 -> 19113.55 | S41: 0 | T41: =Q41/P41 -> 0.49763319 | U41: 1 | V41: 0 | W41: 0 | X41: 0 | Y41: 0 | Z41: 0
A42: =A41+1 -> 27 | B42: Baucau | C42: Laga | D42: ='[2]POM 4 2023 BA PDF (2)'!$C$130 -> Samalari | E42: 7 | F42: 005 | G42: Obras Publikas | H42: Estrada Rurais (Estrada Rai) | I42: Konstrusaun | M42: 1 | N42: 0 | P42: ='[3]Progres Infras'!$E$16 -> 38047 | Q42: 0 | R42: =P42-Q42 -> 38047 | S42: 0 | T42: =Q42/P42 -> 0 | U42: 0.2374 | V42: 0 | W42: 0 | X42: 0 | Y42: 0 | Z42: 0
A43: =A42+1 -> 28 | B43: Baucau | C43: Laga | D43: ='[2]POM 4 2023 BA PDF (2)'!$C$121 -> Soba | E43: 7 | F43: 005 | G43: Obras Publikas | H43: Estrada Rurais (Estrada Rai) | I43: Reabilitasaun | M43: 1 | N43: 0 | P43: ='[3]Progres Infras'!$E$17 -> 34520 | Q43: 0 | R43: =P43-Q43 -> 34520 | S43: 0 | T43: =Q43/P43 -> 0 | U43: 0.3565 | V43: 0 | W43: 0 | X43: 0 | Y43: 0 | Z43: 0
A44: =A43+1 -> 29 | B44: Baucau | C44: Laga | D44: ='[2]POM 4 2023 BA PDF (2)'!$C$118 -> Tequinomata | E44: 7 | F44: 002 | G44: Bee no Saneamentu | H44: Sistema Bee Mos - Bomba (Bomba Submersible/Bomba Sentrifugal) | I44: Reabilitasaun | M44: 1 | N44: 0 | P44: ='[3]Progres Infras'!$E$18 -> 34520 | Q44: 0 | R44: =P44-Q44 -> 34520 | S44: 0 | T44: =Q44/P44 -> 0 | U44: 0.5825 | V44: 0 | W44: 0 | X44: ='[4]Tra. 2025'!$J$52 -> 9 | Y44: 0 | Z44: 0
A45: =A44+1 -> 30 | B45: Baucau | C45: Quelicai | D45: ='[2]POM 4 2023 BA PDF (2)'!$C$269 -> Abafala | E45: 7 | F45: 005 | G45: Obras Publikas | H45: Estrada Rurais (Estrada Betaun) | I45: Reabilitasaun | M45: 1 | N45: 0 | P45: ='[3]Progres Infras'!$E$20 -> 30743 | Q45: 0 | R45: =P45-Q45 -> 30743 | S45: 0 | T45: =Q45/P45 -> 0 | U45: 0.35 | V45: 0 | W45: 0 | X45: 0 | Y45: 0 | Z45: 0
A46: =A45+1 -> 31 | B46: Baucau | C46: Quelicai | D46: ='[2]POM 4 2023 BA PDF (2)'!$C$263 -> Baguia | E46: 7 | F46: 002 | G46: Bee no Saneamentu | H46: Sistema Bee Mos - Bomba (Bomba Submersible/Bomba Sentrifugal) | I46: Konstrusaun | M46: 1 | N46: 0 | P46: ='[3]Progres Infras'!$E$23 -> 34270 | Q46: 0 | R46: =P46-Q46 -> 34270 | S46: 0 | T46: =Q46/P46 -> 0 | U46: ='[5]Siklu VII 2025'!$J$46 -> 0 | V46: 0 | W46: 0 | X46: 0 | Y46: 0 | Z46: 0
A47: =A46+1 -> 32 | B47: Baucau | C47: Quelicai | D47: ='[2]POM 4 2023 BA PDF (2)'!$C$260 -> Bualale | E47: 7 | F47: 005 | G47: Setor Seluk | H47: Kampu Multi Funsaun | I47: Reabilitasaun | M47: 1 | N47: 0 | P47: ='[3]Progres Infras'!$E$24 -> 38047 | Q47: 0 | R47: =P47-Q47 -> 38047 | S47: 0 | T47: =Q47/P47 -> 0 | U47: ='[5]Siklu VII 2025'!$J$47 -> 0 | V47: 0 | W47: 0 | X47: 0 | Y47: 0 | Z47: 0
A48: =A47+1 -> 33 | B48: Baucau | C48: Quelicai | D48: ='[2]POM 4 2023 BA PDF (2)'!$C$284 -> Lacoliu | E48: 7 | F48: 005 | G48: Obras Publikas | H48: Estrada Rurais (Estrada Betaun) | I48: Reabilitasaun | M48: 1 | N48: 0 | P48: ='[3]Progres Infras'!$E$30 -> 34270 | Q48: 0 | R48: =P48-Q48 -> 34270 | S48: 0 | T48: =Q48/P48 -> 0 | U48: 0.3 | V48: 0 | W48: 0 | X48: 0 | Y48: 0 | Z48: 0
A49: =A48+1 -> 34 | B49: Baucau | C49: Quelicai | D49: ='[2]POM 4 2023 BA PDF (2)'!$C$272 -> Letemumo | E49: 7 | F49: 002 | G49: Bee no Saneamentu | H49: Sistema Bee Mos - Bomba (Bomba Submersible/Bomba Sentrifugal) | I49: Konstrusaun | M49: 1 | N49: 0 | P49: ='[3]Progres Infras'!$E$29 -> 34270 | Q49: 0 | R49: =P49-Q49 -> 34270 | S49: 0 | T49: =Q49/P49 -> 0 | U49: 0.42 | V49: 0 | W49: 0 | X49: 0 | Y49: 0 | Z49: 0
A50: =A49+1 -> 35 | B50: Baucau | C50: Quelicai | D50: Macalaco | E50: 7 | F50: 005 | G50: Obras Publikas | H50: Estrada Rurais (Estrada Rai) | I50: Reabilitasaun | M50: 1 | N50: 0 | P50: ='[3]Progres Infras'!$E$31 -> 34270 | Q50: 0 | R50: =P50-Q50 -> 34270 | S50: 0 | T50: =Q50/P50 -> 0 | U50: 0.75 | V50: 0 | W50: 0 | X50: 0 | Y50: 0 | Z50: 0
A51: =A50+1 -> 36 | B51: Baucau | C51: Quelicai | D51: ='[2]POM 4 2023 BA PDF (2)'!$C$299 -> Uaitame | E51: 7 | F51: 005 | G51: Obras Publikas | H51: Estrada Rurais (Estrada Rai) | I51: Konstrusaun | M51: 1 | N51: 0 | P51: ='[3]Progres Infras'!$E$34 -> 38047 | Q51: 0 | R51: =P51-Q51 -> 38047 | S51: 0 | T51: =Q51/P51 -> 0 | U51: ='[5]Siklu VII 2025'!$J$51 -> 0 | V51: 0 | W51: 0 | X51: 0 | Y51: 0 | Z51: 0
A52: =A51+1 -> 37 | B52: Baucau | C52: Matebian | D52: ='[2]POM 4 2023 BA PDF (2)'!$C$257 -> Abo | E52: 7 | F52: 005 | G52: Obras Publikas | H52: Estrada Rurais (Estrada Betaun) | I52: Reabilitasaun | M52: 1 | N52: 0 | P52: ='[3]Progres Infras'!$E$21 -> 34270 | Q52: 0 | R52: =P52-Q52 -> 34270 | S52: 0 | T52: =Q52/P52 -> 0 | U52: 0.2 | V52: 0 | W52: 0 | X52: ='[4]Tra. 2025'!$J$62 -> 10 | Y52: 0 | Z52: 0
A53: =A52+1 -> 38 | B53: Baucau | C53: Matebian | D53: ='[2]POM 4 2023 BA PDF (2)'!$C$278 -> Laisor. De Baixo | E53: 7 | F53: 005 | G53: Obras Publikas | H53: Estrada Rurais (Estrada Betaun) | I53: Reabilitasaun | M53: 1 | N53: 0 | P53: ='[3]Progres Infras'!$E$26 -> 34270 | Q53: 0 | R53: =P53-Q53 -> 34270 | S53: 0 | T53: =Q53/P53 -> 0 | U53: 0.5 | V53: 0 | W53: 0 | X53: 0 | Y53: 0 | Z53: 0
A54: =A53+1 -> 39 | B54: Baucau | C54: Matebian | D54: ='[2]POM 4 2023 BA PDF (2)'!$C$275 -> Laisor. De Cima | E54: 7 | F54: 004 | G54: Agrikultura, Seguransa Ailementar no Buka Moris | H54: Bee Kanu (Sekundaria/kanu distribuisaun) - Hada Fatuk | I54: Konstrusaun | M54: 1 | N54: 0 | P54: ='[3]Progres Infras'!$E$27 -> 34270 | Q54: 0 | R54: =P54-Q54 -> 34270 | S54: 0 | T54: =Q54/P54 -> 0 | U54: 0.2 | V54: 0 | W54: 0 | X54: 0 | Y54: 0 | Z54: 0
A55: =A54+1 -> 40 | B55: Baucau | C55: Matebian | D55: ='[2]POM 4 2023 BA PDF (2)'!$C$287 -> Maluro | E55: 7 | F55: 004 | G55: Agrikultura, Seguransa Ailementar no Buka Moris | H55: Bee Kanu (Sekundaria/kanu distribuisaun) - Hada Fatuk | I55: Konstrusaun | M55: 1 | N55: 0 | P55: ='[3]Progres Infras'!$E$32 -> 34270 | Q55: 0 | R55: =P55-Q55 -> 34270 | S55: 0 | T55: =Q55/P55 -> 0 | U55: 0.4 | V55: 0 | W55: 0 | X55: 0 | Y55: 0 | Z55: 0
A56: =A55+1 -> 41 | B56: Baucau | C56: Matebian | D56: ='[2]POM 4 2023 BA PDF (2)'!$C$296 -> Lelalai | E56: 7 | F56: 005 | G56: Obras Publikas | H56: Bareiras (Tembok Penahan) - Hada Fatuk | I56: Konstrusaun | M56: 1 | N56: 0 | P56: ='[3]Progres Infras'!$E$28 -> 34270 | Q56: 0 | R56: =P56-Q56 -> 34270 | S56: 0 | T56: =Q56/P56 -> 0 | U56: 0.8 | V56: 0 | W56: 0 | X56: 0 | Y56: 0 | Z56: 0
A57: =A56+1 -> 42 | B57: Baucau | C57: Quelicai Antigu | D57: ='[2]POM 4 2023 BA PDF (2)'!$C$266 -> Afaca | E57: 7 | F57: 005 | G57: Obras Publikas | H57: Estrada Rurais (Estrada Betaun) | I57: Konstrusaun | M57: 1 | N57: 0 | P57: ='[3]Progres Infras'!$E$22 -> 34270 | Q57: 0 | R57: =P57-Q57 -> 34270 | S57: 0 | T57: =Q57/P57 -> 0 | U57: 0.1 | V57: 0 | W57: 0 | X57: 0 | Y57: 0 | Z57: 0
A58: =A57+1 -> 43 | B58: Baucau | C58: Quelicai Antigu | D58: ='[2]POM 4 2023 BA PDF (2)'!$C$293 -> Guruca | E58: 7 | F58: 005 | G58: Obras Publikas | H58: Estrada Rurais (Estrada Rai) | I58: Reabilitasaun | M58: 1 | N58: 0 | P58: ='[3]Progres Infras'!$E$25 -> 30743 | Q58: 0 | R58: =P58-Q58 -> 30743 | S58: 0 | T58: =Q58/P58 -> 0 | U58: 0.1 | V58: 0 | W58: 0 | X58: 0 | Y58: 0 | Z58: 0
A59: =A58+1 -> 44 | B59: Baucau | C59: Quelicai Antigu | D59: ='[2]POM 4 2023 BA PDF (2)'!$C$281 -> Namanei | E59: 7 | F59: 005 | G59: Obras Publikas | H59: Estrada Rurais (Estrada Rai) | I59: Konstrusaun | M59: 1 | N59: 0 | P59: ='[3]Progres Infras'!$E$33 -> 34270 | Q59: 0 | R59: =P59-Q59 -> 34270 | S59: 0 | T59: =Q59/P59 -> 0 | U59: 0.33 | V59: 0 | W59: 0 | X59: 0 | Y59: 0 | Z59: 0
A60: =A59+1 -> 45 | B60: Baucau | C60: Vemasse | D60: ='[2]POM 4 2023 BA PDF (2)'!$C$214 -> Caicua | E60: 7 | F60: 005 | G60: Obras Publikas | H60: Estrada Rurais (Estrada Rai) | I60: Konstrusaun | M60: 1 | N60: 0 | P60: ='[3]Progres Infras'!$E$59 -> 34270 | Q60: 0 | R60: =P60-Q60 -> 34270 | S60: 0 | T60: =Q60/P60 -> 0 | U60: 1 | V60: 1 | W60: 0 | X60: ='[4]Tra. 2025'!$J$72 -> 30 | Y60: 0 | Z60: 0
A61: =A60+1 -> 46 | B61: Baucau | C61: Vemasse | D61: ='[2]POM 4 2023 BA PDF (2)'!$C$217 -> Loilubu | E61: 7 | F61: 002 | G61: Bee no Saneamentu | H61: Sistema Bee Mos - Bomba (Bomba Submersible/Bomba Sentrifugal) | I61: Konstrusaun | M61: 1 | N61: 0 | P61: ='[3]Progres Infras'!$E$60 -> 30743 | Q61: 0 | R61: =P61-Q61 -> 30743 | S61: 0 | T61: =Q61/P61 -> 0 | U61: 0.15 | V61: 0 | W61: 0 | X61: 0 | Y61: 0 | Z61: 0
A62: =A61+1 -> 47 | B62: Baucau | C62: Vemasse | D62: ='[2]POM 4 2023 BA PDF (2)'!$C$220 -> OssoAla | E62: 7 | F62: 005 | G62: Obras Publikas | H62: Estrada Rurais (Estrada Rai) | I62: Konstrusaun | M62: 1 | N62: 0 | P62: ='[3]Progres Infras'!$E$61 -> 30743 | Q62: ='[3]Progres Infras'!$H$61 -> 13039 | R62: =P62-Q62 -> 17704 | S62: 0 | T62: =Q62/P62 -> 0.42412907 | U62: 1 | V62: 1 | W62: 0 | X62: 0 | Y62: 0 | Z62: 0
A63: =A62+1 -> 48 | B63: Baucau | C63: Vemasse | D63: ='[2]POM 4 2023 BA PDF (2)'!$C$223 -> Ostico | E63: 7 | F63: 005 | G63: Obras Publikas | H63: Estrada Rurais (Estrada Rai) | I63: Reabilitasaun | M63: 1 | N63: 0 | P63: ='[3]Progres Infras'!$E$62 -> 30743 | Q63: 0 | R63: =P63-Q63 -> 30743 | S63: 0 | T63: =Q63/P63 -> 0 | U63: 1 | V63: 0 | W63: 0 | X63: 0 | Y63: 0 | Z63: 0
A64: =A63+1 -> 49 | B64: Baucau | C64: Vemasse | D64: ='[2]POM 4 2023 BA PDF (2)'!$C$226 -> Uaigae | E64: 7 | F64: 005 | G64: Obras Publikas | H64: Estrada Rurais (Estrada Betaun) | I64: Konstrusaun | M64: 1 | N64: 0 | P64: ='[3]Progres Infras'!$E$63 -> 34270 | Q64: ='[3]Progres Infras'!$H$63 -> 5683.02 | R64: =P64-Q64 -> 28586.98 | S64: 0 | T64: =Q64/P64 -> 0.16583076 | U64: 1 | V64: 1 | W64: 1 | X64: ='[4]Tra. 2025'!$J$76 -> 5 | Y64: 0 | Z64: 0
A65: =A64+1 -> 50 | B65: Baucau | C65: Vemasse | D65: ='[2]POM 4 2023 BA PDF (2)'!$C$229 -> Uatolari | E65: 7 | F65: 005 | G65: Obras Publikas | H65: Estrada Rurais (Estrada Rai) | I65: Konstrusaun | M65: 1 | N65: 0 | P65: ='[3]Progres Infras'!$E$64 -> 30743 | Q65: 0 | R65: =P65-Q65 -> 30743 | S65: 0 | T65: =Q65/P65 -> 0 | U65: 0.75 | V65: 0 | W65: 0 | X65: 0 | Y65: 0 | Z65: 0
A66: =A65+1 -> 51 | B66: Baucau | C66: Vemasse | D66: ='[2]POM 4 2023 BA PDF (2)'!$C$232 -> Vemasse | E66: 7 | F66: 005 | G66: Obras Publikas | H66: Estrada Rurais (Estrada Telford) | I66: Konstrusaun | M66: 1 | N66: 0 | P66: ='[3]Progres Infras'!$E$65 -> 41824 | Q66: 0 | R66: =P66-Q66 -> 41824 | S66: 0 | T66: =Q66/P66 -> 0 | U66: 1 | V66: 0 | W66: 0 | X66: ='[4]Tra. 2025'!$J$78 -> 21 | Y66: 0 | Z66: 0
A67: =A66+1 -> 52 | B67: Baucau | C67: Venilale | D67: ='[2]POM 4 2023 BA PDF (2)'!$C$166 -> Badohoo | E67: 7 | F67: 005 | G67: Obras Publikas | H67: Estrada Rurais (Estrada Rai) | I67: Reabilitasaun | M67: 1 | N67: 0 | P67: ='[3]Progres Infras'!$E$67 -> 38047 | Q67: 0 | R67: =P67-Q67 -> 38047 | S67: 0 | T67: =Q67/P67 -> 0 | U67: 1 | V67: 0 | W67: 0 | X67: 0 | Y67: 0 | Z67: 0
A68: =A67+1 -> 53 | B68: Baucau | C68: Venilale | D68: ='[2]POM 4 2023 BA PDF (2)'!$C$187 -> Bahamori | E68: 7 | F68: 005 | G68: Obras Publikas | H68: Estrada Rurais (Estrada Rai) | I68: Reabilitasaun | M68: 1 | N68: 0 | P68: ='[3]Progres Infras'!$E$68 -> 34520 | Q68: 0 | R68: =P68-Q68 -> 34520 | S68: 0 | T68: =Q68/P68 -> 0 | U68: 1 | V68: 0 | W68: 0 | X68: ='[4]Tra. 2025'!$J$81 -> 5 | Y68: 0 | Z68: 0
A69: =A68+1 -> 54 | B69: Baucau | C69: Venilale | D69: ='[2]POM 4 2023 BA PDF (2)'!$C$187 -> Bahamori | E69: 7 | F69: 002 | G69: Bee no Saneamentu | H69: Manutensaun periodiku no immediata ne'ebe relevante projetu bee mos | I69: Manutensaun | M69: 1 | N69: 0 | P69: ='[3]Progres Infras'!$E$68 -> 34520 | Q69: 0 | R69: =P69-Q69 -> 34520 | S69: 0 | T69: =Q69/P69 -> 0 | U69: 1 | V69: 0 | W69: 0 | X69: 0 | Y69: 0 | Z69: 0
A70: =A69+1 -> 55 | B70: Baucau | C70: Venilale | D70: ='[2]POM 4 2023 BA PDF (2)'!$C$175 -> Fatulia | E70: 7 | F70: 005 | G70: Obras Publikas | H70: Estrada Rurais (Estrada Rai) | I70: Reabilitasaun | M70: 1 | N70: 0 | P70: ='[3]Progres Infras'!$E$69 -> 38047 | Q70: 0 | R70: =P70-Q70 -> 38047 | S70: 0 | T70: =Q70/P70 -> 0 | U70: 1 | V70: 0 | W70: 0 | X70: 0 | Y70: 0 | Z70: 0
A71: =A70+1 -> 56 | B71: Baucau | C71: Venilale | D71: ='[2]POM 4 2023 BA PDF (2)'!$C$181 -> Uailaha | E71: 7 | F71: 005 | G71: Obras Publikas | H71: Estrada Rurais (Estrada Rai) | I71: Reabilitasaun | M71: 1 | N71: 0 | P71: ='[3]Progres Infras'!$E$70 -> 38047 | Q71: 0 | R71: =P71-Q71 -> 38047 | S71: 0 | T71: =Q71/P71 -> 0 | U71: 1 | V71: 1 | W71: 0 | X71: 0 | Y71: 0 | Z71: 0
A72: =A71+1 -> 57 | B72: Baucau | C72: Venilale | D72: ='[2]POM 4 2023 BA PDF (2)'!$C$178 -> Uaioli | E72: 7 | F72: 005 | G72: Obras Publikas | H72: Estrada Rurais (Estrada Rai) | I72: Konstrusaun | M72: 1 | N72: 0 | P72: ='[3]Progres Infras'!$E$71 -> 34270 | Q72: 0 | R72: =P72-Q72 -> 34270 | S72: 0 | T72: =Q72/P72 -> 0 | U72: 1 | V72: 1 | W72: 0 | X72: ='[4]Tra. 2025'!$J$85 -> 4 | Y72: 0 | Z72: 0
A73: =A72+1 -> 58 | B73: Baucau | C73: Venilale | D73: ='[2]POM 4 2023 BA PDF (2)'!$C$184 -> Uatohaco | E73: 7 | F73: 002 | G73: Bee no Saneamentu | H73: Sistema Bee Mos - Gravitasaun | I73: Konstrusaun | M73: 1 | N73: 0 | P73: ='[3]Progres Infras'!$E$72 -> 38047 | Q73: 0 | R73: =P73-Q73 -> 38047 | S73: 0 | T73: =Q73/P73 -> 0 | U73: 0.86 | V73: 1 | W73: 0 | X73: ='[4]Tra. 2025'!$J$86 -> 35 | Y73: ='[4]Tra. 2025'!$K$86 -> 30 | Z73: 0
A74: =A73+1 -> 59 | B74: Baucau | C74: Venilale | D74: ='[2]POM 4 2023 BA PDF (2)'!$C$172 -> Uma Ana Ico | E74: 7 | F74: 004 | G74: Agrikultura, Seguransa Ailementar no Buka Moris | H74: Bee Kanu (Sekundaria/kanu distribuisaun) - Hada Fatuk | I74: Konstrusaun | M74: 1 | N74: 0 | P74: ='[3]Progres Infras'!$E$73 -> 34270 | Q74: 0 | R74: =P74-Q74 -> 34270 | S74: 0 | T74: =Q74/P74 -> 0 | U74: 1 | V74: 1 | W74: 0 | X74: ='[4]Tra. 2025'!$J$87 -> 20 | Y74: 0 | Z74: 0
A75: =A74+1 -> 60 | B75: Baucau | C75: Venilale | D75: ='[2]POM 4 2023 BA PDF (2)'!$C$169 -> Uma Ana Ulo | E75: 7 | F75: 005 | G75: Obras Publikas | H75: Estrada Rurais (Estrada Rai) | I75: Reabilitasaun | M75: 1 | N75: 0 | P75: ='[3]Progres Infras'!$E$74 -> 34520 | Q75: 0 | R75: =P75-Q75 -> 34520 | S75: 0 | T75: =Q75/P75 -> 0 | U75: 1 | V75: 0 | W75: 0 | X75: ='[4]Tra. 2025'!$J$88 -> 4 | Y75: 0 | Z75: 0
A76: Baucau | D76: {=SUM(1/COUNTIF(D16:D75,D16:D75))} -> 57 | M76: =SUM(M16:M75) -> 60 | N76: =SUM(N16:N75) -> 478857 | O76: =SUM(O16:O75) -> 0 | P76: =SUM(N76+O76) -> 478857 | Q76: =SUM(Q16:Q75) -> 91264.32 | R76: =SUM(R16:R75) -> 2022667.7 | S76: =SUM(S16:S75) -> 0 | T76: =Q76/P76 -> 0.19058784 | U76: =AVERAGE(U16:U75) -> 0.61910667 | V76: =SUM(V16:V75) -> 11 | W76: =SUM(W16:W75) -> 2 | X76: =SUM(X16:X75) -> 248 | Y76: =SUM(Y16:Y75) -> 43 | Z76: =SUM(Z16:Z75) -> 0
A80: 1 | B80: Baucau | C80: Baguia | D80: ='[2]POM 4 2023 BA PDF (2)'!$C$36 -> Afaloicai | E80: 7 | F80: 001 | G80: Saude | H80: Residensia Pessoal Saude | I80: Konstrusaun | K80: 1 | M80: =J80+K80+L80 -> 1 | N80: ='[3]Progres Infras'!$E$48 -> 37797 | P80: =N80+O80 -> 37797 | Q80: 0 | R80: =P80-Q80 -> 37797 | S80: 0 | T80: =Q80/P80 -> 0 | U80: ='SIKLUS-7'!R79 -> 0.85 | V80: ='SIKLUS-7'!S79 -> 0 | W80: ='SIKLUS-7'!T79 -> 0 | X80: ='SIKLUS-7'!U79 -> 0 | Y80: ='SIKLUS-7'!V79 -> 0 | Z80: ='SIKLUS-7'!W79 -> 0
J81: =SUM(J80) -> 0 | K81: =SUM(K80) -> 1 | L81: =SUM(L80) -> 0 | M81: =SUM(M80) -> 1 | U81: =AVERAGE(U80) -> 0.85 | V81: =SUM(V80) -> 0 | W81: =SUM(W80) -> 0 | X81: =SUM(X80) -> 0 | Y81: =SUM(Y80) -> 0 | Z81: =SUM(Z80) -> 0
A82: =A80+1 -> 2 | B82: Baucau | C82: Baguia | D82: Defauassi | E82: 7 | F82: 002 | G82: Bee no Saneamentu | H82: Sistema Bee Mos - Gravitasaun | I82: Reabilitasaun | K82: 1 | M82: =J82+K82+L82 -> 1 | N82: 37651 | P82: 37651 | Q82: 0 | R82: 37651 | S82: 0 | T82: 0 | U82: ='SIKLUS-7'!R82 -> 1 | V82: ='SIKLUS-7'!S82 -> 0 | W82: ='SIKLUS-7'!T82 -> 0 | X82: ='SIKLUS-7'!U82 -> 0 | Y82: ='SIKLUS-7'!V82 -> 0 | Z82: ='SIKLUS-7'!W82 -> 0
A83: =A82+1 -> 3 | B83: Baucau | C83: Baguia | D83: Samalari | E83: 7 | F83: 002 | G83: Obras Publikas | H83: Estrada Rurais (Estrada Rai) | I83: Konstrusaun | J83: 1 | M83: =J83+K83+L83 -> 1 | N83: 34270 | P83: 34270 | Q83: 0 | R83: 34270 | S83: 0 | T83: 0 | U83: ='SIKLUS-7'!R87 -> 1 | V83: ='SIKLUS-7'!S87 -> 0 | W83: ='SIKLUS-7'!T87 -> 0 | X83: ='SIKLUS-7'!U87 -> 0 | Y83: ='SIKLUS-7'!V87 -> 0 | Z83: ='SIKLUS-7'!W87 -> 0
A84: =A83+1 -> 4 | B84: Baucau | C84: Laga | D84: Tequinomata | E84: 7 | F84: 002 | G84: Bee no Saneamentu | H84: Sistema Bee Mos - Bomba (Bomba Submersible/Bomba Sentrifugal) | I84: Reabilitasaun | J84: 1 | M84: =J84+K84+L84 -> 1 | N84: 0 | P84: 34520 | Q84: 0 | R84: 34520 | S84: 0 | T84: 0 | U84: ='SIKLUS-7'!R108 -> 1 | V84: ='SIKLUS-7'!S108 -> 0 | W84: ='SIKLUS-7'!T108 -> 0 | X84: ='SIKLUS-7'!U108 -> 9 | Y84: ='SIKLUS-7'!V108 -> 0 | Z84: ='SIKLUS-7'!W108 -> 0
A85: =A84+1 -> 5 | B85: Baucau | C85: Quelicai | D85: Baguia | E85: 7 | F85: 002 | G85: Bee no Saneamentu | H85: Sistema Bee Mos - Bomba (Bomba Submersible/Bomba Sentrifugal) | I85: Konstrusaun | K85: 1 | M85: =J85+K85+L85 -> 1 | N85: 0 | P85: 34270 | Q85: 0 | R85: 34270 | S85: 0 | T85: 0 | U85: ='SIKLUS-7'!R110 -> 0.95 | V85: ='SIKLUS-7'!S110 -> 0 | W85: ='SIKLUS-7'!T110 -> 0 | X85: ='SIKLUS-7'!U110 -> 0 | Y85: ='SIKLUS-7'!V110 -> 0 | Z85: ='SIKLUS-7'!W110 -> 0
A86: =A85+1 -> 6 | B86: Baucau | C86: Quelicai | D86: Letemumo | E86: 7 | F86: 002 | G86: Bee no Saneamentu | H86: Sistema Bee Mos - Bomba (Bomba Submersible/Bomba Sentrifugal) | I86: Konstrusaun | K86: 1 | M86: =J86+K86+L86 -> 1 | N86: 0 | P86: 34270 | Q86: 0 | R86: 34270 | S86: 0 | T86: 0 | U86: ='SIKLUS-7'!R113 -> 0.95 | V86: ='SIKLUS-7'!S113 -> 0 | W86: ='SIKLUS-7'!T113 -> 0 | X86: ='SIKLUS-7'!U113 -> 0 | Y86: ='SIKLUS-7'!V113 -> 0 | Z86: ='SIKLUS-7'!W113 -> 0
A87: =A86+1 -> 7 | B87: Baucau | C87: Vemasse | D87: Loilubu | E87: 7 | F87: 002 | G87: Bee no Saneamentu | H87: Sistema Bee Mos - Bomba (Bomba Submersible/Bomba Sentrifugal) | I87: Konstrusaun | J87: 1 | M87: =J87+K87+L87 -> 1 | N87: 0 | P87: 30743 | Q87: 0 | R87: 30743 | S87: 0 | T87: 0 | U87: ='SIKLUS-7'!R125 -> 1 | V87: ='SIKLUS-7'!S125 -> 0 | W87: ='SIKLUS-7'!T125 -> 0 | X87: ='SIKLUS-7'!U125 -> 0 | Y87: ='SIKLUS-7'!V125 -> 0 | Z87: ='SIKLUS-7'!W125 -> 0
A88: =A87+1 -> 8 | B88: Baucau | C88: Venilale | D88: Bahamori | E88: 7 | F88: 002 | G88: Bee no Saneamentu | H88: Manutensaun periodiku no immediata ne'ebe relevante projetu bee mos | I88: Manutensaun | J88: 1 | M88: =J88+K88+L88 -> 1 | N88: 0 | P88: 34520 | Q88: 0 | R88: 34520 | S88: 0 | T88: 0 | U88: ='SIKLUS-7'!R134 -> 1 | V88: ='SIKLUS-7'!S134 -> 1 | W88: ='SIKLUS-7'!T134 -> 1 | X88: ='SIKLUS-7'!U134 -> 0 | Y88: ='SIKLUS-7'!V134 -> 0 | Z88: ='SIKLUS-7'!W134 -> 0
A89: =A88+1 -> 9 | B89: Baucau | C89: Venilale | D89: Uatohaco | E89: 7 | F89: 002 | G89: Bee no Saneamentu | H89: Sistema Bee Mos - Gravitasaun | I89: Konstrusaun | J89: 1 | M89: =J89+K89+L89 -> 1 | N89: 0 | P89: 38047 | Q89: 0 | R89: 38047 | S89: 0 | T89: 0 | U89: ='SIKLUS-7'!R138 -> 1 | V89: ='SIKLUS-7'!S138 -> 1 | W89: ='SIKLUS-7'!T138 -> 1 | X89: ='SIKLUS-7'!U138 -> 35 | Y89: ='SIKLUS-7'!V138 -> 30 | Z89: ='SIKLUS-7'!W138 -> 0
J90: =SUM(J82:J89) -> 5 | K90: =SUM(K82:K89) -> 3 | L90: =SUM(L82:L89) -> 0 | M90: =SUM(M82:M89) -> 8 | U90: =AVERAGE(U82:U89) -> 0.9875 | V90: =SUM(V82:V89) -> 2 | W90: =SUM(W82:W89) -> 2 | X90: =SUM(X82:X89) -> 44 | Y90: =SUM(Y82:Y89) -> 30 | Z90: =SUM(Z82:Z89) -> 0
A91: =A89+1 -> 10 | B91: Baucau | C91: Baucau Vila | D91: ='[2]POM 4 2023 BA PDF (2)'!$C$71 -> Bucoli | E91: 7 | F91: 003 | G91: Edukasaun No Desportu | H91: Eskola Primaria | I91: Reabilitasaun | K91: 1 | M91: =J91+K91+L91 -> 1 | N91: ='[3]Progres Infras'!$E$37 -> 34520 | P91: =N91+O91 -> 34520 | Q91: 0 | R91: =P91-Q91 -> 34520 | S91: 0 | T91: =Q91/P91 -> 0 | U91: ='SIKLUS-7'!R90 -> 1 | V91: ='SIKLUS-7'!S90 -> 0 | W91: ='SIKLUS-7'!T90 -> 0 | X91: ='SIKLUS-7'!U90 -> 0 | Y91: ='SIKLUS-7'!V90 -> 0 | Z91: ='SIKLUS-7'!W90 -> 0
A92: =A91+1 -> 11 | B92: Baucau | C92: Baucau Vila | D92: Samalri | E92: 7 | F92: 003 | G92: Edukasaun No Desportu | H92: Eskola Primaria | I92: Reabilitasaun | K92: 1 | M92: =J92+K92+L92 -> 1 | N92: 0 | P92: ='[3]Progres Infras'!$E$42 -> 30743 | Q92: 0 | R92: =P92-Q92 -> 30743 | S92: 0 | T92: =Q92/P92 -> 0 | U92: ='SIKLUS-7'!R95 -> 0.48 | V92: ='SIKLUS-7'!S95 -> 0 | W92: ='SIKLUS-7'!T95 -> 0 | X92: ='SIKLUS-7'!U95 -> 0 | Y92: ='SIKLUS-7'!V95 -> 0 | Z92: ='SIKLUS-7'!W95 -> 0
J93: =SUM(J91:J92) -> 0 | K93: =SUM(K91:K92) -> 2 | L93: =SUM(L91:L92) -> 0 | M93: =SUM(M91:M92) -> 2 | U93: =AVERAGE(U91:U92) -> 0.74 | V93: =SUM(V91) -> 0 | W93: =SUM(W91) -> 0 | X93: =SUM(X91) -> 0 | Y93: =SUM(Y91) -> 0 | Z93: =SUM(Z91) -> 0
A94: =A92+1 -> 12 | B94: Baucau | C94: Baucau Vila | D94: Triloka | E94: 7 | F94: 005 | G94: Agrikultura, Seguransa Ailementar no Buka Moris | H94: Fatin hakiak fahi (Fahi Luhan) | I94: Konstrusaun | K94: 1 | M94: =J94+K94+L94 -> 1 | U94: ='SIKLUS-7'!R99 -> 0.7 | V94: ='SIKLUS-7'!S99 -> 0 | W94: ='SIKLUS-7'!T99 -> 0 | X94: ='SIKLUS-7'!U99 -> 0 | Y94: ='SIKLUS-7'!V99 -> 0 | Z94: ='SIKLUS-7'!W99 -> 0
A95: =A94+1 -> 13 | B95: Baucau | C95: Matebian | D95: Laisor. De Cima | E95: 7 | F95: 004 | G95: Agrikultura, Seguransa Ailementar no Buka Moris | H95: Bee Kanu (Sekundaria/kanu distribuisaun) - Hada Fatuk | I95: Konstrusaun | K95: 1 | M95: =J95+K95+L95 -> 1 | N95: 0 | P95: 34270 | Q95: 0 | R95: 34270 | S95: 0 | T95: 0 | U95: ='SIKLUS-7'!R118 -> 0.92 | V95: ='SIKLUS-7'!S118 -> 0 | W95: ='SIKLUS-7'!T118 -> 0 | X95: ='SIKLUS-7'!U118 -> 0 | Y95: ='SIKLUS-7'!V118 -> 0 | Z95: ='SIKLUS-7'!W118 -> 0
A96: =A95+1 -> 14 | B96: Baucau | C96: Matebian | D96: Maluro | E96: 7 | F96: 004 | G96: Agrikultura, Seguransa Ailementar no Buka Moris | H96: Bee Kanu (Sekundaria/kanu distribuisaun) - Hada Fatuk | I96: Konstrusaun | K96: 1 | M96: =J96+K96+L96 -> 1 | N96: 0 | P96: 34270 | Q96: 0 | R96: 34270 | S96: 0 | T96: 0 | U96: ='SIKLUS-7'!R119 -> 1 | V96: ='SIKLUS-7'!S119 -> 0 | W96: ='SIKLUS-7'!T119 -> 0 | X96: ='SIKLUS-7'!U119 -> 0 | Y96: ='SIKLUS-7'!V119 -> 0 | Z96: ='SIKLUS-7'!W119 -> 0
A97: =A96+1 -> 15 | B97: Baucau | C97: Venilale | D97: Uma Ana Ico | E97: 7 | F97: 004 | G97: Agrikultura, Seguransa Ailementar no Buka Moris | H97: Bee Kanu (Sekundaria/kanu distribuisaun) - Hada Fatuk | I97: Konstrusaun | J97: 1 | M97: =J97+K97+L97 -> 1 | N97: 0 | P97: 34270 | Q97: 0 | R97: 34270 | S97: 0 | T97: 0 | U97: ='SIKLUS-7'!R139 -> 1 | V97: ='SIKLUS-7'!S139 -> 1 | W97: ='SIKLUS-7'!T139 -> 1 | X97: ='SIKLUS-7'!U139 -> 20 | Y97: ='SIKLUS-7'!V139 -> 0 | Z97: ='SIKLUS-7'!W139 -> 0
J98: =SUM(J95:J97) -> 1 | K98: =SUM(K94:K97) -> 3 | L98: =SUM(L94:L97) -> 0 | M98: =SUM(M94:M97) -> 4 | U98: =AVERAGE(U95:U97) -> 0.97333333 | V98: =SUM(V95:V97) -> 1 | W98: =SUM(W95:W97) -> 1 | X98: =SUM(X95:X97) -> 20 | Y98: =SUM(Y95:Y97) -> 0 | Z98: =SUM(Z95:Z97) -> 0
A99: =A97+1 -> 16 | B99: Baucau | C99: Baguia | D99: Alaua Craik | E99: 7 | F99: 005 | G99: Obras Publikas | H99: Estrada Rurais (Estrada Rai) | I99: Reabilitasaun | K99: 1 | M99: =J99+K99+L99 -> 1 | N99: 37797 | P99: 37797 | Q99: 0 | R99: 37797 | S99: 0 | T99: 0 | U99: ='SIKLUS-7'!R80 -> 0.95 | V99: ='SIKLUS-7'!S80 -> 0 | W99: ='SIKLUS-7'!T80 -> 0 | X99: ='SIKLUS-7'!U80 -> 12 | Y99: ='SIKLUS-7'!V80 -> 2 | Z99: ='SIKLUS-7'!W80 -> 0
A100: =A99+1 -> 17 | B100: Baucau | C100: Baguia | D100: Alaua Leten | E100: 7 | F100: 005 | G100: Obras Publikas | H100: Estrada Rurais (Estrada Betaun) | I100: Reabilitasaun | K100: 1 | M100: =J100+K100+L100 -> 1 | N100: 37797 | P100: 37797 | Q100: 0 | R100: 37797 | S100: 0 | T100: 0 | U100: ='SIKLUS-7'!R81 -> 0.96 | V100: ='SIKLUS-7'!S81 -> 0 | W100: ='SIKLUS-7'!T81 -> 0 | X100: ='SIKLUS-7'!U81 -> 0 | Y100: ='SIKLUS-7'!V81 -> 0 | Z100: ='SIKLUS-7'!W81 -> 0
A101: =A100+1 -> 18 | B101: Baucau | C101: Baguia | D101: Haeconi | E101: 7 | F101: 005 | G101: Obras Publikas | H101: Estrada Rurais (Estrada Rai) | I101: Konstrusaun | J101: 1 | M101: =J101+K101+L101 -> 1 | N101: 41574 | P101: 41574 | Q101: 0 | R101: 41574 | S101: 0 | T101: 0 | U101: ='SIKLUS-7'!R83 -> 1 | V101: ='SIKLUS-7'!S83 -> 1 | W101: ='SIKLUS-7'!T83 -> 1 | X101: ='SIKLUS-7'!U83 -> 0 | Y101: ='SIKLUS-7'!V83 -> 0 | Z101: ='SIKLUS-7'!W83 -> 0
A102: =A101+1 -> 19 | B102: Baucau | C102: Baguia | D102: Larisula | E102: 7 | F102: 005 | G102: Obras Publikas | H102: Estrada Rurais (Estrada Rai) | I102: Reabilitasaun | J102: 1 | M102: =J102+K102+L102 -> 1 | N102: 37797 | P102: 37797 | Q102: 0 | R102: 37797 | S102: 0 | T102: 0 | U102: ='SIKLUS-7'!R84 -> 1 | V102: ='SIKLUS-7'!S84 -> 1 | W102: ='SIKLUS-7'!T84 -> 1 | X102: ='SIKLUS-7'!U84 -> 0 | Y102: ='SIKLUS-7'!V84 -> 0 | Z102: ='SIKLUS-7'!W84 -> 0
A103: =A102+1 -> 20 | B103: Baucau | C103: Baguia | D103: Lavateri | E103: 7 | F103: 005 | G103: Obras Publikas | H103: Estrada Rurais (Estrada Rai) | I103: Konstrusaun | J103: 1 | M103: =J103+K103+L103 -> 1 | N103: 34270 | P103: 34270 | Q103: 0 | R103: 34270 | S103: 0 | T103: 0 | U103: ='SIKLUS-7'!R85 -> 1 | V103: ='SIKLUS-7'!S85 -> 1 | W103: ='SIKLUS-7'!T85 -> 1 | X103: ='SIKLUS-7'!U85 -> 0 | Y103: ='SIKLUS-7'!V85 -> 0 | Z103: ='SIKLUS-7'!W85 -> 0
A104: =A103+1 -> 21 | B104: Baucau | C104: Baguia | D104: Ossohuna | E104: 7 | F104: 005 | G104: Obras Publikas | H104: Estrada Rurais (Estrada Rai) | I104: Konstrusaun | K104: 1 | M104: =J104+K104+L104 -> 1 | N104: 37797 | P104: 37797 | Q104: 0 | R104: 37797 | S104: 0 | T104: 0 | U104: ='SIKLUS-7'!R86 -> 1 | V104: ='SIKLUS-7'!S86 -> 0 | W104: ='SIKLUS-7'!T86 -> 0 | X104: ='SIKLUS-7'!U86 -> 0 | Y104: ='SIKLUS-7'!V86 -> 0 | Z104: ='SIKLUS-7'!W86 -> 0
A105: =A104+1 -> 22 | B105: Baucau | C105: Baguia | D105: Uacala | E105: 7 | F105: 005 | G105: Obras Publikas | H105: Estrada Rurais (Estrada Rai) | I105: Konstrusaun | K105: 1 | M105: =J105+K105+L105 -> 1 | N105: 34270 | P105: 34270 | Q105: 0 | R105: 34270 | S105: 0 | T105: 0 | U105: ='SIKLUS-7'!R88 -> 0.98 | V105: ='SIKLUS-7'!S88 -> 0 | W105: ='SIKLUS-7'!T88 -> 0 | X105: ='SIKLUS-7'!U88 -> 0 | Y105: ='SIKLUS-7'!V88 -> 0 | Z105: ='SIKLUS-7'!W88 -> 0
A106: =A105+1 -> 23 | B106: Baucau | C106: Baucau Vila | D106: Bahu | E106: 7 | F106: 005 | G106: Obras Publikas | H106: Estrada Rurais (Estrada Rai) | I106: Reabilitasaun | J106: 1 | M106: =J106+K106+L106 -> 1 | N106: 38547 | P106: 38547 | Q106: 0 | R106: 38547 | S106: 0 | T106: 0 | U106: ='SIKLUS-7'!R89 -> 1 | V106: ='SIKLUS-7'!S89 -> 1 | W106: ='SIKLUS-7'!T89 -> 0 | X106: ='SIKLUS-7'!U89 -> 17 | Y106: ='SIKLUS-7'!V89 -> 8 | Z106: ='SIKLUS-7'!W89 -> 0
A107: =A106+1 -> 24 | B107: Baucau | C107: Baucau Vila | D107: Buibau | E107: 7 | F107: 005 | G107: Obras Publikas | H107: Estrada Rurais (Estrada Betaun) | I107: Konstrusaun | J107: 1 | M107: =J107+K107+L107 -> 1 | N107: 34770 | P107: 34770 | Q107: 5579.25 | R107: 29190.75 | S107: 0 | T107: 0.1604616 | U107: ='SIKLUS-7'!R91 -> 1 | V107: ='SIKLUS-7'!S91 -> 1 | W107: ='SIKLUS-7'!T91 -> 0 | X107: ='SIKLUS-7'!U91 -> 12 | Y107: ='SIKLUS-7'!V91 -> 2 | Z107: ='SIKLUS-7'!W91 -> 0
A108: =A107+1 -> 25 | B108: Baucau | C108: Baucau Vila | D108: Buruma | E108: 7 | F108: 005 | G108: Obras Publikas | H108: Estrada Rurais (Estrada Betaun) | I108: Konstrusaun | J108: 1 | M108: =J108+K108+L108 -> 1 | N108: 0 | P108: 38547 | Q108: 0 | R108: 38547 | S108: 0 | T108: 0 | U108: ='SIKLUS-7'!R92 -> 1 | V108: ='SIKLUS-7'!S92 -> 0 | W108: ='SIKLUS-7'!T92 -> 0 | X108: ='SIKLUS-7'!U92 -> 0 | Y108: ='SIKLUS-7'!V92 -> 0 | Z108: ='SIKLUS-7'!W92 -> 0
A109: =A108+1 -> 26 | B109: Baucau | C109: Baucau Vila | D109: Caibada | E109: 7 | F109: 005 | G109: Obras Publikas | H109: Drenazen - Hada Fatuk | I109: Reabilitasaun | K109: 1 | M109: =J109+K109+L109 -> 1 | N109: 0 | P109: 30993 | Q109: 455 | R109: 30538 | S109: 0 | T109: 0.014680734 | U109: ='SIKLUS-7'!R93 -> 1 | V109: ='SIKLUS-7'!S93 -> 0 | W109: ='SIKLUS-7'!T93 -> 0 | X109: ='SIKLUS-7'!U93 -> 0 | Y109: ='SIKLUS-7'!V93 -> 0 | Z109: ='SIKLUS-7'!W93 -> 0
A110: =A109+1 -> 27 | B110: Baucau | C110: Baucau Vila | D110: Gar-iuai | E110: 7 | F110: 005 | G110: Obras Publikas | H110: Estrada Rurais (Estrada Rai) | I110: Reabilitasaun | J110: 1 | M110: =J110+K110+L110 -> 1 | N110: 0 | P110: 38297 | Q110: 0 | R110: 38297 | S110: 0 | T110: 0 | U110: ='SIKLUS-7'!R94 -> 1 | V110: ='SIKLUS-7'!S94 -> 1 | W110: ='SIKLUS-7'!T94 -> 0 | X110: ='SIKLUS-7'!U94 -> 0 | Y110: ='SIKLUS-7'!V94 -> 0 | Z110: ='SIKLUS-7'!W94 -> 0
A111: =A110+1 -> 28 | B111: Baucau | C111: Baucau Vila | D111: Seical | E111: 7 | F111: 005 | G111: Obras Publikas | H111: Estrada Rurais (Estrada Rai) | I111: Konstrusaun | J111: 1 | M111: =J111+K111+L111 -> 1 | N111: 0 | P111: 30743 | Q111: 0 | R111: 30743 | S111: 0 | T111: 0 | U111: ='SIKLUS-7'!R96 -> 1 | V111: ='SIKLUS-7'!S96 -> 1 | W111: ='SIKLUS-7'!T96 -> 0 | X111: ='SIKLUS-7'!U96 -> 0 | Y111: ='SIKLUS-7'!V96 -> 0 | Z111: ='SIKLUS-7'!W96 -> 0
A112: =A111+1 -> 29 | B112: Baucau | C112: Baucau Vila | D112: Tirilolo | E112: 7 | F112: 005 | G112: Obras Publikas | H112: Estrada Rurais (Estrada Rai) | I112: Reabilitasaun | J112: 1 | M112: =J112+K112+L112 -> 1 | N112: 0 | P112: 38547 | Q112: 0 | R112: 38547 | S112: 0 | T112: 0 | U112: ='SIKLUS-7'!R97 -> 1 | V112: ='SIKLUS-7'!S97 -> 1 | W112: ='SIKLUS-7'!T97 -> 0 | X112: ='SIKLUS-7'!U97 -> 0 | Y112: ='SIKLUS-7'!V97 -> 0 | Z112: ='SIKLUS-7'!W97 -> 0
...

Sheet GRAFIK PROGRESU ATIVIDADE
A9: SUMARIU PROGRESU ATIVIDADE TINAN 2025
A10: MUNISÍPIU BAUCAU
A11: NU. | B11: TINAN | C11: FAZE/SIKLUS | D11: FINALIZA | E11: LAO HELA | F11: SEIDAUK IMPLEMENTA | G11: TOTAL PROJECTU | H11: % | I11: ALOKASAUN | J11: TOTAL | K11: GASTUS | L11: BALANSU | M11: % | N11: % | O11: STATUS | Q11: HEIN ENTREGA
M12: GASTUS | N12: FIZIKU | O12: SRD | P12: SRI
A15: 1 | B15: 2025 | C15: FAZE 1,2 & 3 SIKLUS 7 | D15: ='SIKLUS-7 KADA POSTU'!J86 -> 40 | E15: ='SIKLUS-7 KADA POSTU'!K86 -> 22 | F15: ='SIKLUS-7 KADA POSTU'!L86 -> 0 | G15: =SUM(D15:F15) -> 62 | H15: =G15/#REF! -> #REF! | I15: ='[6]ATIVIDADE KADA SIKLUS 2021-2024'!O524 -> 0 | J15: ='[6]ATIVIDADE KADA SIKLUS 2021-2024'!Q524 -> 0 | K15: ='[6]ATIVIDADE KADA SIKLUS 2021-2024'!R524 -> 0 | L15: =J15-K15 -> 0 | M15: =K15/J15*100% -> #DIV/0! | N15: ='SIKLUS-7'!R498 -> 0.96854839 | O15: ='SIKLUS-7 KADA POSTU'!V86 -> 25 | P15: ='SIKLUS-7 KADA POSTU'!W86 -> 19 | Q15: =O15-P15 -> 6 | S15: =P16+Q16 -> 25 | T15: =G16-S15 -> 37
A16: TOTAL | D16: =SUM(D15:D15) -> 40 | E16: =SUM(E15:E15) -> 22 | F16: =SUM(F15:F15) -> 0 | G16: =SUM(G15:G15) -> 62 | H16: =SUM(H15:H15) -> #REF! | I16: =SUM(I15:I15) -> 0 | J16: =SUM(J15:J15) -> 0 | K16: =SUM(K15:K15) -> 0 | L16: =SUM(L15:L15) -> 0 | M16: =K16/J16 -> #DIV/0! | N16: =AVERAGE(N15:N15) -> 0.96854839 | O16: =SUM(O15:O15) -> 25 | P16: =SUM(P15:P15) -> 19 | Q16: =SUM(Q15:Q15) -> 6 | R16: =D16-P16 -> 21 | S16: =S15+D31 -> 62 | T16: =T15-O16 -> 12 | W16: =O16+D31 -> 62
R17: =D16-O16 -> 15 | S17: =S16+F16 -> 62
R19: =O16-P16 -> 6
A21: NU. | B21: TINAN | C21: ATIVIDADE | D21: TOTAL | E21: PROGRESU | V21: =D16-O16 -> 15
A22: 1 | C22: FINALIZA | D22: =D16 -> 40 | E22: =D22/$D$25*100% -> 0.64516129
A23: =A22+1 -> 2 | C23: LAO HELA | D23: =E16 -> 22 | E23: =D23/$D$25*100% -> 0.35483871 | W23: 1484
A24: =A23+1 -> 3 | C24: SEIDAUK IMPLEMENTA | D24: =F16 -> 0 | E24: =D24/$D$25*100% -> 0 | W24: 300
A25: TOTAL | D25: =SUM(D22:D24) -> 62 | E25: =SUM(E22:E24) -> 1 | W25: 2
W26: =SUM(W23:W25) -> 1786
A28: NU. | B28: TINAN | C28: ATIVIDADE | D28: TOTAL | E28: PROGRESU
A29: 1 | C29: SRD | D29: =O16 -> 25 | E29: =D29/$D$33 -> 0.28735632
A30: =A29+1 -> 2 | C30: SRI | D30: =P16 -> 19 | E30: =D30/$D$33 -> 0.2183908
A31: =A30+1 -> 3 | C31: SEIDAUK SRD | D31: =G16-O16 -> 37 | E31: =D31/$D$33 -> 0.42528736
A32: =A31+1 -> 4 | C32: SEIDAUK SRI | D32: =Q16 -> 6 | E32: =D32/$D$33 -> 0.068965517
A33: TOTAL | D33: =SUM(D29:D32) -> 87 | E33: =SUM(E29:E32) -> 1
C35: S
Q48: 392
Q49: 316
Q50: =Q48-Q49 -> 76
A64: SUMARIU ATIVIDADE KADA POSTU 2025
A65: SUMARIU ATIVIDADE KADA POSTU 2025
A66: Nu. | C66: NARAN POSTU | D66: FINALIZA | E66: LAO HELA | F66: LA IMPLEMENTA | G66: TOTAL PROJETU | H66: % | I66: ALOKASAUN | J66: TOTAL | K66: GASTUS | L66: BALANSU | M66: % | N66: % | O66: STATUS
M67: GASTUS | N67: FIZIKU | O67: SRD | P67: SRI
A68: 001 | C68: BAGUIA | D68: ='SIKLUS-7 KADA POSTU'!J26 -> 4 | E68: ='SIKLUS-7 KADA POSTU'!K26 -> 6 | F68: ='SIKLUS-7 KADA POSTU'!L26 -> 0 | G68: =SUM(D68:F68) -> 10 | H68: =G68/$G$76 -> 0.16129032 | I68: ='[6]REKAP PROJEITU SUKU_2021-2024'!O88 -> 5010697.4 | J68: ='[6]REKAP PROJEITU SUKU_2021-2024'!Q88 -> 5044628.6 | K68: ='[6]REKAP PROJEITU SUKU_2021-2024'!R88 -> 3795100.5 | L68: =J68-K68 -> 1249528.1 | M68: =K68/J68*100% -> 0.75230523 | N68: ='SIKLUS-7 KADA POSTU'!U26 -> 0.974 | O68: ='SIKLUS-7 KADA POSTU'!V26 -> 3 | P68: ='SIKLUS-7 KADA POSTU'!W26 -> 3 | R68: ='[6]REKAP PROJEITU SUKU_2021-2024'!Z87 -> 0.95828125 | S68: ='[6]REKAP PROJEITU SUKU_2021-2024'!AA87 -> 0.99081846
A69: 002 | C69: BAUCAU VILA | D69: ='SIKLUS-7 KADA POSTU'!J39 -> 8 | E69: ='SIKLUS-7 KADA POSTU'!K39 -> 4 | F69: ='SIKLUS-7 KADA POSTU'!L39 -> 0 | G69: =SUM(D69:F69) -> 12 | H69: =G69/$G$76 -> 0.19354839 | I69: ='[6]REKAP PROJEITU SUKU_2021-2024'!O183 -> 4375723 | J69: ='[6]REKAP PROJEITU SUKU_2021-2024'!Q183 -> 4391829.8 | K69: ='[6]REKAP PROJEITU SUKU_2021-2024'!R183 -> 3832344.9 | L69: =J69-K69 -> 559484.84 | M69: =K69/J69*100% -> 0.8726078 | N69: ='SIKLUS-7 KADA POSTU'!U39 -> 0.93166667 | O69: ='SIKLUS-7 KADA POSTU'!V39 -> 7 | P69: ='SIKLUS-7 KADA POSTU'!W39 -> 1 | R69: ='[6]REKAP PROJEITU SUKU_2021-2024'!Z182 -> 0.98188131 | S69: ='[6]REKAP PROJEITU SUKU_2021-2024'!AA182 -> 0.97885748
A70: 003 | C70: LAGA | D70: ='SIKLUS-7 KADA POSTU'!J48 -> 7 | E70: ='SIKLUS-7 KADA POSTU'!K48 -> 1 | F70: ='SIKLUS-7 KADA POSTU'!L48 -> 0 | G70: =SUM(D70:F70) -> 8 | H70: =G70/$G$76 -> 0.12903226 | I70: ='[6]REKAP PROJEITU SUKU_2021-2024'!O244 -> 3200255.2 | J70: ='[6]REKAP PROJEITU SUKU_2021-2024'!Q244 -> 3220054.8 | K70: ='[6]REKAP PROJEITU SUKU_2021-2024'!R244 -> 2842317.5 | L70: =J70-K70 -> 377737.27 | M70: =K70/J70*100% -> 0.88269228 | N70: ='SIKLUS-7 KADA POSTU'!U48 -> 1 | O70: ='SIKLUS-7 KADA POSTU'!V48 -> 0 | P70: ='SIKLUS-7 KADA POSTU'!W48 -> 0 | R70: ='[6]REKAP PROJEITU SUKU_2021-2024'!Z243 -> 0.99987031 | S70: ='[6]REKAP PROJEITU SUKU_2021-2024'!AA243 -> 0.99321478
A71: 004 | C71: MATEBIAN | D71: ='SIKLUS-7 KADA POSTU'!J62 -> 2 | E71: ='SIKLUS-7 KADA POSTU'!K62 -> 3 | F71: ='SIKLUS-7 KADA POSTU'!L62 -> 0 | G71: =SUM(D71:F71) -> 5 | N71: ='SIKLUS-7 KADA POSTU'!U62 -> 0.984 | O71: ='SIKLUS-7 KADA POSTU'!V62 -> 0 | P71: ='SIKLUS-7 KADA POSTU'!W62 -> 0 | R71: ='[6]REKAP PROJEITU SUKU_2021-2024'!Z284 -> 0.97166667 | S71: ='[6]REKAP PROJEITU SUKU_2021-2024'!AA284 -> 0.96985136
A72: 005 | C72: QUELICAI ANTIGU | D72: ='SIKLUS-7 KADA POSTU'!J66 -> 1 | E72: ='SIKLUS-7 KADA POSTU'!K66 -> 2 | F72: ='SIKLUS-7 KADA POSTU'!L66 -> 0 | G72: =SUM(D72:F72) -> 3 | N72: ='SIKLUS-7 KADA POSTU'!U66 -> 1 | O72: ='SIKLUS-7 KADA POSTU'!V66 -> 0 | P72: ='SIKLUS-7 KADA POSTU'!W66 -> 0 | R72: ='[6]REKAP PROJEITU SUKU_2021-2024'!Z357 -> 0.95833333 | S72: ='[6]REKAP PROJEITU SUKU_2021-2024'!AA357 -> 0.98698945
A73: 006 | C73: QUELICAI | D73: ='SIKLUS-7 KADA POSTU'!J56 -> 1 | E73: ='SIKLUS-7 KADA POSTU'!K56 -> 6 | F73: ='SIKLUS-7 KADA POSTU'!L56 -> 0 | G73: =SUM(D73:F73) -> 7 | H73: =G73/$G$76 -> 0.11290323 | I73: ='[6]REKAP PROJEITU SUKU_2021-2024'!O367 -> 1507269.8 | J73: ='[6]REKAP PROJEITU SUKU_2021-2024'!Q367 -> 1512748.5 | K73: ='[6]REKAP PROJEITU SUKU_2021-2024'!R367 -> 1079012.3 | L73: =J73-K73 -> 433736.16 | M73: =K73/J73*100% -> 0.71327939 | N73: ='SIKLUS-7 KADA POSTU'!U56 -> 0.88714286 | O73: ='SIKLUS-7 KADA POSTU'!V56 -> 0 | P73: ='SIKLUS-7 KADA POSTU'!W56 -> 0 | R73: ='[6]REKAP PROJEITU SUKU_2021-2024'!Z366 -> 0.97776474 | S73: ='[6]REKAP PROJEITU SUKU_2021-2024'!AA366 -> 0.98738676
A74: 007 | C74: VEMASSE | D74: ='SIKLUS-7 KADA POSTU'!J75 -> 8 | E74: ='SIKLUS-7 KADA POSTU'!K75 -> 0 | F74: ='SIKLUS-7 KADA POSTU'!L75 -> 0 | G74: =SUM(D74:F74) -> 8 | H74: =G74/$G$76 -> 0.12903226 | I74: ='[6]REKAP PROJEITU SUKU_2021-2024'!O426 -> 2710769.2 | J74: ='[6]REKAP PROJEITU SUKU_2021-2024'!Q426 -> 2762569.8 | K74: ='[6]REKAP PROJEITU SUKU_2021-2024'!R426 -> 2430328.8 | L74: =J74-K74 -> 332241.03 | M74: =K74/J74*100% -> 0.87973479 | N74: ='SIKLUS-7 KADA POSTU'!U75 -> 1 | O74: ='SIKLUS-7 KADA POSTU'!V75 -> 6 | P74: ='SIKLUS-7 KADA POSTU'!W75 -> 6 | R74: ='[6]REKAP PROJEITU SUKU_2021-2024'!Z425 -> 1 | S74: ='[6]REKAP PROJEITU SUKU_2021-2024'!AA425 -> 0.98435923
A75: 008 | C75: VENILALE | D75: ='SIKLUS-7 KADA POSTU'!J85 -> 9 | E75: ='SIKLUS-7 KADA POSTU'!K85 -> 0 | F75: ='SIKLUS-7 KADA POSTU'!L85 -> 0 | G75: =SUM(D75:F75) -> 9 | H75: =G75/$G$76 -> 0.14516129 | I75: ='[6]REKAP PROJEITU SUKU_2021-2024'!O485 -> 3175298.2 | J75: ='[6]REKAP PROJEITU SUKU_2021-2024'!Q485 -> 3193430.8 | K75: ='[6]REKAP PROJEITU SUKU_2021-2024'!R485 -> 2875037.5 | L75: =J75-K75 -> 318393.26 | M75: =K75/J75*100% -> 0.90029743 | N75: ='SIKLUS-7 KADA POSTU'!U85 -> 1 | O75: ='SIKLUS-7 KADA POSTU'!V85 -> 9 | P75: ='SIKLUS-7 KADA POSTU'!W85 -> 9 | R75: ='[6]REKAP PROJEITU SUKU_2021-2024'!Z484 -> 1 | S75: ='[6]REKAP PROJEITU SUKU_2021-2024'!AA484 -> 0.98087388
A76: TOTAL | D76: =SUM(D68:D75) -> 40 | E76: =SUM(E68:E75) -> 22 | F76: =SUM(F68:F75) -> 0 | G76: =SUM(G68:G75) -> 62 | H76: =SUM(H68:H75) -> 0.87096774 | I76: =SUM(I68:I75) -> 19980013 | J76: =SUM(J68:J75) -> 20125262 | K76: =SUM(K68:K75) -> 16854142 | L76: =SUM(L68:L75) -> 3271120.7 | M76: =K76/J76 -> 0.83746196 | N76: =AVERAGE(N68:N75) -> 0.97210119 | O76: =SUM(O68:O75) -> 25 | P76: =SUM(P68:P75) -> 19
A112: SUMARIU ATIVIDADE KADA SETOR 2025
A113: MUNISIPIU BAUCAU
A114: KODE SETOR | C114: NARAN SETOR | D114: FINALIZA | E114: LAO HELA | F114: LA IMPLEMENTA | G114: TOTAL PROJECTU | H114: % | I114: ALOKASAUN | J114: TOTAL | K114: GASTUS | L114: BALANSU | M114: % | N114: % | O114: STATUS
M115: GASTUS | N115: FIZIKU | O115: SRD | P115: SRI
A116: 001 | C116: SAUDE | D116: ='SIKLUS-7- SETOR'!J81 -> 0 | E116: ='SIKLUS-7- SETOR'!K81 -> 1 | F116: ='SIKLUS-7- SETOR'!L81 -> 0 | G116: =SUM(D116:F116) -> 1 | H116: =G116/$G$122 -> 0.016129032 | I116: ='[6]ATIVIDADE KAD SETOR 2021-2024'!O13 -> 215898.65 | J116: ='[6]ATIVIDADE KAD SETOR 2021-2024'!Q13 -> 215898.65 | K116: ='[6]ATIVIDADE KAD SETOR 2021-2024'!R13 -> 132172.16 | L116: =J116-K116 -> 83726.49 | M116: =K116/J116*100% -> 0.6121954 | N116: ='SIKLUS-7- SETOR'!U81 -> 0.85 | O116: ='SIKLUS-7- SETOR'!V81 -> 0 | P116: ='SIKLUS-7- SETOR'!W81 -> 0
A117: 002 | C117: BEE NO SANEAMENTU | D117: ='SIKLUS-7- SETOR'!J90 -> 5 | E117: ='SIKLUS-7- SETOR'!K90 -> 3 | F117: ='SIKLUS-7- SETOR'!L90 -> 0 | G117: =SUM(D117:F117) -> 8 | H117: =G117/$G$122 -> 0.12903226 | I117: ='[6]ATIVIDADE KAD SETOR 2021-2024'!O98 -> 2159713.3 | J117: ='[6]ATIVIDADE KAD SETOR 2021-2024'!Q98 -> 2177009 | K117: ='[6]ATIVIDADE KAD SETOR 2021-2024'!R98 -> 1549311.3 | L117: =J117-K117 -> 627697.71 | M117: =K117/J117*100% -> 0.71166968 | N117: ='SIKLUS-7- SETOR'!U90 -> 0.9875 | O117: ='SIKLUS-7- SETOR'!V90 -> 2 | P117: ='SIKLUS-7- SETOR'!W90 -> 2
A118: 003 | C118: EDUKASAUN NO DESPORTU | D118: ='SIKLUS-7- SETOR'!J93 -> 0 | E118: ='SIKLUS-7- SETOR'!K93 -> 2 | F118: ='SIKLUS-7- SETOR'!L93 -> 0 | G118: =SUM(D118:F118) -> 2 | H118: =G118/$G$122 -> 0.032258065 | I118: ='[6]ATIVIDADE KAD SETOR 2021-2024'!O140 -> 1485769.4 | J118: ='[6]ATIVIDADE KAD SETOR 2021-2024'!Q140 -> 1518982.4 | K118: ='[6]ATIVIDADE KAD SETOR 2021-2024'!R140 -> 912942.51 | L118: =J118-K118 -> 606039.91 | M118: =K118/J118*100% -> 0.60102243 | N118: ='SIKLUS-7- SETOR'!U93 -> 0.74 | O118: ='SIKLUS-7- SETOR'!V93 -> 0 | P118: ='SIKLUS-7- SETOR'!W93 -> 0
A119: 004 | C119: AGRIKULTURA E PESKAS | D119: ='SIKLUS-7- SETOR'!J98 -> 1 | E119: ='SIKLUS-7- SETOR'!K98 -> 3 | F119: ='SIKLUS-7- SETOR'!L98 -> 0 | G119: =SUM(D119:F119) -> 4 | H119: =G119/$G$122 -> 0.064516129 | I119: ='[6]ATIVIDADE KAD SETOR 2021-2024'!O160 -> 771683.96 | J119: ='[6]ATIVIDADE KAD SETOR 2021-2024'!Q160 -> 791000.34 | K119: ='[6]ATIVIDADE KAD SETOR 2021-2024'!R160 -> 387090.35 | L119: =J119-K119 -> 403909.99 | M119: =K119/J119*100% -> 0.48936812 | N119: ='SIKLUS-7- SETOR'!U98 -> 0.97333333 | O119: ='SIKLUS-7- SETOR'!V98 -> 1 | P119: ='SIKLUS-7- SETOR'!W98 -> 1
A120: 005 | C120: OBRAS PUBLICA | D120: ='SIKLUS-7- SETOR'!J145 -> 30 | E120: ='SIKLUS-7- SETOR'!K145 -> 16 | F120: ='SIKLUS-7- SETOR'!L145 -> 0 | G120: =SUM(D120:F120) -> 46 | H120: =G120/$G$122 -> 0.74193548 | I120: ='[6]ATIVIDADE KAD SETOR 2021-2024'!O276 -> 4607872.5 | J120: ='[6]ATIVIDADE KAD SETOR 2021-2024'!Q276 -> 4672245.4 | K120: ='[6]ATIVIDADE KAD SETOR 2021-2024'!R276 -> 2894320.2 | L120: =J120-K120 -> 1777925.2 | M120: =K120/J120*100% -> 0.61947093 | N120: ='SIKLUS-7- SETOR'!U145 -> 0.98217391 | O120: ='SIKLUS-7- SETOR'!V145 -> 22 | P120: ='SIKLUS-7- SETOR'!W145 -> 16
A121: 006 | C121: SETOR SELUK | D121: ='SIKLUS-7- SETOR'!J147 -> 0 | E121: ='SIKLUS-7- SETOR'!K147 -> 1 | F121: ='SIKLUS-7- SETOR'!L147 -> 0 | G121: =SUM(D121:F121) -> 1 | N121: ='SIKLUS-7- SETOR'!U147 -> 0.97 | O121: ='SIKLUS-7- SETOR'!V146 -> 0 | P121: ='SIKLUS-7- SETOR'!W147 -> 0
A122: TOTAL | D122: =SUM(D116:D120) -> 36 | E122: =SUM(E116:E120) -> 25 | F122: =SUM(F116:F120) -> 0 | G122: =SUM(G116:G121) -> 62 | H122: =SUM(H116:H120) -> 0.98387097 | I122: =SUM(I116:I120)-24 -> 9240913.8 | J122: =SUM(J116:J120) -> 9375135.9 | K122: =SUM(K116:K120) -> 5875836.6 | L122: =SUM(L116:L120) -> 3499299.3 | M122: =K122/J122*100% -> 0.62674682 | N122: =AVERAGE(N116:N121) -> 0.91716787 | O122: =SUM(O116:O121) -> 25 | P122: =SUM(P116:P121) -> 19

Sheet Sheet1
E7: KUSTU ESTIMASAUN BA SALA NO DAPUR MERENDA ESKOLAR
E8: Nu. | F8: Diskrisaun | G8: Medida | H8: Kuantidade | I8: Unidade | J8: Kustu Estimasaun | K8: Kustu Total
J9: Kada Pakote
E10: 1 | F10: Sala Merenda Eskolar | G10: 6m x 11m | H10: 7 | I10: Pakote | J10: 30000 | K10: =H10*J10 -> 210000
E11: 2 | F11: Dapur Merenda Eskolar | G11: 4m x 6m
M15: Nu. | N15: TINAN | O15: < 50 | P15: < 75 | Q15: < 100 | R15: 100 | S15: La Implementa | T15: Total Projetu
M16: 1 | N16: 2021 | R16: 306 | T16: =SUM(O16:S16) -> 306
M17: 2 | N17: 2022 | Q17: 8 | R17: 1086 | S17: 1 | T17: =SUM(O17:S17) -> 1095
M18: 3 | N18: 2023 | P18: 1 | Q18: 4 | R18: 321 | T18: =SUM(O18:S18) -> 326
M19: 4 | N19: 2024 | O19: 1 | P19: 1 | Q19: 5 | R19: 54 | S19: 2 | T19: =SUM(O19:S19) -> 63
M20: 5 | N20: 2025 | O20: 4 | P20: 9 | Q20: 9 | R20: 40 | T20: =SUM(O20:S20) -> 62
M21: Total | O21: =SUM(O16:O20) -> 5 | P21: =SUM(P16:P20) -> 11 | Q21: =SUM(Q16:Q20) -> 26 | R21: =SUM(R16:R20) -> 1807 | S21: =SUM(S16:S20) -> 3 | T21: =SUM(T16:T20) -> 1852
O22: =O21+P21+Q21 -> 42

Sheet Sheet2
